Workbook

Sheet ปก
A2: แบบประเมินคุณลักษณะอันพึงประสงค์
A3: ตามหลักสูตรแกนกลางการศึกษาขั้นพื้นฐาน พุทธศักราช 2551
A4: โรงเรียนวัดเกาะแรต (อุภัยเพชรพิทยาคาร)
A5: สำนักงานเขตพืนที่การศึกษาประถมศึกษานครปฐม เขต 2
A6: ชั้นประถมศึกษาปีที่ ปีการศึกษา 2563
B7: จำนวนนักเรียน | C7: ดีเยี่ยม | D7: ดี | E7: ผ่านเกณฑ์ | F7: ไม่ผ่านเกณฑ์
B9: ร้อยละ
C12: ลงชื่อ............................................................................................ | F12: ครูประจำชั้น
C13: ()
C16: ลงชื่อ............................................................................................ | F16: หัวหน้าฝ่ายวิชาการ
C17: (นางศศิกานต์ มะคำแป้น)
C20: ลงชื่อ............................................................................................
C21: (นางศศิกานต์ มะคำแป้น)
C22: รักษาการในตำแหน่งผู้อำนวยการโรงเรียนวัดเกาะแรต

Sheet 1.1
A1: แบบประเมินคุณลักษณะอันพึงประสงค์
A2: ที่ | B2: ชื่อ - สกุล | C2: 1. รักชาติ ศาสน์ กษัตริย์ | N2: รวม | O2: ผลการประเมิน
C3: 1.1 ชอบเข้าร่วมกิจกรรมแสดงความรักชาติ เช่น เชิญธง ยืนตรงเคารพธงชาติ ร้องเพลงชาติ รักษาชื่อเสียงและหวงแหนสมบัติองชาติ
C4: ภาษาไทย | D4: คณิตศาสตร์ | E4: วิทยาศาสตร์ | F4: สังคมศึกษา | G4: ประวัติศาสตร์ | H4: สุข / พละ | I4: ศิลปะ | J4: การงานอาชีพ | K4: ภาษาอังกฤษ | L4: หน้าที่พลเมือง | M4: การป้องกันการทุจริต | O4: ดีเยี่ยม | P4: ดี | Q4: ผ่านเกณฑ์
A5: ระดับคุณภาพ | C5: =ไทย!C7 -> 3 | D5: =คณิต!C7 -> 3 | E5: =วิทย์!C7 -> 3 | F5: =สังคม!C7 -> 3 | G5: =ประวัติ!C7 -> 3 | H5: =สุขพละ!C7 -> 3 | I5: =ศิลปะ!C7 -> 3 | J5: =การงาน!C7 -> 3 | K5: =ENG!C7 -> 3 | L5: =หน้าที่!C7 -> 3 | M5: =ต้าน!C7 -> 3 | N5: =AVERAGE(C5:M5) -> 3
A6: 1 | B6: บาส | C6: =ไทย!C8 -> 0 | D6: =คณิต!C8 -> 0 | E6: =วิทย์!C8 -> 0 | F6: =สังคม!C8 -> 0 | G6: =ประวัติ!C8 -> 0 | H6: =สุขพละ!C8 -> 0 | I6: =ศิลปะ!C8 -> 0 | J6: =การงาน!C8 -> 0 | K6: =ENG!C8 -> 0 | L6: =หน้าที่!C8 -> 0 | M6: =ต้าน!C8 -> 0 | N6: =AVERAGE(C6:L6) -> 0
A7: 2 | C7: =ไทย!C9 -> 0 | D7: =คณิต!C9 -> 0 | E7: =วิทย์!C9 -> 0 | F7: =สังคม!C9 -> 0 | G7: =ประวัติ!C9 -> 0 | H7: =สุขพละ!C9 -> 0 | I7: =ศิลปะ!C9 -> 0 | J7: =การงาน!C9 -> 0 | K7: =ENG!C9 -> 0 | L7: =หน้าที่!C9 -> 0 | M7: =ต้าน!C9 -> 0 | N7: =AVERAGE(C7:L7) -> 0
A8: 3 | C8: =ไทย!C10 -> 0 | D8: =คณิต!C10 -> 0 | E8: =วิทย์!C10 -> 0 | F8: =สังคม!C10 -> 0 | G8: =ประวัติ!C10 -> 0 | H8: =สุขพละ!C10 -> 0 | I8: =ศิลปะ!C10 -> 0 | J8: =การงาน!C10 -> 0 | K8: =ENG!C10 -> 0 | L8: =หน้าที่!C10 -> 0 | M8: =ต้าน!C10 -> 0 | N8: =AVERAGE(C8:L8) -> 0
A9: 4 | C9: =ไทย!C11 -> 0 | D9: =คณิต!C11 -> 0 | E9: =วิทย์!C11 -> 0 | F9: =สังคม!C11 -> 0 | G9: =ประวัติ!C11 -> 0 | H9: =สุขพละ!C11 -> 0 | I9: =ศิลปะ!C11 -> 0 | J9: =การงาน!C11 -> 0 | K9: =ENG!C11 -> 0 | L9: =หน้าที่!C11 -> 0 | M9: =ต้าน!C11 -> 0 | N9: =AVERAGE(C9:L9) -> 0
A10: 5 | C10: =ไทย!C12 -> 0 | D10: =คณิต!C12 -> 0 | E10: =วิทย์!C12 -> 0 | F10: =สังคม!C12 -> 0 | G10: =ประวัติ!C12 -> 0 | H10: =สุขพละ!C12 -> 0 | I10: =ศิลปะ!C12 -> 0 | J10: =การงาน!C12 -> 0 | K10: =ENG!C12 -> 0 | L10: =หน้าที่!C12 -> 0 | M10: =ต้าน!C12 -> 0 | N10: =AVERAGE(C10:L10) -> 0
A11: 6 | C11: =ไทย!C13 -> 0 | D11: =คณิต!C13 -> 0 | E11: =วิทย์!C13 -> 0 | F11: =สังคม!C13 -> 0 | G11: =ประวัติ!C13 -> 0 | H11: =สุขพละ!C13 -> 0 | I11: =ศิลปะ!C13 -> 0 | J11: =การงาน!C13 -> 0 | K11: =ENG!C13 -> 0 | L11: =หน้าที่!C13 -> 0 | M11: =ต้าน!C13 -> 0 | N11: =AVERAGE(C11:L11) -> 0
A12: 7 | C12: =ไทย!C14 -> 0 | D12: =คณิต!C14 -> 0 | E12: =วิทย์!C14 -> 0 | F12: =สังคม!C14 -> 0 | G12: =ประวัติ!C14 -> 0 | H12: =สุขพละ!C14 -> 0 | I12: =ศิลปะ!C14 -> 0 | J12: =การงาน!C14 -> 0 | K12: =ENG!C14 -> 0 | L12: =หน้าที่!C14 -> 0 | M12: =ต้าน!C14 -> 0 | N12: =AVERAGE(C12:L12) -> 0
A13: 8 | C13: =ไทย!C15 -> 0 | D13: =คณิต!C15 -> 0 | E13: =วิทย์!C15 -> 0 | F13: =สังคม!C15 -> 0 | G13: =ประวัติ!C15 -> 0 | H13: =สุขพละ!C15 -> 0 | I13: =ศิลปะ!C15 -> 0 | J13: =การงาน!C15 -> 0 | K13: =ENG!C15 -> 0 | L13: =หน้าที่!C15 -> 0 | M13: =ต้าน!C15 -> 0 | N13: =AVERAGE(C13:L13) -> 0
A14: 9 | C14: =ไทย!C16 -> 0 | D14: =คณิต!C16 -> 0 | E14: =วิทย์!C16 -> 0 | F14: =สังคม!C16 -> 0 | G14: =ประวัติ!C16 -> 0 | H14: =สุขพละ!C16 -> 0 | I14: =ศิลปะ!C16 -> 0 | J14: =การงาน!C16 -> 0 | K14: =ENG!C16 -> 0 | L14: =หน้าที่!C16 -> 0 | M14: =ต้าน!C16 -> 0 | N14: =AVERAGE(C14:L14) -> 0
A15: 10 | C15: =ไทย!C17 -> 0 | D15: =คณิต!C17 -> 0 | E15: =วิทย์!C17 -> 0 | F15: =สังคม!C17 -> 0 | G15: =ประวัติ!C17 -> 0 | H15: =สุขพละ!C17 -> 0 | I15: =ศิลปะ!C17 -> 0 | J15: =การงาน!C17 -> 0 | K15: =ENG!C17 -> 0 | L15: =หน้าที่!C17 -> 0 | M15: =ต้าน!C17 -> 0 | N15: =AVERAGE(C15:L15) -> 0
A16: 11 | C16: =ไทย!C18 -> 0 | D16: =คณิต!C18 -> 0 | E16: =วิทย์!C18 -> 0 | F16: =สังคม!C18 -> 0 | G16: =ประวัติ!C18 -> 0 | H16: =สุขพละ!C18 -> 0 | I16: =ศิลปะ!C18 -> 0 | J16: =การงาน!C18 -> 0 | K16: =ENG!C18 -> 0 | L16: =หน้าที่!C18 -> 0 | M16: =ต้าน!C18 -> 0 | N16: =AVERAGE(C16:L16) -> 0
A17: 12 | C17: =ไทย!C19 -> 0 | D17: =คณิต!C19 -> 0 | E17: =วิทย์!C19 -> 0 | F17: =สังคม!C19 -> 0 | G17: =ประวัติ!C19 -> 0 | H17: =สุขพละ!C19 -> 0 | I17: =ศิลปะ!C19 -> 0 | J17: =การงาน!C19 -> 0 | K17: =ENG!C19 -> 0 | L17: =หน้าที่!C19 -> 0 | M17: =ต้าน!C19 -> 0 | N17: =AVERAGE(C17:L17) -> 0
A18: 13 | C18: =ไทย!C20 -> 0 | D18: =คณิต!C20 -> 0 | E18: =วิทย์!C20 -> 0 | F18: =สังคม!C20 -> 0 | G18: =ประวัติ!C20 -> 0 | H18: =สุขพละ!C20 -> 0 | I18: =ศิลปะ!C20 -> 0 | J18: =การงาน!C20 -> 0 | K18: =ENG!C20 -> 0 | L18: =หน้าที่!C20 -> 0 | M18: =ต้าน!C20 -> 0 | N18: =AVERAGE(C18:L18) -> 0
... A28: 23 | C28: =ไทย!C30 -> 0 | D28: =คณิต!C30 -> 0 | E28: =วิทย์!C30 -> 0 | F28: =สังคม!C30 -> 0 | G28: =ประวัติ!C30 -> 0 | H28: =สุขพละ!C30 -> 0 | I28: =ศิลปะ!C30 -> 0 | J28: =การงาน!C30 -> 0 | K28: =ENG!C30 -> 0 | L28: =หน้าที่!C30 -> 0 | M28: =ต้าน!C30 -> 0 | N28: =AVERAGE(C28:L28) -> 0

Sheet 1.2
A1: แบบประเมินคุณลักษณะอันพึงประสงค์
A2: ที่ | B2: ชื่อ - สกุล | C2: 1. รักชาติ ศาสน์ กษัตริย์ | N2: รวม | O2: ผลการประเมิน
C3: 1.2 ชอบเข้าร่วมกิจกรรมทางศาสนา และปฏิบัติตามหลักธรรมของศาสนา เช่น รักษาศีล ปฏิบัติธรรม
C4: ภาษาไทย | D4: คณิตศาสตร์ | E4: วิทยาศาสตร์ | F4: สังคมศึกษา | G4: ประวัติศาสตร์ | H4: สุข / พละ | I4: ศิลปะ | J4: การงานอาชีพ | K4: ภาษาอังกฤษ | L4: หน้าที่พลเมือง | M4: การป้องกันการทุจริต | O4: ดีเยี่ยม | P4: ดี | Q4: ผ่านเกณฑ์
A5: ระดับคุณภาพ | C5: =ไทย!D7 -> 3 | D5: =คณิต!D7 -> 3 | E5: =วิทย์!D7 -> 3 | F5: =สังคม!D7 -> 3 | G5: =ประวัติ!D7 -> 3 | H5: =สุขพละ!D7 -> 3 | I5: =ศิลปะ!D7 -> 3 | J5: =การงาน!D7 -> 3 | K5: =ENG!D7 -> 3 | L5: =หน้าที่!D7 -> 3 | M5: =ต้าน!D7 -> 3 | N5: =AVERAGE(C5:M5) -> 3
A6: 1 | B6: ='1.1'!B6 -> บาส | C6: =ไทย!D8 -> 0 | D6: =คณิต!D8 -> 0 | E6: =วิทย์!D8 -> 0 | F6: =สังคม!D8 -> 0 | G6: =ประวัติ!D8 -> 0 | H6: =สุขพละ!D8 -> 0 | I6: =ศิลปะ!D8 -> 0 | J6: =การงาน!D8 -> 0 | K6: =ENG!D8 -> 0 | L6: =หน้าที่!D8 -> 0 | M6: =ต้าน!D8 -> 0 | N6: =AVERAGE(C6:L6) -> 0
A7: 2 | B7: ='1.1'!B7 -> 0 | C7: =ไทย!D9 -> 0 | D7: =คณิต!D9 -> 0 | E7: =วิทย์!D9 -> 0 | F7: =สังคม!D9 -> 0 | G7: =ประวัติ!D9 -> 0 | H7: =สุขพละ!D9 -> 0 | I7: =ศิลปะ!D9 -> 0 | J7: =การงาน!D9 -> 0 | K7: =ENG!D9 -> 0 | L7: =หน้าที่!D9 -> 0 | M7: =ต้าน!D9 -> 0 | N7: =AVERAGE(C7:L7) -> 0
A8: 3 | B8: ='1.1'!B8 -> 0 | C8: =ไทย!D10 -> 0 | D8: =คณิต!D10 -> 0 | E8: =วิทย์!D10 -> 0 | F8: =สังคม!D10 -> 0 | G8: =ประวัติ!D10 -> 0 | H8: =สุขพละ!D10 -> 0 | I8: =ศิลปะ!D10 -> 0 | J8: =การงาน!D10 -> 0 | K8: =ENG!D10 -> 0 | L8: =หน้าที่!D10 -> 0 | M8: =ต้าน!D10 -> 0 | N8: =AVERAGE(C8:L8) -> 0
A9: 4 | B9: ='1.1'!B9 -> 0 | C9: =ไทย!D11 -> 0 | D9: =คณิต!D11 -> 0 | E9: =วิทย์!D11 -> 0 | F9: =สังคม!D11 -> 0 | G9: =ประวัติ!D11 -> 0 | H9: =สุขพละ!D11 -> 0 | I9: =ศิลปะ!D11 -> 0 | J9: =การงาน!D11 -> 0 | K9: =ENG!D11 -> 0 | L9: =หน้าที่!D11 -> 0 | M9: =ต้าน!D11 -> 0 | N9: =AVERAGE(C9:L9) -> 0
A10: 5 | B10: ='1.1'!B10 -> 0 | C10: =ไทย!D12 -> 0 | D10: =คณิต!D12 -> 0 | E10: =วิทย์!D12 -> 0 | F10: =สังคม!D12 -> 0 | G10: =ประวัติ!D12 -> 0 | H10: =สุขพละ!D12 -> 0 | I10: =ศิลปะ!D12 -> 0 | J10: =การงาน!D12 -> 0 | K10: =ENG!D12 -> 0 | L10: =หน้าที่!D12 -> 0 | M10: =ต้าน!D12 -> 0 | N10: =AVERAGE(C10:L10) -> 0
A11: 6 | B11: ='1.1'!B11 -> 0 | C11: =ไทย!D13 -> 0 | D11: =คณิต!D13 -> 0 | E11: =วิทย์!D13 -> 0 | F11: =สังคม!D13 -> 0 | G11: =ประวัติ!D13 -> 0 | H11: =สุขพละ!D13 -> 0 | I11: =ศิลปะ!D13 -> 0 | J11: =การงาน!D13 -> 0 | K11: =ENG!D13 -> 0 | L11: =หน้าที่!D13 -> 0 | M11: =ต้าน!D13 -> 0 | N11: =AVERAGE(C11:L11) -> 0
A12: 7 | B12: ='1.1'!B12 -> 0 | C12: =ไทย!D14 -> 0 | D12: =คณิต!D14 -> 0 | E12: =วิทย์!D14 -> 0 | F12: =สังคม!D14 -> 0 | G12: =ประวัติ!D14 -> 0 | H12: =สุขพละ!D14 -> 0 | I12: =ศิลปะ!D14 -> 0 | J12: =การงาน!D14 -> 0 | K12: =ENG!D14 -> 0 | L12: =หน้าที่!D14 -> 0 | M12: =ต้าน!D14 -> 0 | N12: =AVERAGE(C12:L12) -> 0
A13: 8 | B13: ='1.1'!B13 -> 0 | C13: =ไทย!D15 -> 0 | D13: =คณิต!D15 -> 0 | E13: =วิทย์!D15 -> 0 | F13: =สังคม!D15 -> 0 | G13: =ประวัติ!D15 -> 0 | H13: =สุขพละ!D15 -> 0 | I13: =ศิลปะ!D15 -> 0 | J13: =การงาน!D15 -> 0 | K13: =ENG!D15 -> 0 | L13: =หน้าที่!D15 -> 0 | M13: =ต้าน!D15 -> 0 | N13: =AVERAGE(C13:L13) -> 0
A14: 9 | B14: ='1.1'!B14 -> 0 | C14: =ไทย!D16 -> 0 | D14: =คณิต!D16 -> 0 | E14: =วิทย์!D16 -> 0 | F14: =สังคม!D16 -> 0 | G14: =ประวัติ!D16 -> 0 | H14: =สุขพละ!D16 -> 0 | I14: =ศิลปะ!D16 -> 0 | J14: =การงาน!D16 -> 0 | K14: =ENG!D16 -> 0 | L14: =หน้าที่!D16 -> 0 | M14: =ต้าน!D16 -> 0 | N14: =AVERAGE(C14:L14) -> 0
A15: 10 | B15: ='1.1'!B15 -> 0 | C15: =ไทย!D17 -> 0 | D15: =คณิต!D17 -> 0 | E15: =วิทย์!D17 -> 0 | F15: =สังคม!D17 -> 0 | G15: =ประวัติ!D17 -> 0 | H15: =สุขพละ!D17 -> 0 | I15: =ศิลปะ!D17 -> 0 | J15: =การงาน!D17 -> 0 | K15: =ENG!D17 -> 0 | L15: =หน้าที่!D17 -> 0 | M15: =ต้าน!D17 -> 0 | N15: =AVERAGE(C15:L15) -> 0
A16: 11 | B16: ='1.1'!B16 -> 0 | C16: =ไทย!D18 -> 0 | D16: =คณิต!D18 -> 0 | E16: =วิทย์!D18 -> 0 | F16: =สังคม!D18 -> 0 | G16: =ประวัติ!D18 -> 0 | H16: =สุขพละ!D18 -> 0 | I16: =ศิลปะ!D18 -> 0 | J16: =การงาน!D18 -> 0 | K16: =ENG!D18 -> 0 | L16: =หน้าที่!D18 -> 0 | M16: =ต้าน!D18 -> 0 | N16: =AVERAGE(C16:L16) -> 0
A17: 12 | B17: ='1.1'!B17 -> 0 | C17: =ไทย!D19 -> 0 | D17: =คณิต!D19 -> 0 | E17: =วิทย์!D19 -> 0 | F17: =สังคม!D19 -> 0 | G17: =ประวัติ!D19 -> 0 | H17: =สุขพละ!D19 -> 0 | I17: =ศิลปะ!D19 -> 0 | J17: =การงาน!D19 -> 0 | K17: =ENG!D19 -> 0 | L17: =หน้าที่!D19 -> 0 | M17: =ต้าน!D19 -> 0 | N17: =AVERAGE(C17:L17) -> 0
... A28: 23 | B28: ='1.1'!B28 -> 0 | C28: =ไทย!D30 -> 0 | D28: =คณิต!D30 -> 0 | E28: =วิทย์!D30 -> 0 | F28: =สังคม!D30 -> 0 | G28: =ประวัติ!D30 -> 0 | H28: =สุขพละ!D30 -> 0 | I28: =ศิลปะ!D30 -> 0 | J28: =การงาน!D30 -> 0 | K28: =ENG!D30 -> 0 | L28: =หน้าที่!D30 -> 0 | M28: =ต้าน!D30 -> 0 | N28: =AVERAGE(C28:L28) -> 0

Sheet 1.3
A1: แบบประเมินคุณลักษณะอันพึงประสงค์
A2: ที่ | B2: ชื่อ - สกุล | C2: 1. รักชาติ ศาสน์ กษัตริย์ | N2: รวม | O2: ผลการประเมิน
C3: 1.3 ชอบเข้าร่วมกิจกรรมเพื่อแสดงความจงรักภักดีต่อพระมหากษัตริย์
C4: ภาษาไทย | D4: คณิตศาสตร์ | E4: วิทยาศาสตร์ | F4: สังคมศึกษา | G4: ประวัติศาสตร์ | H4: สุข / พละ | I4: ศิลปะ | J4: การงานอาชีพ | K4: ภาษาอังกฤษ | L4: หน้าที่พลเมือง | M4: การป้องกันการทุจริต | O4: ดีเยี่ยม | P4: ดี | Q4: ผ่านเกณฑ์
A5: ระดับคุณภาพ | C5: =ไทย!E7 -> 3 | D5: =คณิต!E7 -> 3 | E5: =วิทย์!E7 -> 3 | F5: =สังคม!E7 -> 3 | G5: =ประวัติ!E7 -> 3 | H5: =สุขพละ!E7 -> 3 | I5: =ศิลปะ!E7 -> 3 | J5: =การงาน!E7 -> 3 | K5: =ENG!E7 -> 3 | L5: =หน้าที่!E7 -> 3 | M5: =ต้าน!E7 -> 3 | N5: =AVERAGE(C5:M5) -> 3
A6: 1 | B6: ='1.1'!B6 -> บาส | C6: =ไทย!E8 -> 0 | D6: =คณิต!E8 -> 0 | E6: =วิทย์!E8 -> 0 | F6: =สังคม!E8 -> 0 | G6: =ประวัติ!E8 -> 0 | H6: =สุขพละ!E8 -> 0 | I6: =ศิลปะ!E8 -> 0 | J6: =การงาน!E8 -> 0 | K6: =ENG!E8 -> 0 | L6: =หน้าที่!E8 -> 0 | M6: =ต้าน!E8 -> 0 | N6: =AVERAGE(C6:L6) -> 0
A7: 2 | B7: ='1.1'!B7 -> 0 | C7: =ไทย!E9 -> 0 | D7: =คณิต!E9 -> 0 | E7: =วิทย์!E9 -> 0 | F7: =สังคม!E9 -> 0 | G7: =ประวัติ!E9 -> 0 | H7: =สุขพละ!E9 -> 0 | I7: =ศิลปะ!E9 -> 0 | J7: =การงาน!E9 -> 0 | K7: =ENG!E9 -> 0 | L7: =หน้าที่!E9 -> 0 | M7: =ต้าน!E9 -> 0 | N7: =AVERAGE(C7:L7) -> 0
A8: 3 | B8: ='1.1'!B8 -> 0 | C8: =ไทย!E10 -> 0 | D8: =คณิต!E10 -> 0 | E8: =วิทย์!E10 -> 0 | F8: =สังคม!E10 -> 0 | G8: =ประวัติ!E10 -> 0 | H8: =สุขพละ!E10 -> 0 | I8: =ศิลปะ!E10 -> 0 | J8: =การงาน!E10 -> 0 | K8: =ENG!E10 -> 0 | L8: =หน้าที่!E10 -> 0 | M8: =ต้าน!E10 -> 0 | N8: =AVERAGE(C8:L8) -> 0
A9: 4 | B9: ='1.1'!B9 -> 0 | C9: =ไทย!E11 -> 0 | D9: =คณิต!E11 -> 0 | E9: =วิทย์!E11 -> 0 | F9: =สังคม!E11 -> 0 | G9: =ประวัติ!E11 -> 0 | H9: =สุขพละ!E11 -> 0 | I9: =ศิลปะ!E11 -> 0 | J9: =การงาน!E11 -> 0 | K9: =ENG!E11 -> 0 | L9: =หน้าที่!E11 -> 0 | M9: =ต้าน!E11 -> 0 | N9: =AVERAGE(C9:L9) -> 0
A10: 5 | B10: ='1.1'!B10 -> 0 | C10: =ไทย!E12 -> 0 | D10: =คณิต!E12 -> 0 | E10: =วิทย์!E12 -> 0 | F10: =สังคม!E12 -> 0 | G10: =ประวัติ!E12 -> 0 | H10: =สุขพละ!E12 -> 0 | I10: =ศิลปะ!E12 -> 0 | J10: =การงาน!E12 -> 0 | K10: =ENG!E12 -> 0 | L10: =หน้าที่!E12 -> 0 | M10: =ต้าน!E12 -> 0 | N10: =AVERAGE(C10:L10) -> 0
A11: 6 | B11: ='1.1'!B11 -> 0 | C11: =ไทย!E13 -> 0 | D11: =คณิต!E13 -> 0 | E11: =วิทย์!E13 -> 0 | F11: =สังคม!E13 -> 0 | G11: =ประวัติ!E13 -> 0 | H11: =สุขพละ!E13 -> 0 | I11: =ศิลปะ!E13 -> 0 | J11: =การงาน!E13 -> 0 | K11: =ENG!E13 -> 0 | L11: =หน้าที่!E13 -> 0 | M11: =ต้าน!E13 -> 0 | N11: =AVERAGE(C11:L11) -> 0
A12: 7 | B12: ='1.1'!B12 -> 0 | C12: =ไทย!E14 -> 0 | D12: =คณิต!E14 -> 0 | E12: =วิทย์!E14 -> 0 | F12: =สังคม!E14 -> 0 | G12: =ประวัติ!E14 -> 0 | H12: =สุขพละ!E14 -> 0 | I12: =ศิลปะ!E14 -> 0 | J12: =การงาน!E14 -> 0 | K12: =ENG!E14 -> 0 | L12: =หน้าที่!E14 -> 0 | M12: =ต้าน!E14 -> 0 | N12: =AVERAGE(C12:L12) -> 0
A13: 8 | B13: ='1.1'!B13 -> 0 | C13: =ไทย!E15 -> 0 | D13: =คณิต!E15 -> 0 | E13: =วิทย์!E15 -> 0 | F13: =สังคม!E15 -> 0 | G13: =ประวัติ!E15 -> 0 | H13: =สุขพละ!E15 -> 0 | I13: =ศิลปะ!E15 -> 0 | J13: =การงาน!E15 -> 0 | K13: =ENG!E15 -> 0 | L13: =หน้าที่!E15 -> 0 | M13: =ต้าน!E15 -> 0 | N13: =AVERAGE(C13:L13) -> 0
A14: 9 | B14: ='1.1'!B14 -> 0 | C14: =ไทย!E16 -> 0 | D14: =คณิต!E16 -> 0 | E14: =วิทย์!E16 -> 0 | F14: =สังคม!E16 -> 0 | G14: =ประวัติ!E16 -> 0 | H14: =สุขพละ!E16 -> 0 | I14: =ศิลปะ!E16 -> 0 | J14: =การงาน!E16 -> 0 | K14: =ENG!E16 -> 0 | L14: =หน้าที่!E16 -> 0 | M14: =ต้าน!E16 -> 0 | N14: =AVERAGE(C14:L14) -> 0
A15: 10 | B15: ='1.1'!B15 -> 0 | C15: =ไทย!E17 -> 0 | D15: =คณิต!E17 -> 0 | E15: =วิทย์!E17 -> 0 | F15: =สังคม!E17 -> 0 | G15: =ประวัติ!E17 -> 0 | H15: =สุขพละ!E17 -> 0 | I15: =ศิลปะ!E17 -> 0 | J15: =การงาน!E17 -> 0 | K15: =ENG!E17 -> 0 | L15: =หน้าที่!E17 -> 0 | M15: =ต้าน!E17 -> 0 | N15: =AVERAGE(C15:L15) -> 0
A16: 11 | B16: ='1.1'!B16 -> 0 | C16: =ไทย!E18 -> 0 | D16: =คณิต!E18 -> 0 | E16: =วิทย์!E18 -> 0 | F16: =สังคม!E18 -> 0 | G16: =ประวัติ!E18 -> 0 | H16: =สุขพละ!E18 -> 0 | I16: =ศิลปะ!E18 -> 0 | J16: =การงาน!E18 -> 0 | K16: =ENG!E18 -> 0 | L16: =หน้าที่!E18 -> 0 | M16: =ต้าน!E18 -> 0 | N16: =AVERAGE(C16:L16) -> 0
A17: 12 | B17: ='1.1'!B17 -> 0 | C17: =ไทย!E19 -> 0 | D17: =คณิต!E19 -> 0 | E17: =วิทย์!E19 -> 0 | F17: =สังคม!E19 -> 0 | G17: =ประวัติ!E19 -> 0 | H17: =สุขพละ!E19 -> 0 | I17: =ศิลปะ!E19 -> 0 | J17: =การงาน!E19 -> 0 | K17: =ENG!E19 -> 0 | L17: =หน้าที่!E19 -> 0 | M17: =ต้าน!E19 -> 0 | N17: =AVERAGE(C17:L17) -> 0
... A28: 23 | B28: ='1.1'!B28 -> 0 | C28: =ไทย!E30 -> 0 | D28: =คณิต!E30 -> 0 | E28: =วิทย์!E30 -> 0 | F28: =สังคม!E30 -> 0 | G28: =ประวัติ!E30 -> 0 | H28: =สุขพละ!E30 -> 0 | I28: =ศิลปะ!E30 -> 0 | J28: =การงาน!E30 -> 0 | K28: =ENG!E30 -> 0 | L28: =หน้าที่!E30 -> 0 | M28: =ต้าน!E30 -> 0 | N28: =AVERAGE(C28:L28) -> 0

Sheet สรุป 1
A1: แบบประเมินคุณลักษณะอันพึงประสงค์
A2: ที่ | B2: ชื่อ - สกุล | C2: 1. รักชาติ ศาสน์ กษัตริย์ | N2: รวม | O2: ผลการประเมิน
C4: ภาษาไทย | D4: คณิตศาสตร์ | E4: วิทยาศาสตร์ | F4: สังคมศึกษา | G4: ประวัติศาสตร์ | H4: สุข / พละ | I4: ศิลปะ | J4: การงานอาชีพ | K4: ภาษาอังกฤษ | L4: หน้าที่พลเมือง | M4: การป้องกันการทุจริต | O4: ดีเยี่ยม | P4: ดี | Q4: ผ่านเกณฑ์
A5: ระดับคุณภาพ | C5: =('1.1'!C5+'1.2'!C5+'1.3'!C5)/3 -> 3 | D5: =('1.1'!D5+'1.2'!D5+'1.3'!D5)/3 -> 3 | E5: =('1.1'!E5+'1.2'!E5+'1.3'!E5)/3 -> 3 | F5: =('1.1'!F5+'1.2'!F5+'1.3'!F5)/3 -> 3 | G5: =('1.1'!G5+'1.2'!G5+'1.3'!G5)/3 -> 3 | H5: =('1.1'!H5+'1.2'!H5+'1.3'!H5)/3 -> 3 | I5: =('1.1'!I5+'1.2'!I5+'1.3'!I5)/3 -> 3 | J5: =('1.1'!J5+'1.2'!J5+'1.3'!J5)/3 -> 3 | ... M5: =('1.1'!M5+'1.2'!M5+'1.3'!M5)/3 -> 3 | N5: =AVERAGE(C5:L5) -> 3
A6: 1 | B6: ='1.1'!B6 -> บาส | C6: =('1.1'!C6+'1.2'!C6+'1.3'!C6)/3 -> 0 | D6: =('1.1'!D6+'1.2'!D6+'1.3'!D6)/3 -> 0 | E6: =('1.1'!E6+'1.2'!E6+'1.3'!E6)/3 -> 0 | F6: =('1.1'!F6+'1.2'!F6+'1.3'!F6)/3 -> 0 | G6: =('1.1'!G6+'1.2'!G6+'1.3'!G6)/3 -> 0 | H6: =('1.1'!H6+'1.2'!H6+'1.3'!H6)/3 -> 0 | I6: =('1.1'!I6+'1.2'!I6+'1.3'!I6)/3 -> 0 | J6: =('1.1'!J6+'1.2'!J6+'1.3'!J6)/3 -> 0 | ... M6: =('1.1'!M6+'1.2'!M6+'1.3'!M6)/3 -> 0 | N6: =AVERAGE(C6:L6) -> 0
A7: 2 | B7: ='1.1'!B7 -> 0 | C7: =('1.1'!C7+'1.2'!C7+'1.3'!C7)/3 -> 0 | D7: =('1.1'!D7+'1.2'!D7+'1.3'!D7)/3 -> 0 | E7: =('1.1'!E7+'1.2'!E7+'1.3'!E7)/3 -> 0 | F7: =('1.1'!F7+'1.2'!F7+'1.3'!F7)/3 -> 0 | G7: =('1.1'!G7+'1.2'!G7+'1.3'!G7)/3 -> 0 | H7: =('1.1'!H7+'1.2'!H7+'1.3'!H7)/3 -> 0 | I7: =('1.1'!I7+'1.2'!I7+'1.3'!I7)/3 -> 0 | J7: =('1.1'!J7+'1.2'!J7+'1.3'!J7)/3 -> 0 | ... M7: =('1.1'!M7+'1.2'!M7+'1.3'!M7)/3 -> 0 | N7: =AVERAGE(C7:L7) -> 0
A8: 3 | B8: ='1.1'!B8 -> 0 | C8: =('1.1'!C8+'1.2'!C8+'1.3'!C8)/3 -> 0 | D8: =('1.1'!D8+'1.2'!D8+'1.3'!D8)/3 -> 0 | E8: =('1.1'!E8+'1.2'!E8+'1.3'!E8)/3 -> 0 | F8: =('1.1'!F8+'1.2'!F8+'1.3'!F8)/3 -> 0 | G8: =('1.1'!G8+'1.2'!G8+'1.3'!G8)/3 -> 0 | H8: =('1.1'!H8+'1.2'!H8+'1.3'!H8)/3 -> 0 | I8: =('1.1'!I8+'1.2'!I8+'1.3'!I8)/3 -> 0 | J8: =('1.1'!J8+'1.2'!J8+'1.3'!J8)/3 -> 0 | ... M8: =('1.1'!M8+'1.2'!M8+'1.3'!M8)/3 -> 0 | N8: =AVERAGE(C8:L8) -> 0
A9: 4 | B9: ='1.1'!B9 -> 0 | C9: =('1.1'!C9+'1.2'!C9+'1.3'!C9)/3 -> 0 | D9: =('1.1'!D9+'1.2'!D9+'1.3'!D9)/3 -> 0 | E9: =('1.1'!E9+'1.2'!E9+'1.3'!E9)/3 -> 0 | F9: =('1.1'!F9+'1.2'!F9+'1.3'!F9)/3 -> 0 | G9: =('1.1'!G9+'1.2'!G9+'1.3'!G9)/3 -> 0 | H9: =('1.1'!H9+'1.2'!H9+'1.3'!H9)/3 -> 0 | I9: =('1.1'!I9+'1.2'!I9+'1.3'!I9)/3 -> 0 | J9: =('1.1'!J9+'1.2'!J9+'1.3'!J9)/3 -> 0 | ... M9: =('1.1'!M9+'1.2'!M9+'1.3'!M9)/3 -> 0 | N9: =AVERAGE(C9:L9) -> 0
A10: 5 | B10: ='1.1'!B10 -> 0 | C10: =('1.1'!C10+'1.2'!C10+'1.3'!C10)/3 -> 0 | D10: =('1.1'!D10+'1.2'!D10+'1.3'!D10)/3 -> 0 | E10: =('1.1'!E10+'1.2'!E10+'1.3'!E10)/3 -> 0 | F10: =('1.1'!F10+'1.2'!F10+'1.3'!F10)/3 -> 0 | G10: =('1.1'!G10+'1.2'!G10+'1.3'!G10)/3 -> 0 | H10: =('1.1'!H10+'1.2'!H10+'1.3'!H10)/3 -> 0 | I10: =('1.1'!I10+'1.2'!I10+'1.3'!I10)/3 -> 0 | J10: =('1.1'!J10+'1.2'!J10+'1.3'!J10)/3 -> 0 | ... M10: =('1.1'!M10+'1.2'!M10+'1.3'!M10)/3 -> 0 | N10: =AVERAGE(C10:L10) -> 0
A11: 6 | B11: ='1.1'!B11 -> 0 | C11: =('1.1'!C11+'1.2'!C11+'1.3'!C11)/3 -> 0 | D11: =('1.1'!D11+'1.2'!D11+'1.3'!D11)/3 -> 0 | E11: =('1.1'!E11+'1.2'!E11+'1.3'!E11)/3 -> 0 | F11: =('1.1'!F11+'1.2'!F11+'1.3'!F11)/3 -> 0 | G11: =('1.1'!G11+'1.2'!G11+'1.3'!G11)/3 -> 0 | H11: =('1.1'!H11+'1.2'!H11+'1.3'!H11)/3 -> 0 | I11: =('1.1'!I11+'1.2'!I11+'1.3'!I11)/3 -> 0 | J11: =('1.1'!J11+'1.2'!J11+'1.3'!J11)/3 -> 0 | ... M11: =('1.1'!M11+'1.2'!M11+'1.3'!M11)/3 -> 0 | N11: =AVERAGE(C11:L11) -> 0
A12: 7 | B12: ='1.1'!B12 -> 0 | C12: =('1.1'!C12+'1.2'!C12+'1.3'!C12)/3 -> 0 | D12: =('1.1'!D12+'1.2'!D12+'1.3'!D12)/3 -> 0 | E12: =('1.1'!E12+'1.2'!E12+'1.3'!E12)/3 -> 0 | F12: =('1.1'!F12+'1.2'!F12+'1.3'!F12)/3 -> 0 | G12: =('1.1'!G12+'1.2'!G12+'1.3'!G12)/3 -> 0 | H12: =('1.1'!H12+'1.2'!H12+'1.3'!H12)/3 -> 0 | I12: =('1.1'!I12+'1.2'!I12+'1.3'!I12)/3 -> 0 | J12: =('1.1'!J12+'1.2'!J12+'1.3'!J12)/3 -> 0 | ... M12: =('1.1'!M12+'1.2'!M12+'1.3'!M12)/3 -> 0 | N12: =AVERAGE(C12:L12) -> 0
A13: 8 | B13: ='1.1'!B13 -> 0 | C13: =('1.1'!C13+'1.2'!C13+'1.3'!C13)/3 -> 0 | D13: =('1.1'!D13+'1.2'!D13+'1.3'!D13)/3 -> 0 | E13: =('1.1'!E13+'1.2'!E13+'1.3'!E13)/3 -> 0 | F13: =('1.1'!F13+'1.2'!F13+'1.3'!F13)/3 -> 0 | G13: =('1.1'!G13+'1.2'!G13+'1.3'!G13)/3 -> 0 | H13: =('1.1'!H13+'1.2'!H13+'1.3'!H13)/3 -> 0 | I13: =('1.1'!I13+'1.2'!I13+'1.3'!I13)/3 -> 0 | J13: =('1.1'!J13+'1.2'!J13+'1.3'!J13)/3 -> 0 | ... M13: =('1.1'!M13+'1.2'!M13+'1.3'!M13)/3 -> 0 | N13: =AVERAGE(C13:L13) -> 0
A14: 9 | B14: ='1.1'!B14 -> 0 | C14: =('1.1'!C14+'1.2'!C14+'1.3'!C14)/3 -> 0 | D14: =('1.1'!D14+'1.2'!D14+'1.3'!D14)/3 -> 0 | E14: =('1.1'!E14+'1.2'!E14+'1.3'!E14)/3 -> 0 | F14: =('1.1'!F14+'1.2'!F14+'1.3'!F14)/3 -> 0 | G14: =('1.1'!G14+'1.2'!G14+'1.3'!G14)/3 -> 0 | H14: =('1.1'!H14+'1.2'!H14+'1.3'!H14)/3 -> 0 | I14: =('1.1'!I14+'1.2'!I14+'1.3'!I14)/3 -> 0 | J14: =('1.1'!J14+'1.2'!J14+'1.3'!J14)/3 -> 0 | ... M14: =('1.1'!M14+'1.2'!M14+'1.3'!M14)/3 -> 0 | N14: =AVERAGE(C14:L14) -> 0
A15: 10 | B15: ='1.1'!B15 -> 0 | C15: =('1.1'!C15+'1.2'!C15+'1.3'!C15)/3 -> 0 | D15: =('1.1'!D15+'1.2'!D15+'1.3'!D15)/3 -> 0 | E15: =('1.1'!E15+'1.2'!E15+'1.3'!E15)/3 -> 0 | F15: =('1.1'!F15+'1.2'!F15+'1.3'!F15)/3 -> 0 | G15: =('1.1'!G15+'1.2'!G15+'1.3'!G15)/3 -> 0 | H15: =('1.1'!H15+'1.2'!H15+'1.3'!H15)/3 -> 0 | I15: =('1.1'!I15+'1.2'!I15+'1.3'!I15)/3 -> 0 | J15: =('1.1'!J15+'1.2'!J15+'1.3'!J15)/3 -> 0 | ... M15: =('1.1'!M15+'1.2'!M15+'1.3'!M15)/3 -> 0 | N15: =AVERAGE(C15:L15) -> 0
A16: 11 | B16: ='1.1'!B16 -> 0 | C16: =('1.1'!C16+'1.2'!C16+'1.3'!C16)/3 -> 0 | D16: =('1.1'!D16+'1.2'!D16+'1.3'!D16)/3 -> 0 | E16: =('1.1'!E16+'1.2'!E16+'1.3'!E16)/3 -> 0 | F16: =('1.1'!F16+'1.2'!F16+'1.3'!F16)/3 -> 0 | G16: =('1.1'!G16+'1.2'!G16+'1.3'!G16)/3 -> 0 | H16: =('1.1'!H16+'1.2'!H16+'1.3'!H16)/3 -> 0 | I16: =('1.1'!I16+'1.2'!I16+'1.3'!I16)/3 -> 0 | J16: =('1.1'!J16+'1.2'!J16+'1.3'!J16)/3 -> 0 | ... M16: =('1.1'!M16+'1.2'!M16+'1.3'!M16)/3 -> 0 | N16: =AVERAGE(C16:L16) -> 0
A17: 12 | B17: ='1.1'!B17 -> 0 | C17: =('1.1'!C17+'1.2'!C17+'1.3'!C17)/3 -> 0 | D17: =('1.1'!D17+'1.2'!D17+'1.3'!D17)/3 -> 0 | E17: =('1.1'!E17+'1.2'!E17+'1.3'!E17)/3 -> 0 | F17: =('1.1'!F17+'1.2'!F17+'1.3'!F17)/3 -> 0 | G17: =('1.1'!G17+'1.2'!G17+'1.3'!G17)/3 -> 0 | H17: =('1.1'!H17+'1.2'!H17+'1.3'!H17)/3 -> 0 | I17: =('1.1'!I17+'1.2'!I17+'1.3'!I17)/3 -> 0 | J17: =('1.1'!J17+'1.2'!J17+'1.3'!J17)/3 -> 0 | ... M17: =('1.1'!M17+'1.2'!M17+'1.3'!M17)/3 -> 0 | N17: =AVERAGE(C17:L17) -> 0
... A28: 23 | B28: ='1.1'!B28 -> 0 | C28: =('1.1'!C28+'1.2'!C28+'1.3'!C28)/3 -> 0 | D28: =('1.1'!D28+'1.2'!D28+'1.3'!D28)/3 -> 0 | E28: =('1.1'!E28+'1.2'!E28+'1.3'!E28)/3 -> 0 | F28: =('1.1'!F28+'1.2'!F28+'1.3'!F28)/3 -> 0 | G28: =('1.1'!G28+'1.2'!G28+'1.3'!G28)/3 -> 0 | H28: =('1.1'!H28+'1.2'!H28+'1.3'!H28)/3 -> 0 | I28: =('1.1'!I28+'1.2'!I28+'1.3'!I28)/3 -> 0 | J28: =('1.1'!J28+'1.2'!J28+'1.3'!J28)/3 -> 0 | ... M28: =('1.1'!M28+'1.2'!M28+'1.3'!M28)/3 -> 0 | N28: =AVERAGE(C28:L28) -> 0

Sheet 2.1
A1: แบบประเมินคุณลักษณะอันพึงประสงค์
A2: ที่ | B2: ชื่อ - สกุล | C2: 2. ซื่อสัตย์สุจริต | N2: รวม | O2: ผลการประเมิน
C3: 2.1 ให้ข้อมูลที่ถูกต้องและเป็นจริงไม่โกหก
C4: ภาษาไทย | D4: คณิตศาสตร์ | E4: วิทยาศาสตร์ | F4: สังคมศึกษา | G4: ประวัติศาสตร์ | H4: สุข / พละ | I4: ศิลปะ | J4: การงานอาชีพ | K4: ภาษาอังกฤษ | L4: หน้าที่พลเมือง | M4: การป้องกันการทุจริต | O4: ดีเยี่ยม | P4: ดี | Q4: ผ่านเกณฑ์
A5: ระดับคุณภาพ | C5: =ไทย!F7 -> 3 | D5: =คณิต!F7 -> 3 | E5: =วิทย์!F7 -> 3 | F5: =สังคม!F7 -> 3 | G5: =ประวัติ!F7 -> 3 | H5: =สุขพละ!F7 -> 3 | I5: =ศิลปะ!F7 -> 3 | J5: =การงาน!F7 -> 3 | K5: =ENG!F7 -> 3 | L5: =หน้าที่!F7 -> 3 | M5: =ต้าน!F7 -> 3 | N5: =AVERAGE(C5:L5) -> 3
A6: 1 | B6: ='1.1'!B6 -> บาส | C6: =ไทย!F8 -> 0 | D6: =คณิต!F8 -> 0 | E6: =วิทย์!F8 -> 0 | F6: =สังคม!F8 -> 0 | G6: =ประวัติ!F8 -> 0 | H6: =สุขพละ!F8 -> 0 | I6: =ศิลปะ!F8 -> 0 | J6: =การงาน!F8 -> 0 | K6: =ENG!F8 -> 0 | L6: =หน้าที่!F8 -> 0 | M6: =ต้าน!F8 -> 0 | N6: =AVERAGE(C6:L6) -> 0
A7: 2 | B7: ='1.1'!B7 -> 0 | C7: =ไทย!F9 -> 0 | D7: =คณิต!F9 -> 0 | E7: =วิทย์!F9 -> 0 | F7: =สังคม!F9 -> 0 | G7: =ประวัติ!F9 -> 0 | H7: =สุขพละ!F9 -> 0 | I7: =ศิลปะ!F9 -> 0 | J7: =การงาน!F9 -> 0 | K7: =ENG!F9 -> 0 | L7: =หน้าที่!F9 -> 0 | M7: =ต้าน!F9 -> 0 | N7: =AVERAGE(C7:L7) -> 0
A8: 3 | B8: ='1.1'!B8 -> 0 | C8: =ไทย!F10 -> 0 | D8: =คณิต!F10 -> 0 | E8: =วิทย์!F10 -> 0 | F8: =สังคม!F10 -> 0 | G8: =ประวัติ!F10 -> 0 | H8: =สุขพละ!F10 -> 0 | I8: =ศิลปะ!F10 -> 0 | J8: =การงาน!F10 -> 0 | K8: =ENG!F10 -> 0 | L8: =หน้าที่!F10 -> 0 | M8: =ต้าน!F10 -> 0 | N8: =AVERAGE(C8:L8) -> 0
A9: 4 | B9: ='1.1'!B9 -> 0 | C9: =ไทย!F11 -> 0 | D9: =คณิต!F11 -> 0 | E9: =วิทย์!F11 -> 0 | F9: =สังคม!F11 -> 0 | G9: =ประวัติ!F11 -> 0 | H9: =สุขพละ!F11 -> 0 | I9: =ศิลปะ!F11 -> 0 | J9: =การงาน!F11 -> 0 | K9: =ENG!F11 -> 0 | L9: =หน้าที่!F11 -> 0 | M9: =ต้าน!F11 -> 0 | N9: =AVERAGE(C9:L9) -> 0
A10: 5 | B10: ='1.1'!B10 -> 0 | C10: =ไทย!F12 -> 0 | D10: =คณิต!F12 -> 0 | E10: =วิทย์!F12 -> 0 | F10: =สังคม!F12 -> 0 | G10: =ประวัติ!F12 -> 0 | H10: =สุขพละ!F12 -> 0 | I10: =ศิลปะ!F12 -> 0 | J10: =การงาน!F12 -> 0 | K10: =ENG!F12 -> 0 | L10: =หน้าที่!F12 -> 0 | M10: =ต้าน!F12 -> 0 | N10: =AVERAGE(C10:L10) -> 0
A11: 6 | B11: ='1.1'!B11 -> 0 | C11: =ไทย!F13 -> 0 | D11: =คณิต!F13 -> 0 | E11: =วิทย์!F13 -> 0 | F11: =สังคม!F13 -> 0 | G11: =ประวัติ!F13 -> 0 | H11: =สุขพละ!F13 -> 0 | I11: =ศิลปะ!F13 -> 0 | J11: =การงาน!F13 -> 0 | K11: =ENG!F13 -> 0 | L11: =หน้าที่!F13 -> 0 | M11: =ต้าน!F13 -> 0 | N11: =AVERAGE(C11:L11) -> 0
A12: 7 | B12: ='1.1'!B12 -> 0 | C12: =ไทย!F14 -> 0 | D12: =คณิต!F14 -> 0 | E12: =วิทย์!F14 -> 0 | F12: =สังคม!F14 -> 0 | G12: =ประวัติ!F14 -> 0 | H12: =สุขพละ!F14 -> 0 | I12: =ศิลปะ!F14 -> 0 | J12: =การงาน!F14 -> 0 | K12: =ENG!F14 -> 0 | L12: =หน้าที่!F14 -> 0 | M12: =ต้าน!F14 -> 0 | N12: =AVERAGE(C12:L12) -> 0
A13: 8 | B13: ='1.1'!B13 -> 0 | C13: =ไทย!F15 -> 0 | D13: =คณิต!F15 -> 0 | E13: =วิทย์!F15 -> 0 | F13: =สังคม!F15 -> 0 | G13: =ประวัติ!F15 -> 0 | H13: =สุขพละ!F15 -> 0 | I13: =ศิลปะ!F15 -> 0 | J13: =การงาน!F15 -> 0 | K13: =ENG!F15 -> 0 | L13: =หน้าที่!F15 -> 0 | M13: =ต้าน!F15 -> 0 | N13: =AVERAGE(C13:L13) -> 0
A14: 9 | B14: ='1.1'!B14 -> 0 | C14: =ไทย!F16 -> 0 | D14: =คณิต!F16 -> 0 | E14: =วิทย์!F16 -> 0 | F14: =สังคม!F16 -> 0 | G14: =ประวัติ!F16 -> 0 | H14: =สุขพละ!F16 -> 0 | I14: =ศิลปะ!F16 -> 0 | J14: =การงาน!F16 -> 0 | K14: =ENG!F16 -> 0 | L14: =หน้าที่!F16 -> 0 | M14: =ต้าน!F16 -> 0 | N14: =AVERAGE(C14:L14) -> 0
A15: 10 | B15: ='1.1'!B15 -> 0 | C15: =ไทย!F17 -> 0 | D15: =คณิต!F17 -> 0 | E15: =วิทย์!F17 -> 0 | F15: =สังคม!F17 -> 0 | G15: =ประวัติ!F17 -> 0 | H15: =สุขพละ!F17 -> 0 | I15: =ศิลปะ!F17 -> 0 | J15: =การงาน!F17 -> 0 | K15: =ENG!F17 -> 0 | L15: =หน้าที่!F17 -> 0 | M15: =ต้าน!F17 -> 0 | N15: =AVERAGE(C15:L15) -> 0
A16: 11 | B16: ='1.1'!B16 -> 0 | C16: =ไทย!F18 -> 0 | D16: =คณิต!F18 -> 0 | E16: =วิทย์!F18 -> 0 | F16: =สังคม!F18 -> 0 | G16: =ประวัติ!F18 -> 0 | H16: =สุขพละ!F18 -> 0 | I16: =ศิลปะ!F18 -> 0 | J16: =การงาน!F18 -> 0 | K16: =ENG!F18 -> 0 | L16: =หน้าที่!F18 -> 0 | M16: =ต้าน!F18 -> 0 | N16: =AVERAGE(C16:L16) -> 0
A17: 12 | B17: ='1.1'!B17 -> 0 | C17: =ไทย!F19 -> 0 | D17: =คณิต!F19 -> 0 | E17: =วิทย์!F19 -> 0 | F17: =สังคม!F19 -> 0 | G17: =ประวัติ!F19 -> 0 | H17: =สุขพละ!F19 -> 0 | I17: =ศิลปะ!F19 -> 0 | J17: =การงาน!F19 -> 0 | K17: =ENG!F19 -> 0 | L17: =หน้าที่!F19 -> 0 | M17: =ต้าน!F19 -> 0 | N17: =AVERAGE(C17:L17) -> 0
... A28: 23 | B28: ='1.1'!B28 -> 0 | C28: =ไทย!F30 -> 0 | D28: =คณิต!F30 -> 0 | E28: =วิทย์!F30 -> 0 | F28: =สังคม!F30 -> 0 | G28: =ประวัติ!F30 -> 0 | H28: =สุขพละ!F30 -> 0 | I28: =ศิลปะ!F30 -> 0 | J28: =การงาน!F30 -> 0 | K28: =ENG!F30 -> 0 | L28: =หน้าที่!F30 -> 0 | M28: =ต้าน!F30 -> 0 | N28: =AVERAGE(C28:L28) -> 0

Sheet 2.2
A1: แบบประเมินคุณลักษณะอันพึงประสงค์
A2: ที่ | B2: ชื่อ - สกุล | C2: 2. ซื่อสัตย์สุจริต | N2: รวม | O2: ผลการประเมิน
C3: 2.2 ไม่ถือเอาสิ่งของหรือผลงานของผู้อื่นมาเป็นของตนเอง ไม่ลักขโมย
C4: ภาษาไทย | D4: คณิตศาสตร์ | E4: วิทยาศาสตร์ | F4: สังคมศึกษา | G4: ประวัติศาสตร์ | H4: สุข / พละ | I4: ศิลปะ | J4: การงานอาชีพ | K4: ภาษาอังกฤษ | L4: หน้าที่พลเมือง | M4: การป้องกันการทุจริต | O4: ดีเยี่ยม | P4: ดี | Q4: ผ่านเกณฑ์
A5: ระดับคุณภาพ | C5: =ไทย!G7 -> 3 | D5: =คณิต!G7 -> 3 | E5: =วิทย์!G7 -> 3 | F5: =สังคม!G7 -> 3 | G5: =ประวัติ!G7 -> 3 | H5: =สุขพละ!G7 -> 3 | I5: =ศิลปะ!G7 -> 3 | J5: =การงาน!G7 -> 3 | K5: =ENG!G7 -> 3 | L5: =หน้าที่!G7 -> 3 | M5: =ต้าน!G7 -> 3 | N5: =AVERAGE(C5:L5) -> 3
A6: 1 | B6: ='1.1'!B6 -> บาส | C6: =ไทย!G8 -> 0 | D6: =คณิต!G8 -> 0 | E6: =วิทย์!G8 -> 0 | F6: =สังคม!G8 -> 0 | G6: =ประวัติ!G8 -> 0 | H6: =สุขพละ!G8 -> 0 | I6: =ศิลปะ!G8 -> 0 | J6: =การงาน!G8 -> 0 | K6: =ENG!G8 -> 0 | L6: =หน้าที่!G8 -> 0 | M6: =ต้าน!G8 -> 0 | N6: =AVERAGE(C6:L6) -> 0
A7: 2 | B7: ='1.1'!B7 -> 0 | C7: =ไทย!G9 -> 0 | D7: =คณิต!G9 -> 0 | E7: =วิทย์!G9 -> 0 | F7: =สังคม!G9 -> 0 | G7: =ประวัติ!G9 -> 0 | H7: =สุขพละ!G9 -> 0 | I7: =ศิลปะ!G9 -> 0 | J7: =การงาน!G9 -> 0 | K7: =ENG!G9 -> 0 | L7: =หน้าที่!G9 -> 0 | M7: =ต้าน!G9 -> 0 | N7: =AVERAGE(C7:L7) -> 0
A8: 3 | B8: ='1.1'!B8 -> 0 | C8: =ไทย!G10 -> 0 | D8: =คณิต!G10 -> 0 | E8: =วิทย์!G10 -> 0 | F8: =สังคม!G10 -> 0 | G8: =ประวัติ!G10 -> 0 | H8: =สุขพละ!G10 -> 0 | I8: =ศิลปะ!G10 -> 0 | J8: =การงาน!G10 -> 0 | K8: =ENG!G10 -> 0 | L8: =หน้าที่!G10 -> 0 | M8: =ต้าน!G10 -> 0 | N8: =AVERAGE(C8:L8) -> 0
A9: 4 | B9: ='1.1'!B9 -> 0 | C9: =ไทย!G11 -> 0 | D9: =คณิต!G11 -> 0 | E9: =วิทย์!G11 -> 0 | F9: =สังคม!G11 -> 0 | G9: =ประวัติ!G11 -> 0 | H9: =สุขพละ!G11 -> 0 | I9: =ศิลปะ!G11 -> 0 | J9: =การงาน!G11 -> 0 | K9: =ENG!G11 -> 0 | L9: =หน้าที่!G11 -> 0 | M9: =ต้าน!G11 -> 0 | N9: =AVERAGE(C9:L9) -> 0
A10: 5 | B10: ='1.1'!B10 -> 0 | C10: =ไทย!G12 -> 0 | D10: =คณิต!G12 -> 0 | E10: =วิทย์!G12 -> 0 | F10: =สังคม!G12 -> 0 | G10: =ประวัติ!G12 -> 0 | H10: =สุขพละ!G12 -> 0 | I10: =ศิลปะ!G12 -> 0 | J10: =การงาน!G12 -> 0 | K10: =ENG!G12 -> 0 | L10: =หน้าที่!G12 -> 0 | M10: =ต้าน!G12 -> 0 | N10: =AVERAGE(C10:L10) -> 0
A11: 6 | B11: ='1.1'!B11 -> 0 | C11: =ไทย!G13 -> 0 | D11: =คณิต!G13 -> 0 | E11: =วิทย์!G13 -> 0 | F11: =สังคม!G13 -> 0 | G11: =ประวัติ!G13 -> 0 | H11: =สุขพละ!G13 -> 0 | I11: =ศิลปะ!G13 -> 0 | J11: =การงาน!G13 -> 0 | K11: =ENG!G13 -> 0 | L11: =หน้าที่!G13 -> 0 | M11: =ต้าน!G13 -> 0 | N11: =AVERAGE(C11:L11) -> 0
A12: 7 | B12: ='1.1'!B12 -> 0 | C12: =ไทย!G14 -> 0 | D12: =คณิต!G14 -> 0 | E12: =วิทย์!G14 -> 0 | F12: =สังคม!G14 -> 0 | G12: =ประวัติ!G14 -> 0 | H12: =สุขพละ!G14 -> 0 | I12: =ศิลปะ!G14 -> 0 | J12: =การงาน!G14 -> 0 | K12: =ENG!G14 -> 0 | L12: =หน้าที่!G14 -> 0 | M12: =ต้าน!G14 -> 0 | N12: =AVERAGE(C12:L12) -> 0
A13: 8 | B13: ='1.1'!B13 -> 0 | C13: =ไทย!G15 -> 0 | D13: =คณิต!G15 -> 0 | E13: =วิทย์!G15 -> 0 | F13: =สังคม!G15 -> 0 | G13: =ประวัติ!G15 -> 0 | H13: =สุขพละ!G15 -> 0 | I13: =ศิลปะ!G15 -> 0 | J13: =การงาน!G15 -> 0 | K13: =ENG!G15 -> 0 | L13: =หน้าที่!G15 -> 0 | M13: =ต้าน!G15 -> 0 | N13: =AVERAGE(C13:L13) -> 0
A14: 9 | B14: ='1.1'!B14 -> 0 | C14: =ไทย!G16 -> 0 | D14: =คณิต!G16 -> 0 | E14: =วิทย์!G16 -> 0 | F14: =สังคม!G16 -> 0 | G14: =ประวัติ!G16 -> 0 | H14: =สุขพละ!G16 -> 0 | I14: =ศิลปะ!G16 -> 0 | J14: =การงาน!G16 -> 0 | K14: =ENG!G16 -> 0 | L14: =หน้าที่!G16 -> 0 | M14: =ต้าน!G16 -> 0 | N14: =AVERAGE(C14:L14) -> 0
A15: 10 | B15: ='1.1'!B15 -> 0 | C15: =ไทย!G17 -> 0 | D15: =คณิต!G17 -> 0 | E15: =วิทย์!G17 -> 0 | F15: =สังคม!G17 -> 0 | G15: =ประวัติ!G17 -> 0 | H15: =สุขพละ!G17 -> 0 | I15: =ศิลปะ!G17 -> 0 | J15: =การงาน!G17 -> 0 | K15: =ENG!G17 -> 0 | L15: =หน้าที่!G17 -> 0 | M15: =ต้าน!G17 -> 0 | N15: =AVERAGE(C15:L15) -> 0
A16: 11 | B16: ='1.1'!B16 -> 0 | C16: =ไทย!G18 -> 0 | D16: =คณิต!G18 -> 0 | E16: =วิทย์!G18 -> 0 | F16: =สังคม!G18 -> 0 | G16: =ประวัติ!G18 -> 0 | H16: =สุขพละ!G18 -> 0 | I16: =ศิลปะ!G18 -> 0 | J16: =การงาน!G18 -> 0 | K16: =ENG!G18 -> 0 | L16: =หน้าที่!G18 -> 0 | M16: =ต้าน!G18 -> 0 | N16: =AVERAGE(C16:L16) -> 0
A17: 12 | B17: ='1.1'!B17 -> 0 | C17: =ไทย!G19 -> 0 | D17: =คณิต!G19 -> 0 | E17: =วิทย์!G19 -> 0 | F17: =สังคม!G19 -> 0 | G17: =ประวัติ!G19 -> 0 | H17: =สุขพละ!G19 -> 0 | I17: =ศิลปะ!G19 -> 0 | J17: =การงาน!G19 -> 0 | K17: =ENG!G19 -> 0 | L17: =หน้าที่!G19 -> 0 | M17: =ต้าน!G19 -> 0 | N17: =AVERAGE(C17:L17) -> 0
... A28: 23 | B28: ='1.1'!B28 -> 0 | C28: =ไทย!G30 -> 0 | D28: =คณิต!G30 -> 0 | E28: =วิทย์!G30 -> 0 | F28: =สังคม!G30 -> 0 | G28: =ประวัติ!G30 -> 0 | H28: =สุขพละ!G30 -> 0 | I28: =ศิลปะ!G30 -> 0 | J28: =การงาน!G30 -> 0 | K28: =ENG!G30 -> 0 | L28: =หน้าที่!G30 -> 0 | M28: =ต้าน!G30 -> 0 | N28: =AVERAGE(C28:L28) -> 0

Sheet 2.3
A1: แบบประเมินคุณลักษณะอันพึงประสงค์
A2: ที่ | B2: ชื่อ - สกุล | C2: 2. ซื่อสัตย์สุจริต | N2: รวม | O2: ผลการประเมิน
C3: 2.3 ไม่หาผลประโยชน์ในทางที่ไม่ถูกต้อง ไม่คดโกง
C4: ภาษาไทย | D4: คณิตศาสตร์ | E4: วิทยาศาสตร์ | F4: สังคมศึกษา | G4: ประวัติศาสตร์ | H4: สุข / พละ | I4: ศิลปะ | J4: การงานอาชีพ | K4: ภาษาอังกฤษ | L4: หน้าที่พลเมือง | M4: การป้องกันการทุจริต | O4: ดีเยี่ยม | P4: ดี | Q4: ผ่านเกณฑ์
A5: ระดับคุณภาพ | C5: =ไทย!H7 -> 3 | D5: =คณิต!H7 -> 3 | E5: =วิทย์!H7 -> 3 | F5: =สังคม!H7 -> 3 | G5: =ประวัติ!H7 -> 3 | H5: =สุขพละ!H7 -> 3 | I5: =ศิลปะ!H7 -> 3 | J5: =การงาน!H7 -> 3 | K5: =ENG!H7 -> 3 | L5: =หน้าที่!H7 -> 3 | M5: =ต้าน!H7 -> 3 | N5: =AVERAGE(C5:L5) -> 3
A6: 1 | B6: ='1.1'!B6 -> บาส | C6: =ไทย!H8 -> 0 | D6: =คณิต!H8 -> 0 | E6: =วิทย์!H8 -> 0 | F6: =สังคม!H8 -> 0 | G6: =ประวัติ!H8 -> 0 | H6: =สุขพละ!H8 -> 0 | I6: =ศิลปะ!H8 -> 0 | J6: =การงาน!H8 -> 0 | K6: =ENG!H8 -> 0 | L6: =หน้าที่!H8 -> 0 | M6: =ต้าน!H8 -> 0 | N6: =AVERAGE(C6:L6) -> 0
A7: 2 | B7: ='1.1'!B7 -> 0 | C7: =ไทย!H9 -> 0 | D7: =คณิต!H9 -> 0 | E7: =วิทย์!H9 -> 0 | F7: =สังคม!H9 -> 0 | G7: =ประวัติ!H9 -> 0 | H7: =สุขพละ!H9 -> 0 | I7: =ศิลปะ!H9 -> 0 | J7: =การงาน!H9 -> 0 | K7: =ENG!H9 -> 0 | L7: =หน้าที่!H9 -> 0 | M7: =ต้าน!H9 -> 0 | N7: =AVERAGE(C7:L7) -> 0
A8: 3 | B8: ='1.1'!B8 -> 0 | C8: =ไทย!H10 -> 0 | D8: =คณิต!H10 -> 0 | E8: =วิทย์!H10 -> 0 | F8: =สังคม!H10 -> 0 | G8: =ประวัติ!H10 -> 0 | H8: =สุขพละ!H10 -> 0 | I8: =ศิลปะ!H10 -> 0 | J8: =การงาน!H10 -> 0 | K8: =ENG!H10 -> 0 | L8: =หน้าที่!H10 -> 0 | M8: =ต้าน!H10 -> 0 | N8: =AVERAGE(C8:L8) -> 0
A9: 4 | B9: ='1.1'!B9 -> 0 | C9: =ไทย!H11 -> 0 | D9: =คณิต!H11 -> 0 | E9: =วิทย์!H11 -> 0 | F9: =สังคม!H11 -> 0 | G9: =ประวัติ!H11 -> 0 | H9: =สุขพละ!H11 -> 0 | I9: =ศิลปะ!H11 -> 0 | J9: =การงาน!H11 -> 0 | K9: =ENG!H11 -> 0 | L9: =หน้าที่!H11 -> 0 | M9: =ต้าน!H11 -> 0 | N9: =AVERAGE(C9:L9) -> 0
A10: 5 | B10: ='1.1'!B10 -> 0 | C10: =ไทย!H12 -> 0 | D10: =คณิต!H12 -> 0 | E10: =วิทย์!H12 -> 0 | F10: =สังคม!H12 -> 0 | G10: =ประวัติ!H12 -> 0 | H10: =สุขพละ!H12 -> 0 | I10: =ศิลปะ!H12 -> 0 | J10: =การงาน!H12 -> 0 | K10: =ENG!H12 -> 0 | L10: =หน้าที่!H12 -> 0 | M10: =ต้าน!H12 -> 0 | N10: =AVERAGE(C10:L10) -> 0
A11: 6 | B11: ='1.1'!B11 -> 0 | C11: =ไทย!H13 -> 0 | D11: =คณิต!H13 -> 0 | E11: =วิทย์!H13 -> 0 | F11: =สังคม!H13 -> 0 | G11: =ประวัติ!H13 -> 0 | H11: =สุขพละ!H13 -> 0 | I11: =ศิลปะ!H13 -> 0 | J11: =การงาน!H13 -> 0 | K11: =ENG!H13 -> 0 | L11: =หน้าที่!H13 -> 0 | M11: =ต้าน!H13 -> 0 | N11: =AVERAGE(C11:L11) -> 0
A12: 7 | B12: ='1.1'!B12 -> 0 | C12: =ไทย!H14 -> 0 | D12: =คณิต!H14 -> 0 | E12: =วิทย์!H14 -> 0 | F12: =สังคม!H14 -> 0 | G12: =ประวัติ!H14 -> 0 | H12: =สุขพละ!H14 -> 0 | I12: =ศิลปะ!H14 -> 0 | J12: =การงาน!H14 -> 0 | K12: =ENG!H14 -> 0 | L12: =หน้าที่!H14 -> 0 | M12: =ต้าน!H14 -> 0 | N12: =AVERAGE(C12:L12) -> 0
A13: 8 | B13: ='1.1'!B13 -> 0 | C13: =ไทย!H15 -> 0 | D13: =คณิต!H15 -> 0 | E13: =วิทย์!H15 -> 0 | F13: =สังคม!H15 -> 0 | G13: =ประวัติ!H15 -> 0 | H13: =สุขพละ!H15 -> 0 | I13: =ศิลปะ!H15 -> 0 | J13: =การงาน!H15 -> 0 | K13: =ENG!H15 -> 0 | L13: =หน้าที่!H15 -> 0 | M13: =ต้าน!H15 -> 0 | N13: =AVERAGE(C13:L13) -> 0
A14: 9 | B14: ='1.1'!B14 -> 0 | C14: =ไทย!H16 -> 0 | D14: =คณิต!H16 -> 0 | E14: =วิทย์!H16 -> 0 | F14: =สังคม!H16 -> 0 | G14: =ประวัติ!H16 -> 0 | H14: =สุขพละ!H16 -> 0 | I14: =ศิลปะ!H16 -> 0 | J14: =การงาน!H16 -> 0 | K14: =ENG!H16 -> 0 | L14: =หน้าที่!H16 -> 0 | M14: =ต้าน!H16 -> 0 | N14: =AVERAGE(C14:L14) -> 0
A15: 10 | B15: ='1.1'!B15 -> 0 | C15: =ไทย!H17 -> 0 | D15: =คณิต!H17 -> 0 | E15: =วิทย์!H17 -> 0 | F15: =สังคม!H17 -> 0 | G15: =ประวัติ!H17 -> 0 | H15: =สุขพละ!H17 -> 0 | I15: =ศิลปะ!H17 -> 0 | J15: =การงาน!H17 -> 0 | K15: =ENG!H17 -> 0 | L15: =หน้าที่!H17 -> 0 | M15: =ต้าน!H17 -> 0 | N15: =AVERAGE(C15:L15) -> 0
A16: 11 | B16: ='1.1'!B16 -> 0 | C16: =ไทย!H18 -> 0 | D16: =คณิต!H18 -> 0 | E16: =วิทย์!H18 -> 0 | F16: =สังคม!H18 -> 0 | G16: =ประวัติ!H18 -> 0 | H16: =สุขพละ!H18 -> 0 | I16: =ศิลปะ!H18 -> 0 | J16: =การงาน!H18 -> 0 | K16: =ENG!H18 -> 0 | L16: =หน้าที่!H18 -> 0 | M16: =ต้าน!H18 -> 0 | N16: =AVERAGE(C16:L16) -> 0
A17: 12 | B17: ='1.1'!B17 -> 0 | C17: =ไทย!H19 -> 0 | D17: =คณิต!H19 -> 0 | E17: =วิทย์!H19 -> 0 | F17: =สังคม!H19 -> 0 | G17: =ประวัติ!H19 -> 0 | H17: =สุขพละ!H19 -> 0 | I17: =ศิลปะ!H19 -> 0 | J17: =การงาน!H19 -> 0 | K17: =ENG!H19 -> 0 | L17: =หน้าที่!H19 -> 0 | M17: =ต้าน!H19 -> 0 | N17: =AVERAGE(C17:L17) -> 0
... A28: 23 | B28: ='1.1'!B28 -> 0 | C28: =ไทย!H30 -> 0 | D28: =คณิต!H30 -> 0 | E28: =วิทย์!H30 -> 0 | F28: =สังคม!H30 -> 0 | G28: =ประวัติ!H30 -> 0 | H28: =สุขพละ!H30 -> 0 | I28: =ศิลปะ!H30 -> 0 | J28: =การงาน!H30 -> 0 | K28: =ENG!H30 -> 0 | L28: =หน้าที่!H30 -> 0 | M28: =ต้าน!H30 -> 0 | N28: =AVERAGE(C28:L28) -> 0

Sheet สรุป 2
A1: แบบประเมินคุณลักษณะอันพึงประสงค์
A2: ที่ | B2: ชื่อ - สกุล | C2: 2. ซื่อสัตย์สุจริต | N2: รวม | O2: ผลการประเมิน
C4: ภาษาไทย | D4: คณิตศาสตร์ | E4: วิทยาศาสตร์ | F4: สังคมศึกษา | G4: ประวัติศาสตร์ | H4: สุข / พละ | I4: ศิลปะ | J4: การงานอาชีพ | K4: ภาษาอังกฤษ | L4: หน้าที่พลเมือง | M4: การป้องกันการทุจริต | O4: ดีเยี่ยม | P4: ดี | Q4: ผ่านเกณฑ์
A5: ระดับคุณภาพ | C5: =('2.1'!C5+'2.2'!C5+'2.3'!C5)/3 -> 3 | D5: =('2.1'!D5+'2.2'!D5+'2.3'!D5)/3 -> 3 | E5: =('2.1'!E5+'2.2'!E5+'2.3'!E5)/3 -> 3 | F5: =('2.1'!F5+'2.2'!F5+'2.3'!F5)/3 -> 3 | G5: =('2.1'!G5+'2.2'!G5+'2.3'!G5)/3 -> 3 | H5: =('2.1'!H5+'2.2'!H5+'2.3'!H5)/3 -> 3 | I5: =('2.1'!I5+'2.2'!I5+'2.3'!I5)/3 -> 3 | J5: =('2.1'!J5+'2.2'!J5+'2.3'!J5)/3 -> 3 | ... M5: =('2.1'!M5+'2.2'!M5+'2.3'!M5)/3 -> 3 | N5: =AVERAGE(C5:L5) -> 3
A6: 1 | B6: ='1.1'!B6 -> บาส | C6: =('2.1'!C6+'2.2'!C6+'2.3'!C6)/3 -> 0 | D6: =('2.1'!D6+'2.2'!D6+'2.3'!D6)/3 -> 0 | E6: =('2.1'!E6+'2.2'!E6+'2.3'!E6)/3 -> 0 | F6: =('2.1'!F6+'2.2'!F6+'2.3'!F6)/3 -> 0 | G6: =('2.1'!G6+'2.2'!G6+'2.3'!G6)/3 -> 0 | H6: =('2.1'!H6+'2.2'!H6+'2.3'!H6)/3 -> 0 | I6: =('2.1'!I6+'2.2'!I6+'2.3'!I6)/3 -> 0 | J6: =('2.1'!J6+'2.2'!J6+'2.3'!J6)/3 -> 0 | ... M6: =('2.1'!M6+'2.2'!M6+'2.3'!M6)/3 -> 0 | N6: =AVERAGE(C6:L6) -> 0
A7: 2 | B7: ='1.1'!B7 -> 0 | C7: =('2.1'!C7+'2.2'!C7+'2.3'!C7)/3 -> 0 | D7: =('2.1'!D7+'2.2'!D7+'2.3'!D7)/3 -> 0 | E7: =('2.1'!E7+'2.2'!E7+'2.3'!E7)/3 -> 0 | F7: =('2.1'!F7+'2.2'!F7+'2.3'!F7)/3 -> 0 | G7: =('2.1'!G7+'2.2'!G7+'2.3'!G7)/3 -> 0 | H7: =('2.1'!H7+'2.2'!H7+'2.3'!H7)/3 -> 0 | I7: =('2.1'!I7+'2.2'!I7+'2.3'!I7)/3 -> 0 | J7: =('2.1'!J7+'2.2'!J7+'2.3'!J7)/3 -> 0 | ... M7: =('2.1'!M7+'2.2'!M7+'2.3'!M7)/3 -> 0 | N7: =AVERAGE(C7:L7) -> 0
A8: 3 | B8: ='1.1'!B8 -> 0 | C8: =('2.1'!C8+'2.2'!C8+'2.3'!C8)/3 -> 0 | D8: =('2.1'!D8+'2.2'!D8+'2.3'!D8)/3 -> 0 | E8: =('2.1'!E8+'2.2'!E8+'2.3'!E8)/3 -> 0 | F8: =('2.1'!F8+'2.2'!F8+'2.3'!F8)/3 -> 0 | G8: =('2.1'!G8+'2.2'!G8+'2.3'!G8)/3 -> 0 | H8: =('2.1'!H8+'2.2'!H8+'2.3'!H8)/3 -> 0 | I8: =('2.1'!I8+'2.2'!I8+'2.3'!I8)/3 -> 0 | J8: =('2.1'!J8+'2.2'!J8+'2.3'!J8)/3 -> 0 | ... M8: =('2.1'!M8+'2.2'!M8+'2.3'!M8)/3 -> 0 | N8: =AVERAGE(C8:L8) -> 0
A9: 4 | B9: ='1.1'!B9 -> 0 | C9: =('2.1'!C9+'2.2'!C9+'2.3'!C9)/3 -> 0 | D9: =('2.1'!D9+'2.2'!D9+'2.3'!D9)/3 -> 0 | E9: =('2.1'!E9+'2.2'!E9+'2.3'!E9)/3 -> 0 | F9: =('2.1'!F9+'2.2'!F9+'2.3'!F9)/3 -> 0 | G9: =('2.1'!G9+'2.2'!G9+'2.3'!G9)/3 -> 0 | H9: =('2.1'!H9+'2.2'!H9+'2.3'!H9)/3 -> 0 | I9: =('2.1'!I9+'2.2'!I9+'2.3'!I9)/3 -> 0 | J9: =('2.1'!J9+'2.2'!J9+'2.3'!J9)/3 -> 0 | ... M9: =('2.1'!M9+'2.2'!M9+'2.3'!M9)/3 -> 0 | N9: =AVERAGE(C9:L9) -> 0
A10: 5 | B10: ='1.1'!B10 -> 0 | C10: =('2.1'!C10+'2.2'!C10+'2.3'!C10)/3 -> 0 | D10: =('2.1'!D10+'2.2'!D10+'2.3'!D10)/3 -> 0 | E10: =('2.1'!E10+'2.2'!E10+'2.3'!E10)/3 -> 0 | F10: =('2.1'!F10+'2.2'!F10+'2.3'!F10)/3 -> 0 | G10: =('2.1'!G10+'2.2'!G10+'2.3'!G10)/3 -> 0 | H10: =('2.1'!H10+'2.2'!H10+'2.3'!H10)/3 -> 0 | I10: =('2.1'!I10+'2.2'!I10+'2.3'!I10)/3 -> 0 | J10: =('2.1'!J10+'2.2'!J10+'2.3'!J10)/3 -> 0 | ... M10: =('2.1'!M10+'2.2'!M10+'2.3'!M10)/3 -> 0 | N10: =AVERAGE(C10:L10) -> 0
A11: 6 | B11: ='1.1'!B11 -> 0 | C11: =('2.1'!C11+'2.2'!C11+'2.3'!C11)/3 -> 0 | D11: =('2.1'!D11+'2.2'!D11+'2.3'!D11)/3 -> 0 | E11: =('2.1'!E11+'2.2'!E11+'2.3'!E11)/3 -> 0 | F11: =('2.1'!F11+'2.2'!F11+'2.3'!F11)/3 -> 0 | G11: =('2.1'!G11+'2.2'!G11+'2.3'!G11)/3 -> 0 | H11: =('2.1'!H11+'2.2'!H11+'2.3'!H11)/3 -> 0 | I11: =('2.1'!I11+'2.2'!I11+'2.3'!I11)/3 -> 0 | J11: =('2.1'!J11+'2.2'!J11+'2.3'!J11)/3 -> 0 | ... M11: =('2.1'!M11+'2.2'!M11+'2.3'!M11)/3 -> 0 | N11: =AVERAGE(C11:L11) -> 0
A12: 7 | B12: ='1.1'!B12 -> 0 | C12: =('2.1'!C12+'2.2'!C12+'2.3'!C12)/3 -> 0 | D12: =('2.1'!D12+'2.2'!D12+'2.3'!D12)/3 -> 0 | E12: =('2.1'!E12+'2.2'!E12+'2.3'!E12)/3 -> 0 | F12: =('2.1'!F12+'2.2'!F12+'2.3'!F12)/3 -> 0 | G12: =('2.1'!G12+'2.2'!G12+'2.3'!G12)/3 -> 0 | H12: =('2.1'!H12+'2.2'!H12+'2.3'!H12)/3 -> 0 | I12: =('2.1'!I12+'2.2'!I12+'2.3'!I12)/3 -> 0 | J12: =('2.1'!J12+'2.2'!J12+'2.3'!J12)/3 -> 0 | ... M12: =('2.1'!M12+'2.2'!M12+'2.3'!M12)/3 -> 0 | N12: =AVERAGE(C12:L12) -> 0
A13: 8 | B13: ='1.1'!B13 -> 0 | C13: =('2.1'!C13+'2.2'!C13+'2.3'!C13)/3 -> 0 | D13: =('2.1'!D13+'2.2'!D13+'2.3'!D13)/3 -> 0 | E13: =('2.1'!E13+'2.2'!E13+'2.3'!E13)/3 -> 0 | F13: =('2.1'!F13+'2.2'!F13+'2.3'!F13)/3 -> 0 | G13: =('2.1'!G13+'2.2'!G13+'2.3'!G13)/3 -> 0 | H13: =('2.1'!H13+'2.2'!H13+'2.3'!H13)/3 -> 0 | I13: =('2.1'!I13+'2.2'!I13+'2.3'!I13)/3 -> 0 | J13: =('2.1'!J13+'2.2'!J13+'2.3'!J13)/3 -> 0 | ... M13: =('2.1'!M13+'2.2'!M13+'2.3'!M13)/3 -> 0 | N13: =AVERAGE(C13:L13) -> 0
A14: 9 | B14: ='1.1'!B14 -> 0 | C14: =('2.1'!C14+'2.2'!C14+'2.3'!C14)/3 -> 0 | D14: =('2.1'!D14+'2.2'!D14+'2.3'!D14)/3 -> 0 | E14: =('2.1'!E14+'2.2'!E14+'2.3'!E14)/3 -> 0 | F14: =('2.1'!F14+'2.2'!F14+'2.3'!F14)/3 -> 0 | G14: =('2.1'!G14+'2.2'!G14+'2.3'!G14)/3 -> 0 | H14: =('2.1'!H14+'2.2'!H14+'2.3'!H14)/3 -> 0 | I14: =('2.1'!I14+'2.2'!I14+'2.3'!I14)/3 -> 0 | J14: =('2.1'!J14+'2.2'!J14+'2.3'!J14)/3 -> 0 | ... M14: =('2.1'!M14+'2.2'!M14+'2.3'!M14)/3 -> 0 | N14: =AVERAGE(C14:L14) -> 0
A15: 10 | B15: ='1.1'!B15 -> 0 | C15: =('2.1'!C15+'2.2'!C15+'2.3'!C15)/3 -> 0 | D15: =('2.1'!D15+'2.2'!D15+'2.3'!D15)/3 -> 0 | E15: =('2.1'!E15+'2.2'!E15+'2.3'!E15)/3 -> 0 | F15: =('2.1'!F15+'2.2'!F15+'2.3'!F15)/3 -> 0 | G15: =('2.1'!G15+'2.2'!G15+'2.3'!G15)/3 -> 0 | H15: =('2.1'!H15+'2.2'!H15+'2.3'!H15)/3 -> 0 | I15: =('2.1'!I15+'2.2'!I15+'2.3'!I15)/3 -> 0 | J15: =('2.1'!J15+'2.2'!J15+'2.3'!J15)/3 -> 0 | ... M15: =('2.1'!M15+'2.2'!M15+'2.3'!M15)/3 -> 0 | N15: =AVERAGE(C15:L15) -> 0
A16: 11 | B16: ='1.1'!B16 -> 0 | C16: =('2.1'!C16+'2.2'!C16+'2.3'!C16)/3 -> 0 | D16: =('2.1'!D16+'2.2'!D16+'2.3'!D16)/3 -> 0 | E16: =('2.1'!E16+'2.2'!E16+'2.3'!E16)/3 -> 0 | F16: =('2.1'!F16+'2.2'!F16+'2.3'!F16)/3 -> 0 | G16: =('2.1'!G16+'2.2'!G16+'2.3'!G16)/3 -> 0 | H16: =('2.1'!H16+'2.2'!H16+'2.3'!H16)/3 -> 0 | I16: =('2.1'!I16+'2.2'!I16+'2.3'!I16)/3 -> 0 | J16: =('2.1'!J16+'2.2'!J16+'2.3'!J16)/3 -> 0 | ... M16: =('2.1'!M16+'2.2'!M16+'2.3'!M16)/3 -> 0 | N16: =AVERAGE(C16:L16) -> 0
A17: 12 | B17: ='1.1'!B17 -> 0 | C17: =('2.1'!C17+'2.2'!C17+'2.3'!C17)/3 -> 0 | D17: =('2.1'!D17+'2.2'!D17+'2.3'!D17)/3 -> 0 | E17: =('2.1'!E17+'2.2'!E17+'2.3'!E17)/3 -> 0 | F17: =('2.1'!F17+'2.2'!F17+'2.3'!F17)/3 -> 0 | G17: =('2.1'!G17+'2.2'!G17+'2.3'!G17)/3 -> 0 | H17: =('2.1'!H17+'2.2'!H17+'2.3'!H17)/3 -> 0 | I17: =('2.1'!I17+'2.2'!I17+'2.3'!I17)/3 -> 0 | J17: =('2.1'!J17+'2.2'!J17+'2.3'!J17)/3 -> 0 | ... M17: =('2.1'!M17+'2.2'!M17+'2.3'!M17)/3 -> 0 | N17: =AVERAGE(C17:L17) -> 0
... A28: 23 | B28: ='1.1'!B28 -> 0 | C28: =('2.1'!C28+'2.2'!C28+'2.3'!C28)/3 -> 0 | D28: =('2.1'!D28+'2.2'!D28+'2.3'!D28)/3 -> 0 | E28: =('2.1'!E28+'2.2'!E28+'2.3'!E28)/3 -> 0 | F28: =('2.1'!F28+'2.2'!F28+'2.3'!F28)/3 -> 0 | G28: =('2.1'!G28+'2.2'!G28+'2.3'!G28)/3 -> 0 | H28: =('2.1'!H28+'2.2'!H28+'2.3'!H28)/3 -> 0 | I28: =('2.1'!I28+'2.2'!I28+'2.3'!I28)/3 -> 0 | J28: =('2.1'!J28+'2.2'!J28+'2.3'!J28)/3 -> 0 | ... M28: =('2.1'!M28+'2.2'!M28+'2.3'!M28)/3 -> 0 | N28: =AVERAGE(C28:L28) -> 0

Sheet 3.1
A1: แบบประเมินคุณลักษณะอันพึงประสงค์
A2: ที่ | B2: ชื่อ - สกุล | C2: 3. มีวินัย | N2: รวม | O2: ผลการประเมิน
C3: 3.1 ปฏิบัติตนตามข้อตกลง กฎระเบียบของครอบครัว โรงเรียนและสังคม
C4: ภาษาไทย | D4: คณิตศาสตร์ | E4: วิทยาศาสตร์ | F4: สังคมศึกษา | G4: ประวัติศาสตร์ | H4: สุข / พละ | I4: ศิลปะ | J4: การงานอาชีพ | K4: ภาษาอังกฤษ | L4: หน้าที่พลเมือง | M4: การป้องกันการทุจริต | O4: ดีเยี่ยม | P4: ดี | Q4: ผ่านเกณฑ์
A5: ระดับคุณภาพ | C5: =ไทย!J7 -> 3 | D5: =คณิต!J7 -> 3 | E5: =วิทย์!J7 -> 3 | F5: =สังคม!J7 -> 3 | G5: =ประวัติ!J7 -> 3 | H5: =สุขพละ!J7 -> 3 | I5: =ศิลปะ!J7 -> 3 | J5: =การงาน!J7 -> 3 | K5: =ENG!J7 -> 3 | L5: =หน้าที่!J7 -> 3 | M5: =ต้าน!J7 -> 3 | N5: =AVERAGE(C5:L5) -> 3
A6: 1 | B6: ='1.1'!B6 -> บาส | C6: =ไทย!J8 -> 0 | D6: =คณิต!J8 -> 0 | E6: =วิทย์!J8 -> 0 | F6: =สังคม!J8 -> 0 | G6: =ประวัติ!J8 -> 0 | H6: =สุขพละ!J8 -> 0 | I6: =ศิลปะ!J8 -> 0 | J6: =การงาน!J8 -> 0 | K6: =ENG!J8 -> 0 | L6: =หน้าที่!J8 -> 0 | M6: =ต้าน!J8 -> 0 | N6: =AVERAGE(C6:L6) -> 0
A7: 2 | B7: ='1.1'!B7 -> 0 | C7: =ไทย!J9 -> 0 | D7: =คณิต!J9 -> 0 | E7: =วิทย์!J9 -> 0 | F7: =สังคม!J9 -> 0 | G7: =ประวัติ!J9 -> 0 | H7: =สุขพละ!J9 -> 0 | I7: =ศิลปะ!J9 -> 0 | J7: =การงาน!J9 -> 0 | K7: =ENG!J9 -> 0 | L7: =หน้าที่!J9 -> 0 | M7: =ต้าน!J9 -> 0 | N7: =AVERAGE(C7:L7) -> 0
A8: 3 | B8: ='1.1'!B8 -> 0 | C8: =ไทย!J10 -> 0 | D8: =คณิต!J10 -> 0 | E8: =วิทย์!J10 -> 0 | F8: =สังคม!J10 -> 0 | G8: =ประวัติ!J10 -> 0 | H8: =สุขพละ!J10 -> 0 | I8: =ศิลปะ!J10 -> 0 | J8: =การงาน!J10 -> 0 | K8: =ENG!J10 -> 0 | L8: =หน้าที่!J10 -> 0 | M8: =ต้าน!J10 -> 0 | N8: =AVERAGE(C8:L8) -> 0
A9: 4 | B9: ='1.1'!B9 -> 0 | C9: =ไทย!J11 -> 0 | D9: =คณิต!J11 -> 0 | E9: =วิทย์!J11 -> 0 | F9: =สังคม!J11 -> 0 | G9: =ประวัติ!J11 -> 0 | H9: =สุขพละ!J11 -> 0 | I9: =ศิลปะ!J11 -> 0 | J9: =การงาน!J11 -> 0 | K9: =ENG!J11 -> 0 | L9: =หน้าที่!J11 -> 0 | M9: =ต้าน!J11 -> 0 | N9: =AVERAGE(C9:L9) -> 0
A10: 5 | B10: ='1.1'!B10 -> 0 | C10: =ไทย!J12 -> 0 | D10: =คณิต!J12 -> 0 | E10: =วิทย์!J12 -> 0 | F10: =สังคม!J12 -> 0 | G10: =ประวัติ!J12 -> 0 | H10: =สุขพละ!J12 -> 0 | I10: =ศิลปะ!J12 -> 0 | J10: =การงาน!J12 -> 0 | K10: =ENG!J12 -> 0 | L10: =หน้าที่!J12 -> 0 | M10: =ต้าน!J12 -> 0 | N10: =AVERAGE(C10:L10) -> 0
A11: 6 | B11: ='1.1'!B11 -> 0 | C11: =ไทย!J13 -> 0 | D11: =คณิต!J13 -> 0 | E11: =วิทย์!J13 -> 0 | F11: =สังคม!J13 -> 0 | G11: =ประวัติ!J13 -> 0 | H11: =สุขพละ!J13 -> 0 | I11: =ศิลปะ!J13 -> 0 | J11: =การงาน!J13 -> 0 | K11: =ENG!J13 -> 0 | L11: =หน้าที่!J13 -> 0 | M11: =ต้าน!J13 -> 0 | N11: =AVERAGE(C11:L11) -> 0
A12: 7 | B12: ='1.1'!B12 -> 0 | C12: =ไทย!J14 -> 0 | D12: =คณิต!J14 -> 0 | E12: =วิทย์!J14 -> 0 | F12: =สังคม!J14 -> 0 | G12: =ประวัติ!J14 -> 0 | H12: =สุขพละ!J14 -> 0 | I12: =ศิลปะ!J14 -> 0 | J12: =การงาน!J14 -> 0 | K12: =ENG!J14 -> 0 | L12: =หน้าที่!J14 -> 0 | M12: =ต้าน!J14 -> 0 | N12: =AVERAGE(C12:L12) -> 0
A13: 8 | B13: ='1.1'!B13 -> 0 | C13: =ไทย!J15 -> 0 | D13: =คณิต!J15 -> 0 | E13: =วิทย์!J15 -> 0 | F13: =สังคม!J15 -> 0 | G13: =ประวัติ!J15 -> 0 | H13: =สุขพละ!J15 -> 0 | I13: =ศิลปะ!J15 -> 0 | J13: =การงาน!J15 -> 0 | K13: =ENG!J15 -> 0 | L13: =หน้าที่!J15 -> 0 | M13: =ต้าน!J15 -> 0 | N13: =AVERAGE(C13:L13) -> 0
A14: 9 | B14: ='1.1'!B14 -> 0 | C14: =ไทย!J16 -> 0 | D14: =คณิต!J16 -> 0 | E14: =วิทย์!J16 -> 0 | F14: =สังคม!J16 -> 0 | G14: =ประวัติ!J16 -> 0 | H14: =สุขพละ!J16 -> 0 | I14: =ศิลปะ!J16 -> 0 | J14: =การงาน!J16 -> 0 | K14: =ENG!J16 -> 0 | L14: =หน้าที่!J16 -> 0 | M14: =ต้าน!J16 -> 0 | N14: =AVERAGE(C14:L14) -> 0
A15: 10 | B15: ='1.1'!B15 -> 0 | C15: =ไทย!J17 -> 0 | D15: =คณิต!J17 -> 0 | E15: =วิทย์!J17 -> 0 | F15: =สังคม!J17 -> 0 | G15: =ประวัติ!J17 -> 0 | H15: =สุขพละ!J17 -> 0 | I15: =ศิลปะ!J17 -> 0 | J15: =การงาน!J17 -> 0 | K15: =ENG!J17 -> 0 | L15: =หน้าที่!J17 -> 0 | M15: =ต้าน!J17 -> 0 | N15: =AVERAGE(C15:L15) -> 0
A16: 11 | B16: ='1.1'!B16 -> 0 | C16: =ไทย!J18 -> 0 | D16: =คณิต!J18 -> 0 | E16: =วิทย์!J18 -> 0 | F16: =สังคม!J18 -> 0 | G16: =ประวัติ!J18 -> 0 | H16: =สุขพละ!J18 -> 0 | I16: =ศิลปะ!J18 -> 0 | J16: =การงาน!J18 -> 0 | K16: =ENG!J18 -> 0 | L16: =หน้าที่!J18 -> 0 | M16: =ต้าน!J18 -> 0 | N16: =AVERAGE(C16:L16) -> 0
A17: 12 | B17: ='1.1'!B17 -> 0 | C17: =ไทย!J19 -> 0 | D17: =คณิต!J19 -> 0 | E17: =วิทย์!J19 -> 0 | F17: =สังคม!J19 -> 0 | G17: =ประวัติ!J19 -> 0 | H17: =สุขพละ!J19 -> 0 | I17: =ศิลปะ!J19 -> 0 | J17: =การงาน!J19 -> 0 | K17: =ENG!J19 -> 0 | L17: =หน้าที่!J19 -> 0 | M17: =ต้าน!J19 -> 0 | N17: =AVERAGE(C17:L17) -> 0
... A28: 23 | B28: ='1.1'!B28 -> 0 | C28: =ไทย!J30 -> 0 | D28: =คณิต!J30 -> 0 | E28: =วิทย์!J30 -> 0 | F28: =สังคม!J30 -> 0 | G28: =ประวัติ!J30 -> 0 | H28: =สุขพละ!J30 -> 0 | I28: =ศิลปะ!J30 -> 0 | J28: =การงาน!J30 -> 0 | K28: =ENG!J30 -> 0 | L28: =หน้าที่!J30 -> 0 | M28: =ต้าน!J30 -> 0 | N28: =AVERAGE(C28:L28) -> 0

Sheet 3.2
A1: แบบประเมินคุณลักษณะอันพึงประสงค์
A2: ที่ | B2: ชื่อ - สกุล | C2: 3. มีวินัย | N2: รวม | O2: ผลการประเมิน
C3: 3.2 ตรงต่อเวลาและรับผิดชอบในการเรียน การปฏิบัติงาน
C4: ภาษาไทย | D4: คณิตศาสตร์ | E4: วิทยาศาสตร์ | F4: สังคมศึกษา | G4: ประวัติศาสตร์ | H4: สุข / พละ | I4: ศิลปะ | J4: การงานอาชีพ | K4: ภาษาอังกฤษ | L4: หน้าที่พลเมือง | M4: การป้องกันการทุจริต | O4: ดีเยี่ยม | P4: ดี | Q4: ผ่านเกณฑ์
A5: ระดับคุณภาพ | C5: =ไทย!K7 -> 3 | D5: =คณิต!K7 -> 3 | E5: =วิทย์!K7 -> 3 | F5: =สังคม!K7 -> 3 | G5: =ประวัติ!K7 -> 3 | H5: =สุขพละ!K7 -> 3 | I5: =ศิลปะ!K7 -> 3 | J5: =การงาน!K7 -> 3 | K5: =ENG!K7 -> 3 | L5: =หน้าที่!K7 -> 3 | M5: =ต้าน!K7 -> 3 | N5: =AVERAGE(C5:L5) -> 3
A6: 1 | B6: ='1.1'!B6 -> บาส | C6: =ไทย!K8 -> 0 | D6: =คณิต!K8 -> 0 | E6: =วิทย์!K8 -> 0 | F6: =สังคม!K8 -> 0 | G6: =ประวัติ!K8 -> 0 | H6: =สุขพละ!K8 -> 0 | I6: =ศิลปะ!K8 -> 0 | J6: =การงาน!K8 -> 0 | K6: =ENG!K8 -> 0 | L6: =หน้าที่!K8 -> 0 | M6: =ต้าน!K8 -> 0 | N6: =AVERAGE(C6:L6) -> 0
A7: 2 | B7: ='1.1'!B7 -> 0 | C7: =ไทย!K9 -> 0 | D7: =คณิต!K9 -> 0 | E7: =วิทย์!K9 -> 0 | F7: =สังคม!K9 -> 0 | G7: =ประวัติ!K9 -> 0 | H7: =สุขพละ!K9 -> 0 | I7: =ศิลปะ!K9 -> 0 | J7: =การงาน!K9 -> 0 | K7: =ENG!K9 -> 0 | L7: =หน้าที่!K9 -> 0 | M7: =ต้าน!K9 -> 0 | N7: =AVERAGE(C7:L7) -> 0
A8: 3 | B8: ='1.1'!B8 -> 0 | C8: =ไทย!K10 -> 0 | D8: =คณิต!K10 -> 0 | E8: =วิทย์!K10 -> 0 | F8: =สังคม!K10 -> 0 | G8: =ประวัติ!K10 -> 0 | H8: =สุขพละ!K10 -> 0 | I8: =ศิลปะ!K10 -> 0 | J8: =การงาน!K10 -> 0 | K8: =ENG!K10 -> 0 | L8: =หน้าที่!K10 -> 0 | M8: =ต้าน!K10 -> 0 | N8: =AVERAGE(C8:L8) -> 0
A9: 4 | B9: ='1.1'!B9 -> 0 | C9: =ไทย!K11 -> 0 | D9: =คณิต!K11 -> 0 | E9: =วิทย์!K11 -> 0 | F9: =สังคม!K11 -> 0 | G9: =ประวัติ!K11 -> 0 | H9: =สุขพละ!K11 -> 0 | I9: =ศิลปะ!K11 -> 0 | J9: =การงาน!K11 -> 0 | K9: =ENG!K11 -> 0 | L9: =หน้าที่!K11 -> 0 | M9: =ต้าน!K11 -> 0 | N9: =AVERAGE(C9:L9) -> 0
A10: 5 | B10: ='1.1'!B10 -> 0 | C10: =ไทย!K12 -> 0 | D10: =คณิต!K12 -> 0 | E10: =วิทย์!K12 -> 0 | F10: =สังคม!K12 -> 0 | G10: =ประวัติ!K12 -> 0 | H10: =สุขพละ!K12 -> 0 | I10: =ศิลปะ!K12 -> 0 | J10: =การงาน!K12 -> 0 | K10: =ENG!K12 -> 0 | L10: =หน้าที่!K12 -> 0 | M10: =ต้าน!K12 -> 0 | N10: =AVERAGE(C10:L10) -> 0
A11: 6 | B11: ='1.1'!B11 -> 0 | C11: =ไทย!K13 -> 0 | D11: =คณิต!K13 -> 0 | E11: =วิทย์!K13 -> 0 | F11: =สังคม!K13 -> 0 | G11: =ประวัติ!K13 -> 0 | H11: =สุขพละ!K13 -> 0 | I11: =ศิลปะ!K13 -> 0 | J11: =การงาน!K13 -> 0 | K11: =ENG!K13 -> 0 | L11: =หน้าที่!K13 -> 0 | M11: =ต้าน!K13 -> 0 | N11: =AVERAGE(C11:L11) -> 0
A12: 7 | B12: ='1.1'!B12 -> 0 | C12: =ไทย!K14 -> 0 | D12: =คณิต!K14 -> 0 | E12: =วิทย์!K14 -> 0 | F12: =สังคม!K14 -> 0 | G12: =ประวัติ!K14 -> 0 | H12: =สุขพละ!K14 -> 0 | I12: =ศิลปะ!K14 -> 0 | J12: =การงาน!K14 -> 0 | K12: =ENG!K14 -> 0 | L12: =หน้าที่!K14 -> 0 | M12: =ต้าน!K14 -> 0 | N12: =AVERAGE(C12:L12) -> 0
A13: 8 | B13: ='1.1'!B13 -> 0 | C13: =ไทย!K15 -> 0 | D13: =คณิต!K15 -> 0 | E13: =วิทย์!K15 -> 0 | F13: =สังคม!K15 -> 0 | G13: =ประวัติ!K15 -> 0 | H13: =สุขพละ!K15 -> 0 | I13: =ศิลปะ!K15 -> 0 | J13: =การงาน!K15 -> 0 | K13: =ENG!K15 -> 0 | L13: =หน้าที่!K15 -> 0 | M13: =ต้าน!K15 -> 0 | N13: =AVERAGE(C13:L13) -> 0
A14: 9 | B14: ='1.1'!B14 -> 0 | C14: =ไทย!K16 -> 0 | D14: =คณิต!K16 -> 0 | E14: =วิทย์!K16 -> 0 | F14: =สังคม!K16 -> 0 | G14: =ประวัติ!K16 -> 0 | H14: =สุขพละ!K16 -> 0 | I14: =ศิลปะ!K16 -> 0 | J14: =การงาน!K16 -> 0 | K14: =ENG!K16 -> 0 | L14: =หน้าที่!K16 -> 0 | M14: =ต้าน!K16 -> 0 | N14: =AVERAGE(C14:L14) -> 0
A15: 10 | B15: ='1.1'!B15 -> 0 | C15: =ไทย!K17 -> 0 | D15: =คณิต!K17 -> 0 | E15: =วิทย์!K17 -> 0 | F15: =สังคม!K17 -> 0 | G15: =ประวัติ!K17 -> 0 | H15: =สุขพละ!K17 -> 0 | I15: =ศิลปะ!K17 -> 0 | J15: =การงาน!K17 -> 0 | K15: =ENG!K17 -> 0 | L15: =หน้าที่!K17 -> 0 | M15: =ต้าน!K17 -> 0 | N15: =AVERAGE(C15:L15) -> 0
A16: 11 | B16: ='1.1'!B16 -> 0 | C16: =ไทย!K18 -> 0 | D16: =คณิต!K18 -> 0 | E16: =วิทย์!K18 -> 0 | F16: =สังคม!K18 -> 0 | G16: =ประวัติ!K18 -> 0 | H16: =สุขพละ!K18 -> 0 | I16: =ศิลปะ!K18 -> 0 | J16: =การงาน!K18 -> 0 | K16: =ENG!K18 -> 0 | L16: =หน้าที่!K18 -> 0 | M16: =ต้าน!K18 -> 0 | N16: =AVERAGE(C16:L16) -> 0
A17: 12 | B17: ='1.1'!B17 -> 0 | C17: =ไทย!K19 -> 0 | D17: =คณิต!K19 -> 0 | E17: =วิทย์!K19 -> 0 | F17: =สังคม!K19 -> 0 | G17: =ประวัติ!K19 -> 0 | H17: =สุขพละ!K19 -> 0 | I17: =ศิลปะ!K19 -> 0 | J17: =การงาน!K19 -> 0 | K17: =ENG!K19 -> 0 | L17: =หน้าที่!K19 -> 0 | M17: =ต้าน!K19 -> 0 | N17: =AVERAGE(C17:L17) -> 0
... A28: 23 | B28: ='1.1'!B28 -> 0 | C28: =ไทย!K30 -> 0 | D28: =คณิต!K30 -> 0 | E28: =วิทย์!K30 -> 0 | F28: =สังคม!K30 -> 0 | G28: =ประวัติ!K30 -> 0 | H28: =สุขพละ!K30 -> 0 | I28: =ศิลปะ!K30 -> 0 | J28: =การงาน!K30 -> 0 | K28: =ENG!K30 -> 0 | L28: =หน้าที่!K30 -> 0 | M28: =ต้าน!K30 -> 0 | N28: =AVERAGE(C28:L28) -> 0

Sheet 3.3
A1: แบบประเมินคุณลักษณะอันพึงประสงค์
A2: ที่ | B2: ชื่อ - สกุล | C2: 3. มีวินัย | N2: รวม | O2: ผลการประเมิน
C3: 3.3 ปฏิบัติตนในกิจวัตรประจำวันโดยไม่ละเมิดสิทธิผู้อื่น
C4: ภาษาไทย | D4: คณิตศาสตร์ | E4: วิทยาศาสตร์ | F4: สังคมศึกษา | G4: ประวัติศาสตร์ | H4: สุข / พละ | I4: ศิลปะ | J4: การงานอาชีพ | K4: ภาษาอังกฤษ | L4: หน้าที่พลเมือง | M4: การป้องกันการทุจริต | O4: ดีเยี่ยม | P4: ดี | Q4: ผ่านเกณฑ์
A5: ระดับคุณภาพ | C5: =ไทย!L7 -> 3 | D5: =คณิต!L7 -> 3 | E5: =วิทย์!L7 -> 3 | F5: =สังคม!L7 -> 3 | G5: =ประวัติ!L7 -> 3 | H5: =สุขพละ!L7 -> 3 | I5: =ศิลปะ!L7 -> 3 | J5: =การงาน!L7 -> 3 | K5: =ENG!L7 -> 3 | L5: =หน้าที่!L7 -> 3 | M5: =ต้าน!L7 -> 3 | N5: =AVERAGE(C5:L5) -> 3
A6: 1 | B6: ='1.1'!B6 -> บาส | C6: =ไทย!L8 -> 0 | D6: =คณิต!L8 -> 0 | E6: =วิทย์!L8 -> 0 | F6: =สังคม!L8 -> 0 | G6: =ประวัติ!L8 -> 0 | H6: =สุขพละ!L8 -> 0 | I6: =ศิลปะ!L8 -> 0 | J6: =การงาน!L8 -> 0 | K6: =ENG!L8 -> 0 | L6: =หน้าที่!L8 -> 0 | M6: =ต้าน!L8 -> 0 | N6: =AVERAGE(C6:L6) -> 0
A7: 2 | B7: ='1.1'!B7 -> 0 | C7: =ไทย!L9 -> 0 | D7: =คณิต!L9 -> 0 | E7: =วิทย์!L9 -> 0 | F7: =สังคม!L9 -> 0 | G7: =ประวัติ!L9 -> 0 | H7: =สุขพละ!L9 -> 0 | I7: =ศิลปะ!L9 -> 0 | J7: =การงาน!L9 -> 0 | K7: =ENG!L9 -> 0 | L7: =หน้าที่!L9 -> 0 | M7: =ต้าน!L9 -> 0 | N7: =AVERAGE(C7:L7) -> 0
A8: 3 | B8: ='1.1'!B8 -> 0 | C8: =ไทย!L10 -> 0 | D8: =คณิต!L10 -> 0 | E8: =วิทย์!L10 -> 0 | F8: =สังคม!L10 -> 0 | G8: =ประวัติ!L10 -> 0 | H8: =สุขพละ!L10 -> 0 | I8: =ศิลปะ!L10 -> 0 | J8: =การงาน!L10 -> 0 | K8: =ENG!L10 -> 0 | L8: =หน้าที่!L10 -> 0 | M8: =ต้าน!L10 -> 0 | N8: =AVERAGE(C8:L8) -> 0
A9: 4 | B9: ='1.1'!B9 -> 0 | C9: =ไทย!L11 -> 0 | D9: =คณิต!L11 -> 0 | E9: =วิทย์!L11 -> 0 | F9: =สังคม!L11 -> 0 | G9: =ประวัติ!L11 -> 0 | H9: =สุขพละ!L11 -> 0 | I9: =ศิลปะ!L11 -> 0 | J9: =การงาน!L11 -> 0 | K9: =ENG!L11 -> 0 | L9: =หน้าที่!L11 -> 0 | M9: =ต้าน!L11 -> 0 | N9: =AVERAGE(C9:L9) -> 0
A10: 5 | B10: ='1.1'!B10 -> 0 | C10: =ไทย!L12 -> 0 | D10: =คณิต!L12 -> 0 | E10: =วิทย์!L12 -> 0 | F10: =สังคม!L12 -> 0 | G10: =ประวัติ!L12 -> 0 | H10: =สุขพละ!L12 -> 0 | I10: =ศิลปะ!L12 -> 0 | J10: =การงาน!L12 -> 0 | K10: =ENG!L12 -> 0 | L10: =หน้าที่!L12 -> 0 | M10: =ต้าน!L12 -> 0 | N10: =AVERAGE(C10:L10) -> 0
A11: 6 | B11: ='1.1'!B11 -> 0 | C11: =ไทย!L13 -> 0 | D11: =คณิต!L13 -> 0 | E11: =วิทย์!L13 -> 0 | F11: =สังคม!L13 -> 0 | G11: =ประวัติ!L13 -> 0 | H11: =สุขพละ!L13 -> 0 | I11: =ศิลปะ!L13 -> 0 | J11: =การงาน!L13 -> 0 | K11: =ENG!L13 -> 0 | L11: =หน้าที่!L13 -> 0 | M11: =ต้าน!L13 -> 0 | N11: =AVERAGE(C11:L11) -> 0
A12: 7 | B12: ='1.1'!B12 -> 0 | C12: =ไทย!L14 -> 0 | D12: =คณิต!L14 -> 0 | E12: =วิทย์!L14 -> 0 | F12: =สังคม!L14 -> 0 | G12: =ประวัติ!L14 -> 0 | H12: =สุขพละ!L14 -> 0 | I12: =ศิลปะ!L14 -> 0 | J12: =การงาน!L14 -> 0 | K12: =ENG!L14 -> 0 | L12: =หน้าที่!L14 -> 0 | M12: =ต้าน!L14 -> 0 | N12: =AVERAGE(C12:L12) -> 0
A13: 8 | B13: ='1.1'!B13 -> 0 | C13: =ไทย!L15 -> 0 | D13: =คณิต!L15 -> 0 | E13: =วิทย์!L15 -> 0 | F13: =สังคม!L15 -> 0 | G13: =ประวัติ!L15 -> 0 | H13: =สุขพละ!L15 -> 0 | I13: =ศิลปะ!L15 -> 0 | J13: =การงาน!L15 -> 0 | K13: =ENG!L15 -> 0 | L13: =หน้าที่!L15 -> 0 | M13: =ต้าน!L15 -> 0 | N13: =AVERAGE(C13:L13) -> 0
A14: 9 | B14: ='1.1'!B14 -> 0 | C14: =ไทย!L16 -> 0 | D14: =คณิต!L16 -> 0 | E14: =วิทย์!L16 -> 0 | F14: =สังคม!L16 -> 0 | G14: =ประวัติ!L16 -> 0 | H14: =สุขพละ!L16 -> 0 | I14: =ศิลปะ!L16 -> 0 | J14: =การงาน!L16 -> 0 | K14: =ENG!L16 -> 0 | L14: =หน้าที่!L16 -> 0 | M14: =ต้าน!L16 -> 0 | N14: =AVERAGE(C14:L14) -> 0
A15: 10 | B15: ='1.1'!B15 -> 0 | C15: =ไทย!L17 -> 0 | D15: =คณิต!L17 -> 0 | E15: =วิทย์!L17 -> 0 | F15: =สังคม!L17 -> 0 | G15: =ประวัติ!L17 -> 0 | H15: =สุขพละ!L17 -> 0 | I15: =ศิลปะ!L17 -> 0 | J15: =การงาน!L17 -> 0 | K15: =ENG!L17 -> 0 | L15: =หน้าที่!L17 -> 0 | M15: =ต้าน!L17 -> 0 | N15: =AVERAGE(C15:L15) -> 0
A16: 11 | B16: ='1.1'!B16 -> 0 | C16: =ไทย!L18 -> 0 | D16: =คณิต!L18 -> 0 | E16: =วิทย์!L18 -> 0 | F16: =สังคม!L18 -> 0 | G16: =ประวัติ!L18 -> 0 | H16: =สุขพละ!L18 -> 0 | I16: =ศิลปะ!L18 -> 0 | J16: =การงาน!L18 -> 0 | K16: =ENG!L18 -> 0 | L16: =หน้าที่!L18 -> 0 | M16: =ต้าน!L18 -> 0 | N16: =AVERAGE(C16:L16) -> 0
A17: 12 | B17: ='1.1'!B17 -> 0 | C17: =ไทย!L19 -> 0 | D17: =คณิต!L19 -> 0 | E17: =วิทย์!L19 -> 0 | F17: =สังคม!L19 -> 0 | G17: =ประวัติ!L19 -> 0 | H17: =สุขพละ!L19 -> 0 | I17: =ศิลปะ!L19 -> 0 | J17: =การงาน!L19 -> 0 | K17: =ENG!L19 -> 0 | L17: =หน้าที่!L19 -> 0 | M17: =ต้าน!L19 -> 0 | N17: =AVERAGE(C17:L17) -> 0
... A28: 23 | B28: ='1.1'!B28 -> 0 | C28: =ไทย!L30 -> 0 | D28: =คณิต!L30 -> 0 | E28: =วิทย์!L30 -> 0 | F28: =สังคม!L30 -> 0 | G28: =ประวัติ!L30 -> 0 | H28: =สุขพละ!L30 -> 0 | I28: =ศิลปะ!L30 -> 0 | J28: =การงาน!L30 -> 0 | K28: =ENG!L30 -> 0 | L28: =หน้าที่!L30 -> 0 | M28: =ต้าน!L30 -> 0 | N28: =AVERAGE(C28:L28) -> 0

Sheet สรุป 3
A1: แบบประเมินคุณลักษณะอันพึงประสงค์
A2: ที่ | B2: ชื่อ - สกุล | C2: 3. มีวินัย | N2: รวม | O2: ผลการประเมิน
C4: ภาษาไทย | D4: คณิตศาสตร์ | E4: วิทยาศาสตร์ | F4: สังคมศึกษา | G4: ประวัติศาสตร์ | H4: สุข / พละ | I4: ศิลปะ | J4: การงานอาชีพ | K4: ภาษาอังกฤษ | L4: หน้าที่พลเมือง | M4: การป้องกันการทุจริต | O4: ดีเยี่ยม | P4: ดี | Q4: ผ่านเกณฑ์
A5: ระดับคุณภาพ | C5: =('3.1'!C5+'3.2'!C5+'3.3'!C5)/3 -> 3 | D5: =('3.1'!D5+'3.2'!D5+'3.3'!D5)/3 -> 3 | E5: =('3.1'!E5+'3.2'!E5+'3.3'!E5)/3 -> 3 | F5: =('3.1'!F5+'3.2'!F5+'3.3'!F5)/3 -> 3 | G5: =('3.1'!G5+'3.2'!G5+'3.3'!G5)/3 -> 3 | H5: =('3.1'!H5+'3.2'!H5+'3.3'!H5)/3 -> 3 | I5: =('3.1'!I5+'3.2'!I5+'3.3'!I5)/3 -> 3 | J5: =('3.1'!J5+'3.2'!J5+'3.3'!J5)/3 -> 3 | ... M5: =('3.1'!M5+'3.2'!M5+'3.3'!M5)/3 -> 3 | N5: =AVERAGE(C5:L5) -> 3
A6: 1 | B6: ='1.1'!B6 -> บาส | C6: =('3.1'!C6+'3.2'!C6+'3.3'!C6)/3 -> 0 | D6: =('3.1'!D6+'3.2'!D6+'3.3'!D6)/3 -> 0 | E6: =('3.1'!E6+'3.2'!E6+'3.3'!E6)/3 -> 0 | F6: =('3.1'!F6+'3.2'!F6+'3.3'!F6)/3 -> 0 | G6: =('3.1'!G6+'3.2'!G6+'3.3'!G6)/3 -> 0 | H6: =('3.1'!H6+'3.2'!H6+'3.3'!H6)/3 -> 0 | I6: =('3.1'!I6+'3.2'!I6+'3.3'!I6)/3 -> 0 | J6: =('3.1'!J6+'3.2'!J6+'3.3'!J6)/3 -> 0 | ... M6: =('3.1'!M6+'3.2'!M6+'3.3'!M6)/3 -> 0 | N6: =AVERAGE(C6:L6) -> 0
A7: 2 | B7: ='1.1'!B7 -> 0 | C7: =('3.1'!C7+'3.2'!C7+'3.3'!C7)/3 -> 0 | D7: =('3.1'!D7+'3.2'!D7+'3.3'!D7)/3 -> 0 | E7: =('3.1'!E7+'3.2'!E7+'3.3'!E7)/3 -> 0 | F7: =('3.1'!F7+'3.2'!F7+'3.3'!F7)/3 -> 0 | G7: =('3.1'!G7+'3.2'!G7+'3.3'!G7)/3 -> 0 | H7: =('3.1'!H7+'3.2'!H7+'3.3'!H7)/3 -> 0 | I7: =('3.1'!I7+'3.2'!I7+'3.3'!I7)/3 -> 0 | J7: =('3.1'!J7+'3.2'!J7+'3.3'!J7)/3 -> 0 | ... M7: =('3.1'!M7+'3.2'!M7+'3.3'!M7)/3 -> 0 | N7: =AVERAGE(C7:L7) -> 0
A8: 3 | B8: ='1.1'!B8 -> 0 | C8: =('3.1'!C8+'3.2'!C8+'3.3'!C8)/3 -> 0 | D8: =('3.1'!D8+'3.2'!D8+'3.3'!D8)/3 -> 0 | E8: =('3.1'!E8+'3.2'!E8+'3.3'!E8)/3 -> 0 | F8: =('3.1'!F8+'3.2'!F8+'3.3'!F8)/3 -> 0 | G8: =('3.1'!G8+'3.2'!G8+'3.3'!G8)/3 -> 0 | H8: =('3.1'!H8+'3.2'!H8+'3.3'!H8)/3 -> 0 | I8: =('3.1'!I8+'3.2'!I8+'3.3'!I8)/3 -> 0 | J8: =('3.1'!J8+'3.2'!J8+'3.3'!J8)/3 -> 0 | ... M8: =('3.1'!M8+'3.2'!M8+'3.3'!M8)/3 -> 0 | N8: =AVERAGE(C8:L8) -> 0
A9: 4 | B9: ='1.1'!B9 -> 0 | C9: =('3.1'!C9+'3.2'!C9+'3.3'!C9)/3 -> 0 | D9: =('3.1'!D9+'3.2'!D9+'3.3'!D9)/3 -> 0 | E9: =('3.1'!E9+'3.2'!E9+'3.3'!E9)/3 -> 0 | F9: =('3.1'!F9+'3.2'!F9+'3.3'!F9)/3 -> 0 | G9: =('3.1'!G9+'3.2'!G9+'3.3'!G9)/3 -> 0 | H9: =('3.1'!H9+'3.2'!H9+'3.3'!H9)/3 -> 0 | I9: =('3.1'!I9+'3.2'!I9+'3.3'!I9)/3 -> 0 | J9: =('3.1'!J9+'3.2'!J9+'3.3'!J9)/3 -> 0 | ... M9: =('3.1'!M9+'3.2'!M9+'3.3'!M9)/3 -> 0 | N9: =AVERAGE(C9:L9) -> 0
A10: 5 | B10: ='1.1'!B10 -> 0 | C10: =('3.1'!C10+'3.2'!C10+'3.3'!C10)/3 -> 0 | D10: =('3.1'!D10+'3.2'!D10+'3.3'!D10)/3 -> 0 | E10: =('3.1'!E10+'3.2'!E10+'3.3'!E10)/3 -> 0 | F10: =('3.1'!F10+'3.2'!F10+'3.3'!F10)/3 -> 0 | G10: =('3.1'!G10+'3.2'!G10+'3.3'!G10)/3 -> 0 | H10: =('3.1'!H10+'3.2'!H10+'3.3'!H10)/3 -> 0 | I10: =('3.1'!I10+'3.2'!I10+'3.3'!I10)/3 -> 0 | J10: =('3.1'!J10+'3.2'!J10+'3.3'!J10)/3 -> 0 | ... M10: =('3.1'!M10+'3.2'!M10+'3.3'!M10)/3 -> 0 | N10: =AVERAGE(C10:L10) -> 0
A11: 6 | B11: ='1.1'!B11 -> 0 | C11: =('3.1'!C11+'3.2'!C11+'3.3'!C11)/3 -> 0 | D11: =('3.1'!D11+'3.2'!D11+'3.3'!D11)/3 -> 0 | E11: =('3.1'!E11+'3.2'!E11+'3.3'!E11)/3 -> 0 | F11: =('3.1'!F11+'3.2'!F11+'3.3'!F11)/3 -> 0 | G11: =('3.1'!G11+'3.2'!G11+'3.3'!G11)/3 -> 0 | H11: =('3.1'!H11+'3.2'!H11+'3.3'!H11)/3 -> 0 | I11: =('3.1'!I11+'3.2'!I11+'3.3'!I11)/3 -> 0 | J11: =('3.1'!J11+'3.2'!J11+'3.3'!J11)/3 -> 0 | ... M11: =('3.1'!M11+'3.2'!M11+'3.3'!M11)/3 -> 0 | N11: =AVERAGE(C11:L11) -> 0
A12: 7 | B12: ='1.1'!B12 -> 0 | C12: =('3.1'!C12+'3.2'!C12+'3.3'!C12)/3 -> 0 | D12: =('3.1'!D12+'3.2'!D12+'3.3'!D12)/3 -> 0 | E12: =('3.1'!E12+'3.2'!E12+'3.3'!E12)/3 -> 0 | F12: =('3.1'!F12+'3.2'!F12+'3.3'!F12)/3 -> 0 | G12: =('3.1'!G12+'3.2'!G12+'3.3'!G12)/3 -> 0 | H12: =('3.1'!H12+'3.2'!H12+'3.3'!H12)/3 -> 0 | I12: =('3.1'!I12+'3.2'!I12+'3.3'!I12)/3 -> 0 | J12: =('3.1'!J12+'3.2'!J12+'3.3'!J12)/3 -> 0 | ... M12: =('3.1'!M12+'3.2'!M12+'3.3'!M12)/3 -> 0 | N12: =AVERAGE(C12:L12) -> 0
A13: 8 | B13: ='1.1'!B13 -> 0 | C13: =('3.1'!C13+'3.2'!C13+'3.3'!C13)/3 -> 0 | D13: =('3.1'!D13+'3.2'!D13+'3.3'!D13)/3 -> 0 | E13: =('3.1'!E13+'3.2'!E13+'3.3'!E13)/3 -> 0 | F13: =('3.1'!F13+'3.2'!F13+'3.3'!F13)/3 -> 0 | G13: =('3.1'!G13+'3.2'!G13+'3.3'!G13)/3 -> 0 | H13: =('3.1'!H13+'3.2'!H13+'3.3'!H13)/3 -> 0 | I13: =('3.1'!I13+'3.2'!I13+'3.3'!I13)/3 -> 0 | J13: =('3.1'!J13+'3.2'!J13+'3.3'!J13)/3 -> 0 | ... M13: =('3.1'!M13+'3.2'!M13+'3.3'!M13)/3 -> 0 | N13: =AVERAGE(C13:L13) -> 0
A14: 9 | B14: ='1.1'!B14 -> 0 | C14: =('3.1'!C14+'3.2'!C14+'3.3'!C14)/3 -> 0 | D14: =('3.1'!D14+'3.2'!D14+'3.3'!D14)/3 -> 0 | E14: =('3.1'!E14+'3.2'!E14+'3.3'!E14)/3 -> 0 | F14: =('3.1'!F14+'3.2'!F14+'3.3'!F14)/3 -> 0 | G14: =('3.1'!G14+'3.2'!G14+'3.3'!G14)/3 -> 0 | H14: =('3.1'!H14+'3.2'!H14+'3.3'!H14)/3 -> 0 | I14: =('3.1'!I14+'3.2'!I14+'3.3'!I14)/3 -> 0 | J14: =('3.1'!J14+'3.2'!J14+'3.3'!J14)/3 -> 0 | ... M14: =('3.1'!M14+'3.2'!M14+'3.3'!M14)/3 -> 0 | N14: =AVERAGE(C14:L14) -> 0
A15: 10 | B15: ='1.1'!B15 -> 0 | C15: =('3.1'!C15+'3.2'!C15+'3.3'!C15)/3 -> 0 | D15: =('3.1'!D15+'3.2'!D15+'3.3'!D15)/3 -> 0 | E15: =('3.1'!E15+'3.2'!E15+'3.3'!E15)/3 -> 0 | F15: =('3.1'!F15+'3.2'!F15+'3.3'!F15)/3 -> 0 | G15: =('3.1'!G15+'3.2'!G15+'3.3'!G15)/3 -> 0 | H15: =('3.1'!H15+'3.2'!H15+'3.3'!H15)/3 -> 0 | I15: =('3.1'!I15+'3.2'!I15+'3.3'!I15)/3 -> 0 | J15: =('3.1'!J15+'3.2'!J15+'3.3'!J15)/3 -> 0 | ... M15: =('3.1'!M15+'3.2'!M15+'3.3'!M15)/3 -> 0 | N15: =AVERAGE(C15:L15) -> 0
A16: 11 | B16: ='1.1'!B16 -> 0 | C16: =('3.1'!C16+'3.2'!C16+'3.3'!C16)/3 -> 0 | D16: =('3.1'!D16+'3.2'!D16+'3.3'!D16)/3 -> 0 | E16: =('3.1'!E16+'3.2'!E16+'3.3'!E16)/3 -> 0 | F16: =('3.1'!F16+'3.2'!F16+'3.3'!F16)/3 -> 0 | G16: =('3.1'!G16+'3.2'!G16+'3.3'!G16)/3 -> 0 | H16: =('3.1'!H16+'3.2'!H16+'3.3'!H16)/3 -> 0 | I16: =('3.1'!I16+'3.2'!I16+'3.3'!I16)/3 -> 0 | J16: =('3.1'!J16+'3.2'!J16+'3.3'!J16)/3 -> 0 | ... M16: =('3.1'!M16+'3.2'!M16+'3.3'!M16)/3 -> 0 | N16: =AVERAGE(C16:L16) -> 0
A17: 12 | B17: ='1.1'!B17 -> 0 | C17: =('3.1'!C17+'3.2'!C17+'3.3'!C17)/3 -> 0 | D17: =('3.1'!D17+'3.2'!D17+'3.3'!D17)/3 -> 0 | E17: =('3.1'!E17+'3.2'!E17+'3.3'!E17)/3 -> 0 | F17: =('3.1'!F17+'3.2'!F17+'3.3'!F17)/3 -> 0 | G17: =('3.1'!G17+'3.2'!G17+'3.3'!G17)/3 -> 0 | H17: =('3.1'!H17+'3.2'!H17+'3.3'!H17)/3 -> 0 | I17: =('3.1'!I17+'3.2'!I17+'3.3'!I17)/3 -> 0 | J17: =('3.1'!J17+'3.2'!J17+'3.3'!J17)/3 -> 0 | ... M17: =('3.1'!M17+'3.2'!M17+'3.3'!M17)/3 -> 0 | N17: =AVERAGE(C17:L17) -> 0
... A28: 23 | B28: ='1.1'!B28 -> 0 | C28: =('3.1'!C28+'3.2'!C28+'3.3'!C28)/3 -> 0 | D28: =('3.1'!D28+'3.2'!D28+'3.3'!D28)/3 -> 0 | E28: =('3.1'!E28+'3.2'!E28+'3.3'!E28)/3 -> 0 | F28: =('3.1'!F28+'3.2'!F28+'3.3'!F28)/3 -> 0 | G28: =('3.1'!G28+'3.2'!G28+'3.3'!G28)/3 -> 0 | H28: =('3.1'!H28+'3.2'!H28+'3.3'!H28)/3 -> 0 | I28: =('3.1'!I28+'3.2'!I28+'3.3'!I28)/3 -> 0 | J28: =('3.1'!J28+'3.2'!J28+'3.3'!J28)/3 -> 0 | ... M28: =('3.1'!M28+'3.2'!M28+'3.3'!M28)/3 -> 0 | N28: =AVERAGE(C28:L28) -> 0

Sheet 4.1
A1: แบบประเมินคุณลักษณะอันพึงประสงค์
A2: ที่ | B2: ชื่อ - สกุล | C2: 4. ใฝ่เรียนรู้ | N2: รวม | O2: ผลการประเมิน
C3: 4.1 ตั้งใจ เพียรพยายามในการเรียน สนใจเข้าร่วมกิจกรรมการเรียนรู้ต่าง ๆ
C4: ภาษาไทย | D4: คณิตศาสตร์ | E4: วิทยาศาสตร์ | F4: สังคมศึกษา | G4: ประวัติศาสตร์ | H4: สุข / พละ | I4: ศิลปะ | J4: การงานอาชีพ | K4: ภาษาอังกฤษ | L4: หน้าที่พลเมือง | M4: การป้องกันการทุจริต | O4: ดีเยี่ยม | P4: ดี | Q4: ผ่านเกณฑ์
A5: ระดับคุณภาพ | C5: =ไทย!M7 -> 3 | D5: =คณิต!M7 -> 3 | E5: =วิทย์!M7 -> 3 | F5: =สังคม!M7 -> 3 | G5: =ประวัติ!M7 -> 3 | H5: =สุขพละ!M7 -> 3 | I5: =ศิลปะ!M7 -> 3 | J5: =การงาน!M7 -> 3 | K5: =ENG!M7 -> 3 | L5: =หน้าที่!M7 -> 3 | M5: =ต้าน!M7 -> 3 | N5: =AVERAGE(C5:L5) -> 3
A6: 1 | B6: ='1.1'!B6 -> บาส | C6: =ไทย!M8 -> 0 | D6: =คณิต!M8 -> 0 | E6: =วิทย์!M8 -> 0 | F6: =สังคม!M8 -> 0 | G6: =ประวัติ!M8 -> 0 | H6: =สุขพละ!M8 -> 0 | I6: =ศิลปะ!M8 -> 0 | J6: =การงาน!M8 -> 0 | K6: =ENG!M8 -> 0 | L6: =หน้าที่!M8 -> 0 | M6: =ต้าน!M8 -> 0 | N6: =AVERAGE(C6:L6) -> 0
A7: 2 | B7: ='1.1'!B7 -> 0 | C7: =ไทย!M9 -> 0 | D7: =คณิต!M9 -> 0 | E7: =วิทย์!M9 -> 0 | F7: =สังคม!M9 -> 0 | G7: =ประวัติ!M9 -> 0 | H7: =สุขพละ!M9 -> 0 | I7: =ศิลปะ!M9 -> 0 | J7: =การงาน!M9 -> 0 | K7: =ENG!M9 -> 0 | L7: =หน้าที่!M9 -> 0 | M7: =ต้าน!M9 -> 0 | N7: =AVERAGE(C7:L7) -> 0
A8: 3 | B8: ='1.1'!B8 -> 0 | C8: =ไทย!M10 -> 0 | D8: =คณิต!M10 -> 0 | E8: =วิทย์!M10 -> 0 | F8: =สังคม!M10 -> 0 | G8: =ประวัติ!M10 -> 0 | H8: =สุขพละ!M10 -> 0 | I8: =ศิลปะ!M10 -> 0 | J8: =การงาน!M10 -> 0 | K8: =ENG!M10 -> 0 | L8: =หน้าที่!M10 -> 0 | M8: =ต้าน!M10 -> 0 | N8: =AVERAGE(C8:L8) -> 0
A9: 4 | B9: ='1.1'!B9 -> 0 | C9: =ไทย!M11 -> 0 | D9: =คณิต!M11 -> 0 | E9: =วิทย์!M11 -> 0 | F9: =สังคม!M11 -> 0 | G9: =ประวัติ!M11 -> 0 | H9: =สุขพละ!M11 -> 0 | I9: =ศิลปะ!M11 -> 0 | J9: =การงาน!M11 -> 0 | K9: =ENG!M11 -> 0 | L9: =หน้าที่!M11 -> 0 | M9: =ต้าน!M11 -> 0 | N9: =AVERAGE(C9:L9) -> 0
A10: 5 | B10: ='1.1'!B10 -> 0 | C10: =ไทย!M12 -> 0 | D10: =คณิต!M12 -> 0 | E10: =วิทย์!M12 -> 0 | F10: =สังคม!M12 -> 0 | G10: =ประวัติ!M12 -> 0 | H10: =สุขพละ!M12 -> 0 | I10: =ศิลปะ!M12 -> 0 | J10: =การงาน!M12 -> 0 | K10: =ENG!M12 -> 0 | L10: =หน้าที่!M12 -> 0 | M10: =ต้าน!M12 -> 0 | N10: =AVERAGE(C10:L10) -> 0
A11: 6 | B11: ='1.1'!B11 -> 0 | C11: =ไทย!M13 -> 0 | D11: =คณิต!M13 -> 0 | E11: =วิทย์!M13 -> 0 | F11: =สังคม!M13 -> 0 | G11: =ประวัติ!M13 -> 0 | H11: =สุขพละ!M13 -> 0 | I11: =ศิลปะ!M13 -> 0 | J11: =การงาน!M13 -> 0 | K11: =ENG!M13 -> 0 | L11: =หน้าที่!M13 -> 0 | M11: =ต้าน!M13 -> 0 | N11: =AVERAGE(C11:L11) -> 0
A12: 7 | B12: ='1.1'!B12 -> 0 | C12: =ไทย!M14 -> 0 | D12: =คณิต!M14 -> 0 | E12: =วิทย์!M14 -> 0 | F12: =สังคม!M14 -> 0 | G12: =ประวัติ!M14 -> 0 | H12: =สุขพละ!M14 -> 0 | I12: =ศิลปะ!M14 -> 0 | J12: =การงาน!M14 -> 0 | K12: =ENG!M14 -> 0 | L12: =หน้าที่!M14 -> 0 | M12: =ต้าน!M14 -> 0 | N12: =AVERAGE(C12:L12) -> 0
A13: 8 | B13: ='1.1'!B13 -> 0 | C13: =ไทย!M15 -> 0 | D13: =คณิต!M15 -> 0 | E13: =วิทย์!M15 -> 0 | F13: =สังคม!M15 -> 0 | G13: =ประวัติ!M15 -> 0 | H13: =สุขพละ!M15 -> 0 | I13: =ศิลปะ!M15 -> 0 | J13: =การงาน!M15 -> 0 | K13: =ENG!M15 -> 0 | L13: =หน้าที่!M15 -> 0 | M13: =ต้าน!M15 -> 0 | N13: =AVERAGE(C13:L13) -> 0
A14: 9 | B14: ='1.1'!B14 -> 0 | C14: =ไทย!M16 -> 0 | D14: =คณิต!M16 -> 0 | E14: =วิทย์!M16 -> 0 | F14: =สังคม!M16 -> 0 | G14: =ประวัติ!M16 -> 0 | H14: =สุขพละ!M16 -> 0 | I14: =ศิลปะ!M16 -> 0 | J14: =การงาน!M16 -> 0 | K14: =ENG!M16 -> 0 | L14: =หน้าที่!M16 -> 0 | M14: =ต้าน!M16 -> 0 | N14: =AVERAGE(C14:L14) -> 0
A15: 10 | B15: ='1.1'!B15 -> 0 | C15: =ไทย!M17 -> 0 | D15: =คณิต!M17 -> 0 | E15: =วิทย์!M17 -> 0 | F15: =สังคม!M17 -> 0 | G15: =ประวัติ!M17 -> 0 | H15: =สุขพละ!M17 -> 0 | I15: =ศิลปะ!M17 -> 0 | J15: =การงาน!M17 -> 0 | K15: =ENG!M17 -> 0 | L15: =หน้าที่!M17 -> 0 | M15: =ต้าน!M17 -> 0 | N15: =AVERAGE(C15:L15) -> 0
A16: 11 | B16: ='1.1'!B16 -> 0 | C16: =ไทย!M18 -> 0 | D16: =คณิต!M18 -> 0 | E16: =วิทย์!M18 -> 0 | F16: =สังคม!M18 -> 0 | G16: =ประวัติ!M18 -> 0 | H16: =สุขพละ!M18 -> 0 | I16: =ศิลปะ!M18 -> 0 | J16: =การงาน!M18 -> 0 | K16: =ENG!M18 -> 0 | L16: =หน้าที่!M18 -> 0 | M16: =ต้าน!M18 -> 0 | N16: =AVERAGE(C16:L16) -> 0
A17: 12 | B17: ='1.1'!B17 -> 0 | C17: =ไทย!M19 -> 0 | D17: =คณิต!M19 -> 0 | E17: =วิทย์!M19 -> 0 | F17: =สังคม!M19 -> 0 | G17: =ประวัติ!M19 -> 0 | H17: =สุขพละ!M19 -> 0 | I17: =ศิลปะ!M19 -> 0 | J17: =การงาน!M19 -> 0 | K17: =ENG!M19 -> 0 | L17: =หน้าที่!M19 -> 0 | M17: =ต้าน!M19 -> 0 | N17: =AVERAGE(C17:L17) -> 0
... A28: 23 | B28: ='1.1'!B28 -> 0 | C28: =ไทย!M30 -> 0 | D28: =คณิต!M30 -> 0 | E28: =วิทย์!M30 -> 0 | F28: =สังคม!M30 -> 0 | G28: =ประวัติ!M30 -> 0 | H28: =สุขพละ!M30 -> 0 | I28: =ศิลปะ!M30 -> 0 | J28: =การงาน!M30 -> 0 | K28: =ENG!M30 -> 0 | L28: =หน้าที่!M30 -> 0 | M28: =ต้าน!M30 -> 0 | N28: =AVERAGE(C28:L28) -> 0

Sheet 4.2
A1: แบบประเมินคุณลักษณะอันพึงประสงค์
A2: ที่ | B2: ชื่อ - สกุล | C2: 4. ใฝ่เรียนรู้ | N2: รวม | O2: ผลการประเมิน
C3: 4.2 แสวงหา ศึกษา ค้นคว้าความรู้จากแหล่งการเรียนรู้ต่าง ๆ
C4: ภาษาไทย | D4: คณิตศาสตร์ | E4: วิทยาศาสตร์ | F4: สังคมศึกษา | G4: ประวัติศาสตร์ | H4: สุข / พละ | I4: ศิลปะ | J4: การงานอาชีพ | K4: ภาษาอังกฤษ | L4: หน้าที่พลเมือง | M4: การป้องกันการทุจริต | O4: ดีเยี่ยม | P4: ดี | Q4: ผ่านเกณฑ์
A5: ระดับคุณภาพ | C5: =ไทย!N7 -> 3 | D5: =คณิต!N7 -> 3 | E5: =วิทย์!N7 -> 3 | F5: =สังคม!N7 -> 3 | G5: =ประวัติ!N7 -> 3 | H5: =สุขพละ!N7 -> 3 | I5: =ศิลปะ!N7 -> 3 | J5: =การงาน!N7 -> 3 | K5: =ENG!N7 -> 3 | L5: =หน้าที่!N7 -> 3 | M5: =ต้าน!N7 -> 3 | N5: =AVERAGE(C5:L5) -> 3
A6: 1 | B6: ='1.1'!B6 -> บาส | C6: =ไทย!N8 -> 0 | D6: =คณิต!N8 -> 0 | E6: =วิทย์!N8 -> 0 | F6: =สังคม!N8 -> 0 | G6: =ประวัติ!N8 -> 0 | H6: =สุขพละ!N8 -> 0 | I6: =ศิลปะ!N8 -> 0 | J6: =การงาน!N8 -> 0 | K6: =ENG!N8 -> 0 | L6: =หน้าที่!N8 -> 0 | M6: =ต้าน!N8 -> 0 | N6: =AVERAGE(C6:L6) -> 0
A7: 2 | B7: ='1.1'!B7 -> 0 | C7: =ไทย!N9 -> 0 | D7: =คณิต!N9 -> 0 | E7: =วิทย์!N9 -> 0 | F7: =สังคม!N9 -> 0 | G7: =ประวัติ!N9 -> 0 | H7: =สุขพละ!N9 -> 0 | I7: =ศิลปะ!N9 -> 0 | J7: =การงาน!N9 -> 0 | K7: =ENG!N9 -> 0 | L7: =หน้าที่!N9 -> 0 | M7: =ต้าน!N9 -> 0 | N7: =AVERAGE(C7:L7) -> 0
A8: 3 | B8: ='1.1'!B8 -> 0 | C8: =ไทย!N10 -> 0 | D8: =คณิต!N10 -> 0 | E8: =วิทย์!N10 -> 0 | F8: =สังคม!N10 -> 0 | G8: =ประวัติ!N10 -> 0 | H8: =สุขพละ!N10 -> 0 | I8: =ศิลปะ!N10 -> 0 | J8: =การงาน!N10 -> 0 | K8: =ENG!N10 -> 0 | L8: =หน้าที่!N10 -> 0 | M8: =ต้าน!N10 -> 0 | N8: =AVERAGE(C8:L8) -> 0
A9: 4 | B9: ='1.1'!B9 -> 0 | C9: =ไทย!N11 -> 0 | D9: =คณิต!N11 -> 0 | E9: =วิทย์!N11 -> 0 | F9: =สังคม!N11 -> 0 | G9: =ประวัติ!N11 -> 0 | H9: =สุขพละ!N11 -> 0 | I9: =ศิลปะ!N11 -> 0 | J9: =การงาน!N11 -> 0 | K9: =ENG!N11 -> 0 | L9: =หน้าที่!N11 -> 0 | M9: =ต้าน!N11 -> 0 | N9: =AVERAGE(C9:L9) -> 0
A10: 5 | B10: ='1.1'!B10 -> 0 | C10: =ไทย!N12 -> 0 | D10: =คณิต!N12 -> 0 | E10: =วิทย์!N12 -> 0 | F10: =สังคม!N12 -> 0 | G10: =ประวัติ!N12 -> 0 | H10: =สุขพละ!N12 -> 0 | I10: =ศิลปะ!N12 -> 0 | J10: =การงาน!N12 -> 0 | K10: =ENG!N12 -> 0 | L10: =หน้าที่!N12 -> 0 | M10: =ต้าน!N12 -> 0 | N10: =AVERAGE(C10:L10) -> 0
A11: 6 | B11: ='1.1'!B11 -> 0 | C11: =ไทย!N13 -> 0 | D11: =คณิต!N13 -> 0 | E11: =วิทย์!N13 -> 0 | F11: =สังคม!N13 -> 0 | G11: =ประวัติ!N13 -> 0 | H11: =สุขพละ!N13 -> 0 | I11: =ศิลปะ!N13 -> 0 | J11: =การงาน!N13 -> 0 | K11: =ENG!N13 -> 0 | L11: =หน้าที่!N13 -> 0 | M11: =ต้าน!N13 -> 0 | N11: =AVERAGE(C11:L11) -> 0
A12: 7 | B12: ='1.1'!B12 -> 0 | C12: =ไทย!N14 -> 0 | D12: =คณิต!N14 -> 0 | E12: =วิทย์!N14 -> 0 | F12: =สังคม!N14 -> 0 | G12: =ประวัติ!N14 -> 0 | H12: =สุขพละ!N14 -> 0 | I12: =ศิลปะ!N14 -> 0 | J12: =การงาน!N14 -> 0 | K12: =ENG!N14 -> 0 | L12: =หน้าที่!N14 -> 0 | M12: =ต้าน!N14 -> 0 | N12: =AVERAGE(C12:L12) -> 0
A13: 8 | B13: ='1.1'!B13 -> 0 | C13: =ไทย!N15 -> 0 | D13: =คณิต!N15 -> 0 | E13: =วิทย์!N15 -> 0 | F13: =สังคม!N15 -> 0 | G13: =ประวัติ!N15 -> 0 | H13: =สุขพละ!N15 -> 0 | I13: =ศิลปะ!N15 -> 0 | J13: =การงาน!N15 -> 0 | K13: =ENG!N15 -> 0 | L13: =หน้าที่!N15 -> 0 | M13: =ต้าน!N15 -> 0 | N13: =AVERAGE(C13:L13) -> 0
A14: 9 | B14: ='1.1'!B14 -> 0 | C14: =ไทย!N16 -> 0 | D14: =คณิต!N16 -> 0 | E14: =วิทย์!N16 -> 0 | F14: =สังคม!N16 -> 0 | G14: =ประวัติ!N16 -> 0 | H14: =สุขพละ!N16 -> 0 | I14: =ศิลปะ!N16 -> 0 | J14: =การงาน!N16 -> 0 | K14: =ENG!N16 -> 0 | L14: =หน้าที่!N16 -> 0 | M14: =ต้าน!N16 -> 0 | N14: =AVERAGE(C14:L14) -> 0
A15: 10 | B15: ='1.1'!B15 -> 0 | C15: =ไทย!N17 -> 0 | D15: =คณิต!N17 -> 0 | E15: =วิทย์!N17 -> 0 | F15: =สังคม!N17 -> 0 | G15: =ประวัติ!N17 -> 0 | H15: =สุขพละ!N17 -> 0 | I15: =ศิลปะ!N17 -> 0 | J15: =การงาน!N17 -> 0 | K15: =ENG!N17 -> 0 | L15: =หน้าที่!N17 -> 0 | M15: =ต้าน!N17 -> 0 | N15: =AVERAGE(C15:L15) -> 0
A16: 11 | B16: ='1.1'!B16 -> 0 | C16: =ไทย!N18 -> 0 | D16: =คณิต!N18 -> 0 | E16: =วิทย์!N18 -> 0 | F16: =สังคม!N18 -> 0 | G16: =ประวัติ!N18 -> 0 | H16: =สุขพละ!N18 -> 0 | I16: =ศิลปะ!N18 -> 0 | J16: =การงาน!N18 -> 0 | K16: =ENG!N18 -> 0 | L16: =หน้าที่!N18 -> 0 | M16: =ต้าน!N18 -> 0 | N16: =AVERAGE(C16:L16) -> 0
A17: 12 | B17: ='1.1'!B17 -> 0 | C17: =ไทย!N19 -> 0 | D17: =คณิต!N19 -> 0 | E17: =วิทย์!N19 -> 0 | F17: =สังคม!N19 -> 0 | G17: =ประวัติ!N19 -> 0 | H17: =สุขพละ!N19 -> 0 | I17: =ศิลปะ!N19 -> 0 | J17: =การงาน!N19 -> 0 | K17: =ENG!N19 -> 0 | L17: =หน้าที่!N19 -> 0 | M17: =ต้าน!N19 -> 0 | N17: =AVERAGE(C17:L17) -> 0
... A28: 23 | B28: ='1.1'!B28 -> 0 | C28: =ไทย!N30 -> 0 | D28: =คณิต!N30 -> 0 | E28: =วิทย์!N30 -> 0 | F28: =สังคม!N30 -> 0 | G28: =ประวัติ!N30 -> 0 | H28: =สุขพละ!N30 -> 0 | I28: =ศิลปะ!N30 -> 0 | J28: =การงาน!N30 -> 0 | K28: =ENG!N30 -> 0 | L28: =หน้าที่!N30 -> 0 | M28: =ต้าน!N30 -> 0 | N28: =AVERAGE(C28:L28) -> 0

Sheet 4.3
A1: แบบประเมินคุณลักษณะอันพึงประสงค์
A2: ที่ | B2: ชื่อ - สกุล | C2: 4. ใฝ่เรียนรู้ | N2: รวม | O2: ผลการประเมิน
C3: 4.3 บันทึกความรู้วิเคราะห์ตรวจสอบ แลกเปลี่ยนเรียนรู้
C4: ภาษาไทย | D4: คณิตศาสตร์ | E4: วิทยาศาสตร์ | F4: สังคมศึกษา | G4: ประวัติศาสตร์ | H4: สุข / พละ | I4: ศิลปะ | J4: การงานอาชีพ | K4: ภาษาอังกฤษ | L4: หน้าที่พลเมือง | M4: การป้องกันการทุจริต | O4: ดีเยี่ยม | P4: ดี | Q4: ผ่านเกณฑ์
A5: ระดับคุณภาพ | C5: =ไทย!O7 -> 3 | D5: =คณิต!O7 -> 3 | E5: =วิทย์!O7 -> 3 | F5: =สังคม!O7 -> 3 | G5: =ประวัติ!O7 -> 3 | H5: =สุขพละ!O7 -> 3 | I5: =ศิลปะ!O7 -> 3 | J5: =การงาน!O7 -> 3 | K5: =ENG!O7 -> 3 | L5: =หน้าที่!O7 -> 3 | M5: =ต้าน!O7 -> 3 | N5: =AVERAGE(C5:L5) -> 3
A6: 1 | B6: ='1.1'!B6 -> บาส | C6: =ไทย!O8 -> 0 | D6: =คณิต!O8 -> 0 | E6: =วิทย์!O8 -> 0 | F6: =สังคม!O8 -> 0 | G6: =ประวัติ!O8 -> 0 | H6: =สุขพละ!O8 -> 0 | I6: =ศิลปะ!O8 -> 0 | J6: =การงาน!O8 -> 0 | K6: =ENG!O8 -> 0 | L6: =หน้าที่!O8 -> 0 | M6: =ต้าน!O8 -> 0 | N6: =AVERAGE(C6:L6) -> 0
A7: 2 | B7: ='1.1'!B7 -> 0 | C7: =ไทย!O9 -> 0 | D7: =คณิต!O9 -> 0 | E7: =วิทย์!O9 -> 0 | F7: =สังคม!O9 -> 0 | G7: =ประวัติ!O9 -> 0 | H7: =สุขพละ!O9 -> 0 | I7: =ศิลปะ!O9 -> 0 | J7: =การงาน!O9 -> 0 | K7: =ENG!O9 -> 0 | L7: =หน้าที่!O9 -> 0 | M7: =ต้าน!O9 -> 0 | N7: =AVERAGE(C7:L7) -> 0
A8: 3 | B8: ='1.1'!B8 -> 0 | C8: =ไทย!O10 -> 0 | D8: =คณิต!O10 -> 0 | E8: =วิทย์!O10 -> 0 | F8: =สังคม!O10 -> 0 | G8: =ประวัติ!O10 -> 0 | H8: =สุขพละ!O10 -> 0 | I8: =ศิลปะ!O10 -> 0 | J8: =การงาน!O10 -> 0 | K8: =ENG!O10 -> 0 | L8: =หน้าที่!O10 -> 0 | M8: =ต้าน!O10 -> 0 | N8: =AVERAGE(C8:L8) -> 0
A9: 4 | B9: ='1.1'!B9 -> 0 | C9: =ไทย!O11 -> 0 | D9: =คณิต!O11 -> 0 | E9: =วิทย์!O11 -> 0 | F9: =สังคม!O11 -> 0 | G9: =ประวัติ!O11 -> 0 | H9: =สุขพละ!O11 -> 0 | I9: =ศิลปะ!O11 -> 0 | J9: =การงาน!O11 -> 0 | K9: =ENG!O11 -> 0 | L9: =หน้าที่!O11 -> 0 | M9: =ต้าน!O11 -> 0 | N9: =AVERAGE(C9:L9) -> 0
A10: 5 | B10: ='1.1'!B10 -> 0 | C10: =ไทย!O12 -> 0 | D10: =คณิต!O12 -> 0 | E10: =วิทย์!O12 -> 0 | F10: =สังคม!O12 -> 0 | G10: =ประวัติ!O12 -> 0 | H10: =สุขพละ!O12 -> 0 | I10: =ศิลปะ!O12 -> 0 | J10: =การงาน!O12 -> 0 | K10: =ENG!O12 -> 0 | L10: =หน้าที่!O12 -> 0 | M10: =ต้าน!O12 -> 0 | N10: =AVERAGE(C10:L10) -> 0
A11: 6 | B11: ='1.1'!B11 -> 0 | C11: =ไทย!O13 -> 0 | D11: =คณิต!O13 -> 0 | E11: =วิทย์!O13 -> 0 | F11: =สังคม!O13 -> 0 | G11: =ประวัติ!O13 -> 0 | H11: =สุขพละ!O13 -> 0 | I11: =ศิลปะ!O13 -> 0 | J11: =การงาน!O13 -> 0 | K11: =ENG!O13 -> 0 | L11: =หน้าที่!O13 -> 0 | M11: =ต้าน!O13 -> 0 | N11: =AVERAGE(C11:L11) -> 0
A12: 7 | B12: ='1.1'!B12 -> 0 | C12: =ไทย!O14 -> 0 | D12: =คณิต!O14 -> 0 | E12: =วิทย์!O14 -> 0 | F12: =สังคม!O14 -> 0 | G12: =ประวัติ!O14 -> 0 | H12: =สุขพละ!O14 -> 0 | I12: =ศิลปะ!O14 -> 0 | J12: =การงาน!O14 -> 0 | K12: =ENG!O14 -> 0 | L12: =หน้าที่!O14 -> 0 | M12: =ต้าน!O14 -> 0 | N12: =AVERAGE(C12:L12) -> 0
A13: 8 | B13: ='1.1'!B13 -> 0 | C13: =ไทย!O15 -> 0 | D13: =คณิต!O15 -> 0 | E13: =วิทย์!O15 -> 0 | F13: =สังคม!O15 -> 0 | G13: =ประวัติ!O15 -> 0 | H13: =สุขพละ!O15 -> 0 | I13: =ศิลปะ!O15 -> 0 | J13: =การงาน!O15 -> 0 | K13: =ENG!O15 -> 0 | L13: =หน้าที่!O15 -> 0 | M13: =ต้าน!O15 -> 0 | N13: =AVERAGE(C13:L13) -> 0
A14: 9 | B14: ='1.1'!B14 -> 0 | C14: =ไทย!O16 -> 0 | D14: =คณิต!O16 -> 0 | E14: =วิทย์!O16 -> 0 | F14: =สังคม!O16 -> 0 | G14: =ประวัติ!O16 -> 0 | H14: =สุขพละ!O16 -> 0 | I14: =ศิลปะ!O16 -> 0 | J14: =การงาน!O16 -> 0 | K14: =ENG!O16 -> 0 | L14: =หน้าที่!O16 -> 0 | M14: =ต้าน!O16 -> 0 | N14: =AVERAGE(C14:L14) -> 0
A15: 10 | B15: ='1.1'!B15 -> 0 | C15: =ไทย!O17 -> 0 | D15: =คณิต!O17 -> 0 | E15: =วิทย์!O17 -> 0 | F15: =สังคม!O17 -> 0 | G15: =ประวัติ!O17 -> 0 | H15: =สุขพละ!O17 -> 0 | I15: =ศิลปะ!O17 -> 0 | J15: =การงาน!O17 -> 0 | K15: =ENG!O17 -> 0 | L15: =หน้าที่!O17 -> 0 | M15: =ต้าน!O17 -> 0 | N15: =AVERAGE(C15:L15) -> 0
A16: 11 | B16: ='1.1'!B16 -> 0 | C16: =ไทย!O18 -> 0 | D16: =คณิต!O18 -> 0 | E16: =วิทย์!O18 -> 0 | F16: =สังคม!O18 -> 0 | G16: =ประวัติ!O18 -> 0 | H16: =สุขพละ!O18 -> 0 | I16: =ศิลปะ!O18 -> 0 | J16: =การงาน!O18 -> 0 | K16: =ENG!O18 -> 0 | L16: =หน้าที่!O18 -> 0 | M16: =ต้าน!O18 -> 0 | N16: =AVERAGE(C16:L16) -> 0
A17: 12 | B17: ='1.1'!B17 -> 0 | C17: =ไทย!O19 -> 0 | D17: =คณิต!O19 -> 0 | E17: =วิทย์!O19 -> 0 | F17: =สังคม!O19 -> 0 | G17: =ประวัติ!O19 -> 0 | H17: =สุขพละ!O19 -> 0 | I17: =ศิลปะ!O19 -> 0 | J17: =การงาน!O19 -> 0 | K17: =ENG!O19 -> 0 | L17: =หน้าที่!O19 -> 0 | M17: =ต้าน!O19 -> 0 | N17: =AVERAGE(C17:L17) -> 0
... A28: 23 | B28: ='1.1'!B28 -> 0 | C28: =ไทย!O30 -> 0 | D28: =คณิต!O30 -> 0 | E28: =วิทย์!O30 -> 0 | F28: =สังคม!O30 -> 0 | G28: =ประวัติ!O30 -> 0 | H28: =สุขพละ!O30 -> 0 | I28: =ศิลปะ!O30 -> 0 | J28: =การงาน!O30 -> 0 | K28: =ENG!O30 -> 0 | L28: =หน้าที่!O30 -> 0 | M28: =ต้าน!O30 -> 0 | N28: =AVERAGE(C28:L28) -> 0

Sheet สรุป 4
A1: แบบประเมินคุณลักษณะอันพึงประสงค์
A2: ที่ | B2: ชื่อ - สกุล | C2: 4. ใฝ่เรียนรู้ | N2: รวม | O2: ผลการประเมิน
C4: ภาษาไทย | D4: คณิตศาสตร์ | E4: วิทยาศาสตร์ | F4: สังคมศึกษา | G4: ประวัติศาสตร์ | H4: สุข / พละ | I4: ศิลปะ | J4: การงานอาชีพ | K4: ภาษาอังกฤษ | L4: หน้าที่พลเมือง | M4: การป้องกันการทุจริต | O4: ดีเยี่ยม | P4: ดี | Q4: ผ่านเกณฑ์
A5: ระดับคุณภาพ | C5: =('4.1'!C5+'4.2'!C5+'4.3'!C5)/3 -> 3 | D5: =('4.1'!D5+'4.2'!D5+'4.3'!D5)/3 -> 3 | E5: =('4.1'!E5+'4.2'!E5+'4.3'!E5)/3 -> 3 | F5: =('4.1'!F5+'4.2'!F5+'4.3'!F5)/3 -> 3 | G5: =('4.1'!G5+'4.2'!G5+'4.3'!G5)/3 -> 3 | H5: =('4.1'!H5+'4.2'!H5+'4.3'!H5)/3 -> 3 | I5: =('4.1'!I5+'4.2'!I5+'4.3'!I5)/3 -> 3 | J5: =('4.1'!J5+'4.2'!J5+'4.3'!J5)/3 -> 3 | ... M5: =('4.1'!M5+'4.2'!M5+'4.3'!M5)/3 -> 3 | N5: =AVERAGE(C5:L5) -> 3
A6: 1 | B6: ='1.1'!B6 -> บาส | C6: =('4.1'!C6+'4.2'!C6+'4.3'!C6)/3 -> 0 | D6: =('4.1'!D6+'4.2'!D6+'4.3'!D6)/3 -> 0 | E6: =('4.1'!E6+'4.2'!E6+'4.3'!E6)/3 -> 0 | F6: =('4.1'!F6+'4.2'!F6+'4.3'!F6)/3 -> 0 | G6: =('4.1'!G6+'4.2'!G6+'4.3'!G6)/3 -> 0 | H6: =('4.1'!H6+'4.2'!H6+'4.3'!H6)/3 -> 0 | I6: =('4.1'!I6+'4.2'!I6+'4.3'!I6)/3 -> 0 | J6: =('4.1'!J6+'4.2'!J6+'4.3'!J6)/3 -> 0 | ... M6: =('4.1'!M6+'4.2'!M6+'4.3'!M6)/3 -> 0 | N6: =AVERAGE(C6:L6) -> 0
A7: 2 | B7: ='1.1'!B7 -> 0 | C7: =('4.1'!C7+'4.2'!C7+'4.3'!C7)/3 -> 0 | D7: =('4.1'!D7+'4.2'!D7+'4.3'!D7)/3 -> 0 | E7: =('4.1'!E7+'4.2'!E7+'4.3'!E7)/3 -> 0 | F7: =('4.1'!F7+'4.2'!F7+'4.3'!F7)/3 -> 0 | G7: =('4.1'!G7+'4.2'!G7+'4.3'!G7)/3 -> 0 | H7: =('4.1'!H7+'4.2'!H7+'4.3'!H7)/3 -> 0 | I7: =('4.1'!I7+'4.2'!I7+'4.3'!I7)/3 -> 0 | J7: =('4.1'!J7+'4.2'!J7+'4.3'!J7)/3 -> 0 | ... M7: =('4.1'!M7+'4.2'!M7+'4.3'!M7)/3 -> 0 | N7: =AVERAGE(C7:L7) -> 0
A8: 3 | B8: ='1.1'!B8 -> 0 | C8: =('4.1'!C8+'4.2'!C8+'4.3'!C8)/3 -> 0 | D8: =('4.1'!D8+'4.2'!D8+'4.3'!D8)/3 -> 0 | E8: =('4.1'!E8+'4.2'!E8+'4.3'!E8)/3 -> 0 | F8: =('4.1'!F8+'4.2'!F8+'4.3'!F8)/3 -> 0 | G8: =('4.1'!G8+'4.2'!G8+'4.3'!G8)/3 -> 0 | H8: =('4.1'!H8+'4.2'!H8+'4.3'!H8)/3 -> 0 | I8: =('4.1'!I8+'4.2'!I8+'4.3'!I8)/3 -> 0 | J8: =('4.1'!J8+'4.2'!J8+'4.3'!J8)/3 -> 0 | ... M8: =('4.1'!M8+'4.2'!M8+'4.3'!M8)/3 -> 0 | N8: =AVERAGE(C8:L8) -> 0
A9: 4 | B9: ='1.1'!B9 -> 0 | C9: =('4.1'!C9+'4.2'!C9+'4.3'!C9)/3 -> 0 | D9: =('4.1'!D9+'4.2'!D9+'4.3'!D9)/3 -> 0 | E9: =('4.1'!E9+'4.2'!E9+'4.3'!E9)/3 -> 0 | F9: =('4.1'!F9+'4.2'!F9+'4.3'!F9)/3 -> 0 | G9: =('4.1'!G9+'4.2'!G9+'4.3'!G9)/3 -> 0 | H9: =('4.1'!H9+'4.2'!H9+'4.3'!H9)/3 -> 0 | I9: =('4.1'!I9+'4.2'!I9+'4.3'!I9)/3 -> 0 | J9: =('4.1'!J9+'4.2'!J9+'4.3'!J9)/3 -> 0 | ... M9: =('4.1'!M9+'4.2'!M9+'4.3'!M9)/3 -> 0 | N9: =AVERAGE(C9:L9) -> 0
A10: 5 | B10: ='1.1'!B10 -> 0 | C10: =('4.1'!C10+'4.2'!C10+'4.3'!C10)/3 -> 0 | D10: =('4.1'!D10+'4.2'!D10+'4.3'!D10)/3 -> 0 | E10: =('4.1'!E10+'4.2'!E10+'4.3'!E10)/3 -> 0 | F10: =('4.1'!F10+'4.2'!F10+'4.3'!F10)/3 -> 0 | G10: =('4.1'!G10+'4.2'!G10+'4.3'!G10)/3 -> 0 | H10: =('4.1'!H10+'4.2'!H10+'4.3'!H10)/3 -> 0 | I10: =('4.1'!I10+'4.2'!I10+'4.3'!I10)/3 -> 0 | J10: =('4.1'!J10+'4.2'!J10+'4.3'!J10)/3 -> 0 | ... M10: =('4.1'!M10+'4.2'!M10+'4.3'!M10)/3 -> 0 | N10: =AVERAGE(C10:L10) -> 0
A11: 6 | B11: ='1.1'!B11 -> 0 | C11: =('4.1'!C11+'4.2'!C11+'4.3'!C11)/3 -> 0 | D11: =('4.1'!D11+'4.2'!D11+'4.3'!D11)/3 -> 0 | E11: =('4.1'!E11+'4.2'!E11+'4.3'!E11)/3 -> 0 | F11: =('4.1'!F11+'4.2'!F11+'4.3'!F11)/3 -> 0 | G11: =('4.1'!G11+'4.2'!G11+'4.3'!G11)/3 -> 0 | H11: =('4.1'!H11+'4.2'!H11+'4.3'!H11)/3 -> 0 | I11: =('4.1'!I11+'4.2'!I11+'4.3'!I11)/3 -> 0 | J11: =('4.1'!J11+'4.2'!J11+'4.3'!J11)/3 -> 0 | ... M11: =('4.1'!M11+'4.2'!M11+'4.3'!M11)/3 -> 0 | N11: =AVERAGE(C11:L11) -> 0
A12: 7 | B12: ='1.1'!B12 -> 0 | C12: =('4.1'!C12+'4.2'!C12+'4.3'!C12)/3 -> 0 | D12: =('4.1'!D12+'4.2'!D12+'4.3'!D12)/3 -> 0 | E12: =('4.1'!E12+'4.2'!E12+'4.3'!E12)/3 -> 0 | F12: =('4.1'!F12+'4.2'!F12+'4.3'!F12)/3 -> 0 | G12: =('4.1'!G12+'4.2'!G12+'4.3'!G12)/3 -> 0 | H12: =('4.1'!H12+'4.2'!H12+'4.3'!H12)/3 -> 0 | I12: =('4.1'!I12+'4.2'!I12+'4.3'!I12)/3 -> 0 | J12: =('4.1'!J12+'4.2'!J12+'4.3'!J12)/3 -> 0 | ... M12: =('4.1'!M12+'4.2'!M12+'4.3'!M12)/3 -> 0 | N12: =AVERAGE(C12:L12) -> 0
A13: 8 | B13: ='1.1'!B13 -> 0 | C13: =('4.1'!C13+'4.2'!C13+'4.3'!C13)/3 -> 0 | D13: =('4.1'!D13+'4.2'!D13+'4.3'!D13)/3 -> 0 | E13: =('4.1'!E13+'4.2'!E13+'4.3'!E13)/3 -> 0 | F13: =('4.1'!F13+'4.2'!F13+'4.3'!F13)/3 -> 0 | G13: =('4.1'!G13+'4.2'!G13+'4.3'!G13)/3 -> 0 | H13: =('4.1'!H13+'4.2'!H13+'4.3'!H13)/3 -> 0 | I13: =('4.1'!I13+'4.2'!I13+'4.3'!I13)/3 -> 0 | J13: =('4.1'!J13+'4.2'!J13+'4.3'!J13)/3 -> 0 | ... M13: =('4.1'!M13+'4.2'!M13+'4.3'!M13)/3 -> 0 | N13: =AVERAGE(C13:L13) -> 0
A14: 9 | B14: ='1.1'!B14 -> 0 | C14: =('4.1'!C14+'4.2'!C14+'4.3'!C14)/3 -> 0 | D14: =('4.1'!D14+'4.2'!D14+'4.3'!D14)/3 -> 0 | E14: =('4.1'!E14+'4.2'!E14+'4.3'!E14)/3 -> 0 | F14: =('4.1'!F14+'4.2'!F14+'4.3'!F14)/3 -> 0 | G14: =('4.1'!G14+'4.2'!G14+'4.3'!G14)/3 -> 0 | H14: =('4.1'!H14+'4.2'!H14+'4.3'!H14)/3 -> 0 | I14: =('4.1'!I14+'4.2'!I14+'4.3'!I14)/3 -> 0 | J14: =('4.1'!J14+'4.2'!J14+'4.3'!J14)/3 -> 0 | ... M14: =('4.1'!M14+'4.2'!M14+'4.3'!M14)/3 -> 0 | N14: =AVERAGE(C14:L14) -> 0
A15: 10 | B15: ='1.1'!B15 -> 0 | C15: =('4.1'!C15+'4.2'!C15+'4.3'!C15)/3 -> 0 | D15: =('4.1'!D15+'4.2'!D15+'4.3'!D15)/3 -> 0 | E15: =('4.1'!E15+'4.2'!E15+'4.3'!E15)/3 -> 0 | F15: =('4.1'!F15+'4.2'!F15+'4.3'!F15)/3 -> 0 | G15: =('4.1'!G15+'4.2'!G15+'4.3'!G15)/3 -> 0 | H15: =('4.1'!H15+'4.2'!H15+'4.3'!H15)/3 -> 0 | I15: =('4.1'!I15+'4.2'!I15+'4.3'!I15)/3 -> 0 | J15: =('4.1'!J15+'4.2'!J15+'4.3'!J15)/3 -> 0 | ... M15: =('4.1'!M15+'4.2'!M15+'4.3'!M15)/3 -> 0 | N15: =AVERAGE(C15:L15) -> 0
A16: 11 | B16: ='1.1'!B16 -> 0 | C16: =('4.1'!C16+'4.2'!C16+'4.3'!C16)/3 -> 0 | D16: =('4.1'!D16+'4.2'!D16+'4.3'!D16)/3 -> 0 | E16: =('4.1'!E16+'4.2'!E16+'4.3'!E16)/3 -> 0 | F16: =('4.1'!F16+'4.2'!F16+'4.3'!F16)/3 -> 0 | G16: =('4.1'!G16+'4.2'!G16+'4.3'!G16)/3 -> 0 | H16: =('4.1'!H16+'4.2'!H16+'4.3'!H16)/3 -> 0 | I16: =('4.1'!I16+'4.2'!I16+'4.3'!I16)/3 -> 0 | J16: =('4.1'!J16+'4.2'!J16+'4.3'!J16)/3 -> 0 | ... M16: =('4.1'!M16+'4.2'!M16+'4.3'!M16)/3 -> 0 | N16: =AVERAGE(C16:L16) -> 0
A17: 12 | B17: ='1.1'!B17 -> 0 | C17: =('4.1'!C17+'4.2'!C17+'4.3'!C17)/3 -> 0 | D17: =('4.1'!D17+'4.2'!D17+'4.3'!D17)/3 -> 0 | E17: =('4.1'!E17+'4.2'!E17+'4.3'!E17)/3 -> 0 | F17: =('4.1'!F17+'4.2'!F17+'4.3'!F17)/3 -> 0 | G17: =('4.1'!G17+'4.2'!G17+'4.3'!G17)/3 -> 0 | H17: =('4.1'!H17+'4.2'!H17+'4.3'!H17)/3 -> 0 | I17: =('4.1'!I17+'4.2'!I17+'4.3'!I17)/3 -> 0 | J17: =('4.1'!J17+'4.2'!J17+'4.3'!J17)/3 -> 0 | ... M17: =('4.1'!M17+'4.2'!M17+'4.3'!M17)/3 -> 0 | N17: =AVERAGE(C17:L17) -> 0
... A28: 23 | B28: ='1.1'!B28 -> 0 | C28: =('4.1'!C28+'4.2'!C28+'4.3'!C28)/3 -> 0 | D28: =('4.1'!D28+'4.2'!D28+'4.3'!D28)/3 -> 0 | E28: =('4.1'!E28+'4.2'!E28+'4.3'!E28)/3 -> 0 | F28: =('4.1'!F28+'4.2'!F28+'4.3'!F28)/3 -> 0 | G28: =('4.1'!G28+'4.2'!G28+'4.3'!G28)/3 -> 0 | H28: =('4.1'!H28+'4.2'!H28+'4.3'!H28)/3 -> 0 | I28: =('4.1'!I28+'4.2'!I28+'4.3'!I28)/3 -> 0 | J28: =('4.1'!J28+'4.2'!J28+'4.3'!J28)/3 -> 0 | ... M28: =('4.1'!M28+'4.2'!M28+'4.3'!M28)/3 -> 0 | N28: =AVERAGE(C28:L28) -> 0

Sheet 5.1
A1: แบบประเมินคุณลักษณะอันพึงประสงค์
A2: ที่ | B2: ชื่อ - สกุล | C2: 5. อยู่อย่างพอเพียง | N2: รวม | O2: ผลการประเมิน
C3: 5.1 ใช้ทรัพย์สินของตนเองและของร่วมอย่างประหยัด คุ้มค่า รวมทั้งใช้ เวลาอย่างเหมาะสม
C4: ภาษาไทย | D4: คณิตศาสตร์ | E4: วิทยาศาสตร์ | F4: สังคมศึกษา | G4: ประวัติศาสตร์ | H4: สุข / พละ | I4: ศิลปะ | J4: การงานอาชีพ | K4: ภาษาอังกฤษ | L4: หน้าที่พลเมือง | M4: การป้องกันการทุจริต | O4: ดีเยี่ยม | P4: ดี | Q4: ผ่านเกณฑ์
A5: ระดับคุณภาพ | C5: =ไทย!P7 -> 3 | D5: =คณิต!P7 -> 3 | E5: =วิทย์!P7 -> 3 | F5: =สังคม!P7 -> 3 | G5: =ประวัติ!P7 -> 3 | H5: =สุขพละ!P7 -> 3 | I5: =ศิลปะ!P7 -> 3 | J5: =การงาน!P7 -> 3 | K5: =ENG!P7 -> 3 | L5: =หน้าที่!P7 -> 3 | M5: =ต้าน!P7 -> 3 | N5: =AVERAGE(C5:L5) -> 3
A6: 1 | B6: ='1.1'!B6 -> บาส | C6: =ไทย!P8 -> 0 | D6: =คณิต!P8 -> 0 | E6: =วิทย์!P8 -> 0 | F6: =สังคม!P8 -> 0 | G6: =ประวัติ!P8 -> 0 | H6: =สุขพละ!P8 -> 0 | I6: =ศิลปะ!P8 -> 0 | J6: =การงาน!P8 -> 0 | K6: =ENG!P8 -> 0 | L6: =หน้าที่!P8 -> 0 | M6: =ต้าน!P8 -> 0 | N6: =AVERAGE(C6:L6) -> 0
A7: 2 | B7: ='1.1'!B7 -> 0 | C7: =ไทย!P9 -> 0 | D7: =คณิต!P9 -> 0 | E7: =วิทย์!P9 -> 0 | F7: =สังคม!P9 -> 0 | G7: =ประวัติ!P9 -> 0 | H7: =สุขพละ!P9 -> 0 | I7: =ศิลปะ!P9 -> 0 | J7: =การงาน!P9 -> 0 | K7: =ENG!P9 -> 0 | L7: =หน้าที่!P9 -> 0 | M7: =ต้าน!P9 -> 0 | N7: =AVERAGE(C7:L7) -> 0
A8: 3 | B8: ='1.1'!B8 -> 0 | C8: =ไทย!P10 -> 0 | D8: =คณิต!P10 -> 0 | E8: =วิทย์!P10 -> 0 | F8: =สังคม!P10 -> 0 | G8: =ประวัติ!P10 -> 0 | H8: =สุขพละ!P10 -> 0 | I8: =ศิลปะ!P10 -> 0 | J8: =การงาน!P10 -> 0 | K8: =ENG!P10 -> 0 | L8: =หน้าที่!P10 -> 0 | M8: =ต้าน!P10 -> 0 | N8: =AVERAGE(C8:L8) -> 0
A9: 4 | B9: ='1.1'!B9 -> 0 | C9: =ไทย!P11 -> 0 | D9: =คณิต!P11 -> 0 | E9: =วิทย์!P11 -> 0 | F9: =สังคม!P11 -> 0 | G9: =ประวัติ!P11 -> 0 | H9: =สุขพละ!P11 -> 0 | I9: =ศิลปะ!P11 -> 0 | J9: =การงาน!P11 -> 0 | K9: =ENG!P11 -> 0 | L9: =หน้าที่!P11 -> 0 | M9: =ต้าน!P11 -> 0 | N9: =AVERAGE(C9:L9) -> 0
A10: 5 | B10: ='1.1'!B10 -> 0 | C10: =ไทย!P12 -> 0 | D10: =คณิต!P12 -> 0 | E10: =วิทย์!P12 -> 0 | F10: =สังคม!P12 -> 0 | G10: =ประวัติ!P12 -> 0 | H10: =สุขพละ!P12 -> 0 | I10: =ศิลปะ!P12 -> 0 | J10: =การงาน!P12 -> 0 | K10: =ENG!P12 -> 0 | L10: =หน้าที่!P12 -> 0 | M10: =ต้าน!P12 -> 0 | N10: =AVERAGE(C10:L10) -> 0
A11: 6 | B11: ='1.1'!B11 -> 0 | C11: =ไทย!P13 -> 0 | D11: =คณิต!P13 -> 0 | E11: =วิทย์!P13 -> 0 | F11: =สังคม!P13 -> 0 | G11: =ประวัติ!P13 -> 0 | H11: =สุขพละ!P13 -> 0 | I11: =ศิลปะ!P13 -> 0 | J11: =การงาน!P13 -> 0 | K11: =ENG!P13 -> 0 | L11: =หน้าที่!P13 -> 0 | M11: =ต้าน!P13 -> 0 | N11: =AVERAGE(C11:L11) -> 0
A12: 7 | B12: ='1.1'!B12 -> 0 | C12: =ไทย!P14 -> 0 | D12: =คณิต!P14 -> 0 | E12: =วิทย์!P14 -> 0 | F12: =สังคม!P14 -> 0 | G12: =ประวัติ!P14 -> 0 | H12: =สุขพละ!P14 -> 0 | I12: =ศิลปะ!P14 -> 0 | J12: =การงาน!P14 -> 0 | K12: =ENG!P14 -> 0 | L12: =หน้าที่!P14 -> 0 | M12: =ต้าน!P14 -> 0 | N12: =AVERAGE(C12:L12) -> 0
A13: 8 | B13: ='1.1'!B13 -> 0 | C13: =ไทย!P15 -> 0 | D13: =คณิต!P15 -> 0 | E13: =วิทย์!P15 -> 0 | F13: =สังคม!P15 -> 0 | G13: =ประวัติ!P15 -> 0 | H13: =สุขพละ!P15 -> 0 | I13: =ศิลปะ!P15 -> 0 | J13: =การงาน!P15 -> 0 | K13: =ENG!P15 -> 0 | L13: =หน้าที่!P15 -> 0 | M13: =ต้าน!P15 -> 0 | N13: =AVERAGE(C13:L13) -> 0
A14: 9 | B14: ='1.1'!B14 -> 0 | C14: =ไทย!P16 -> 0 | D14: =คณิต!P16 -> 0 | E14: =วิทย์!P16 -> 0 | F14: =สังคม!P16 -> 0 | G14: =ประวัติ!P16 -> 0 | H14: =สุขพละ!P16 -> 0 | I14: =ศิลปะ!P16 -> 0 | J14: =การงาน!P16 -> 0 | K14: =ENG!P16 -> 0 | L14: =หน้าที่!P16 -> 0 | M14: =ต้าน!P16 -> 0 | N14: =AVERAGE(C14:L14) -> 0
A15: 10 | B15: ='1.1'!B15 -> 0 | C15: =ไทย!P17 -> 0 | D15: =คณิต!P17 -> 0 | E15: =วิทย์!P17 -> 0 | F15: =สังคม!P17 -> 0 | G15: =ประวัติ!P17 -> 0 | H15: =สุขพละ!P17 -> 0 | I15: =ศิลปะ!P17 -> 0 | J15: =การงาน!P17 -> 0 | K15: =ENG!P17 -> 0 | L15: =หน้าที่!P17 -> 0 | M15: =ต้าน!P17 -> 0 | N15: =AVERAGE(C15:L15) -> 0
A16: 11 | B16: ='1.1'!B16 -> 0 | C16: =ไทย!P18 -> 0 | D16: =คณิต!P18 -> 0 | E16: =วิทย์!P18 -> 0 | F16: =สังคม!P18 -> 0 | G16: =ประวัติ!P18 -> 0 | H16: =สุขพละ!P18 -> 0 | I16: =ศิลปะ!P18 -> 0 | J16: =การงาน!P18 -> 0 | K16: =ENG!P18 -> 0 | L16: =หน้าที่!P18 -> 0 | M16: =ต้าน!P18 -> 0 | N16: =AVERAGE(C16:L16) -> 0
A17: 12 | B17: ='1.1'!B17 -> 0 | C17: =ไทย!P19 -> 0 | D17: =คณิต!P19 -> 0 | E17: =วิทย์!P19 -> 0 | F17: =สังคม!P19 -> 0 | G17: =ประวัติ!P19 -> 0 | H17: =สุขพละ!P19 -> 0 | I17: =ศิลปะ!P19 -> 0 | J17: =การงาน!P19 -> 0 | K17: =ENG!P19 -> 0 | L17: =หน้าที่!P19 -> 0 | M17: =ต้าน!P19 -> 0 | N17: =AVERAGE(C17:L17) -> 0
... A28: 23 | B28: ='1.1'!B28 -> 0 | C28: =ไทย!P30 -> 0 | D28: =คณิต!P30 -> 0 | E28: =วิทย์!P30 -> 0 | F28: =สังคม!P30 -> 0 | G28: =ประวัติ!P30 -> 0 | H28: =สุขพละ!P30 -> 0 | I28: =ศิลปะ!P30 -> 0 | J28: =การงาน!P30 -> 0 | K28: =ENG!P30 -> 0 | L28: =หน้าที่!P30 -> 0 | M28: =ต้าน!P30 -> 0 | N28: =AVERAGE(C28:L28) -> 0

Sheet 5.2
A1: แบบประเมินคุณลักษณะอันพึงประสงค์
A2: ที่ | B2: ชื่อ - สกุล | C2: 5. อยู่อย่างพอเพียง | N2: รวม | O2: ผลการประเมิน
C3: 5.2 ปฏิบัติตนและตัดสินใจด้วยความรอบคอบมีเหตุผล
C4: ภาษาไทย | D4: คณิตศาสตร์ | E4: วิทยาศาสตร์ | F4: สังคมศึกษา | G4: ประวัติศาสตร์ | H4: สุข / พละ | I4: ศิลปะ | J4: การงานอาชีพ | K4: ภาษาอังกฤษ | L4: หน้าที่พลเมือง | M4: การป้องกันการทุจริต | O4: ดีเยี่ยม | P4: ดี | Q4: ผ่านเกณฑ์
A5: ระดับคุณภาพ | C5: =ไทย!Q7 -> 3 | D5: =คณิต!Q7 -> 3 | E5: =วิทย์!Q7 -> 3 | F5: =สังคม!Q7 -> 3 | G5: =ประวัติ!Q7 -> 3 | H5: =สุขพละ!Q7 -> 3 | I5: =ศิลปะ!Q7 -> 3 | J5: =การงาน!Q7 -> 3 | K5: =ENG!Q7 -> 3 | L5: =หน้าที่!Q7 -> 3 | M5: =ต้าน!Q7 -> 3 | N5: =AVERAGE(C5:L5) -> 3
A6: 1 | B6: ='1.1'!B6 -> บาส | C6: =ไทย!Q8 -> 0 | D6: =คณิต!Q8 -> 0 | E6: =วิทย์!Q8 -> 0 | F6: =สังคม!Q8 -> 0 | G6: =ประวัติ!Q8 -> 0 | H6: =สุขพละ!Q8 -> 0 | I6: =ศิลปะ!Q8 -> 0 | J6: =การงาน!Q8 -> 0 | K6: =ENG!Q8 -> 0 | L6: =หน้าที่!Q8 -> 0 | M6: =ต้าน!Q8 -> 0 | N6: =AVERAGE(C6:L6) -> 0
A7: 2 | B7: ='1.1'!B7 -> 0 | C7: =ไทย!Q9 -> 0 | D7: =คณิต!Q9 -> 0 | E7: =วิทย์!Q9 -> 0 | F7: =สังคม!Q9 -> 0 | G7: =ประวัติ!Q9 -> 0 | H7: =สุขพละ!Q9 -> 0 | I7: =ศิลปะ!Q9 -> 0 | J7: =การงาน!Q9 -> 0 | K7: =ENG!Q9 -> 0 | L7: =หน้าที่!Q9 -> 0 | M7: =ต้าน!Q9 -> 0 | N7: =AVERAGE(C7:L7) -> 0
A8: 3 | B8: ='1.1'!B8 -> 0 | C8: =ไทย!Q10 -> 0 | D8: =คณิต!Q10 -> 0 | E8: =วิทย์!Q10 -> 0 | F8: =สังคม!Q10 -> 0 | G8: =ประวัติ!Q10 -> 0 | H8: =สุขพละ!Q10 -> 0 | I8: =ศิลปะ!Q10 -> 0 | J8: =การงาน!Q10 -> 0 | K8: =ENG!Q10 -> 0 | L8: =หน้าที่!Q10 -> 0 | M8: =ต้าน!Q10 -> 0 | N8: =AVERAGE(C8:L8) -> 0
A9: 4 | B9: ='1.1'!B9 -> 0 | C9: =ไทย!Q11 -> 0 | D9: =คณิต!Q11 -> 0 | E9: =วิทย์!Q11 -> 0 | F9: =สังคม!Q11 -> 0 | G9: =ประวัติ!Q11 -> 0 | H9: =สุขพละ!Q11 -> 0 | I9: =ศิลปะ!Q11 -> 0 | J9: =การงาน!Q11 -> 0 | K9: =ENG!Q11 -> 0 | L9: =หน้าที่!Q11 -> 0 | M9: =ต้าน!Q11 -> 0 | N9: =AVERAGE(C9:L9) -> 0
A10: 5 | B10: ='1.1'!B10 -> 0 | C10: =ไทย!Q12 -> 0 | D10: =คณิต!Q12 -> 0 | E10: =วิทย์!Q12 -> 0 | F10: =สังคม!Q12 -> 0 | G10: =ประวัติ!Q12 -> 0 | H10: =สุขพละ!Q12 -> 0 | I10: =ศิลปะ!Q12 -> 0 | J10: =การงาน!Q12 -> 0 | K10: =ENG!Q12 -> 0 | L10: =หน้าที่!Q12 -> 0 | M10: =ต้าน!Q12 -> 0 | N10: =AVERAGE(C10:L10) -> 0
A11: 6 | B11: ='1.1'!B11 -> 0 | C11: =ไทย!Q13 -> 0 | D11: =คณิต!Q13 -> 0 | E11: =วิทย์!Q13 -> 0 | F11: =สังคม!Q13 -> 0 | G11: =ประวัติ!Q13 -> 0 | H11: =สุขพละ!Q13 -> 0 | I11: =ศิลปะ!Q13 -> 0 | J11: =การงาน!Q13 -> 0 | K11: =ENG!Q13 -> 0 | L11: =หน้าที่!Q13 -> 0 | M11: =ต้าน!Q13 -> 0 | N11: =AVERAGE(C11:L11) -> 0
A12: 7 | B12: ='1.1'!B12 -> 0 | C12: =ไทย!Q14 -> 0 | D12: =คณิต!Q14 -> 0 | E12: =วิทย์!Q14 -> 0 | F12: =สังคม!Q14 -> 0 | G12: =ประวัติ!Q14 -> 0 | H12: =สุขพละ!Q14 -> 0 | I12: =ศิลปะ!Q14 -> 0 | J12: =การงาน!Q14 -> 0 | K12: =ENG!Q14 -> 0 | L12: =หน้าที่!Q14 -> 0 | M12: =ต้าน!Q14 -> 0 | N12: =AVERAGE(C12:L12) -> 0
A13: 8 | B13: ='1.1'!B13 -> 0 | C13: =ไทย!Q15 -> 0 | D13: =คณิต!Q15 -> 0 | E13: =วิทย์!Q15 -> 0 | F13: =สังคม!Q15 -> 0 | G13: =ประวัติ!Q15 -> 0 | H13: =สุขพละ!Q15 -> 0 | I13: =ศิลปะ!Q15 -> 0 | J13: =การงาน!Q15 -> 0 | K13: =ENG!Q15 -> 0 | L13: =หน้าที่!Q15 -> 0 | M13: =ต้าน!Q15 -> 0 | N13: =AVERAGE(C13:L13) -> 0
A14: 9 | B14: ='1.1'!B14 -> 0 | C14: =ไทย!Q16 -> 0 | D14: =คณิต!Q16 -> 0 | E14: =วิทย์!Q16 -> 0 | F14: =สังคม!Q16 -> 0 | G14: =ประวัติ!Q16 -> 0 | H14: =สุขพละ!Q16 -> 0 | I14: =ศิลปะ!Q16 -> 0 | J14: =การงาน!Q16 -> 0 | K14: =ENG!Q16 -> 0 | L14: =หน้าที่!Q16 -> 0 | M14: =ต้าน!Q16 -> 0 | N14: =AVERAGE(C14:L14) -> 0
A15: 10 | B15: ='1.1'!B15 -> 0 | C15: =ไทย!Q17 -> 0 | D15: =คณิต!Q17 -> 0 | E15: =วิทย์!Q17 -> 0 | F15: =สังคม!Q17 -> 0 | G15: =ประวัติ!Q17 -> 0 | H15: =สุขพละ!Q17 -> 0 | I15: =ศิลปะ!Q17 -> 0 | J15: =การงาน!Q17 -> 0 | K15: =ENG!Q17 -> 0 | L15: =หน้าที่!Q17 -> 0 | M15: =ต้าน!Q17 -> 0 | N15: =AVERAGE(C15:L15) -> 0
A16: 11 | B16: ='1.1'!B16 -> 0 | C16: =ไทย!Q18 -> 0 | D16: =คณิต!Q18 -> 0 | E16: =วิทย์!Q18 -> 0 | F16: =สังคม!Q18 -> 0 | G16: =ประวัติ!Q18 -> 0 | H16: =สุขพละ!Q18 -> 0 | I16: =ศิลปะ!Q18 -> 0 | J16: =การงาน!Q18 -> 0 | K16: =ENG!Q18 -> 0 | L16: =หน้าที่!Q18 -> 0 | M16: =ต้าน!Q18 -> 0 | N16: =AVERAGE(C16:L16) -> 0
A17: 12 | B17: ='1.1'!B17 -> 0 | C17: =ไทย!Q19 -> 0 | D17: =คณิต!Q19 -> 0 | E17: =วิทย์!Q19 -> 0 | F17: =สังคม!Q19 -> 0 | G17: =ประวัติ!Q19 -> 0 | H17: =สุขพละ!Q19 -> 0 | I17: =ศิลปะ!Q19 -> 0 | J17: =การงาน!Q19 -> 0 | K17: =ENG!Q19 -> 0 | L17: =หน้าที่!Q19 -> 0 | M17: =ต้าน!Q19 -> 0 | N17: =AVERAGE(C17:L17) -> 0
... A28: 23 | B28: ='1.1'!B28 -> 0 | C28: =ไทย!Q30 -> 0 | D28: =คณิต!Q30 -> 0 | E28: =วิทย์!Q30 -> 0 | F28: =สังคม!Q30 -> 0 | G28: =ประวัติ!Q30 -> 0 | H28: =สุขพละ!Q30 -> 0 | I28: =ศิลปะ!Q30 -> 0 | J28: =การงาน!Q30 -> 0 | K28: =ENG!Q30 -> 0 | L28: =หน้าที่!Q30 -> 0 | M28: =ต้าน!Q30 -> 0 | N28: =AVERAGE(C28:L28) -> 0

Sheet 5.3
A1: แบบประเมินคุณลักษณะอันพึงประสงค์
A2: ที่ | B2: ชื่อ - สกุล | C2: 5. อยู่อย่างพอเพียง | N2: รวม | O2: ผลการประเมิน
C3: 5.3 วางแผนการเรียนการทำงาน บนพื้นฐานของความรู้ ข้อมูล ข่าวสาร มีภูมิคุ้มกันในตัวที่ดี
C4: ภาษาไทย | D4: คณิตศาสตร์ | E4: วิทยาศาสตร์ | F4: สังคมศึกษา | G4: ประวัติศาสตร์ | H4: สุข / พละ | I4: ศิลปะ | J4: การงานอาชีพ | K4: ภาษาอังกฤษ | L4: หน้าที่พลเมือง | M4: การป้องกันการทุจริต | O4: ดีเยี่ยม | P4: ดี | Q4: ผ่านเกณฑ์
A5: ระดับคุณภาพ | C5: =ไทย!R7 -> 3 | D5: =คณิต!R7 -> 3 | E5: =วิทย์!R7 -> 3 | F5: =สังคม!R7 -> 3 | G5: =ประวัติ!R7 -> 3 | H5: =สุขพละ!R7 -> 3 | I5: =ศิลปะ!R7 -> 3 | J5: =การงาน!R7 -> 3 | K5: =ENG!R7 -> 3 | L5: =หน้าที่!R7 -> 3 | M5: =ต้าน!R7 -> 3 | N5: =AVERAGE(C5:L5) -> 3
A6: 1 | B6: ='1.1'!B6 -> บาส | C6: =ไทย!R8 -> 0 | D6: =คณิต!R8 -> 0 | E6: =วิทย์!R8 -> 0 | F6: =สังคม!R8 -> 0 | G6: =ประวัติ!R8 -> 0 | H6: =สุขพละ!R8 -> 0 | I6: =ศิลปะ!R8 -> 0 | J6: =การงาน!R8 -> 0 | K6: =ENG!R8 -> 0 | L6: =หน้าที่!R8 -> 0 | M6: =ต้าน!R8 -> 0 | N6: =AVERAGE(C6:L6) -> 0
A7: 2 | B7: ='1.1'!B7 -> 0 | C7: =ไทย!R9 -> 0 | D7: =คณิต!R9 -> 0 | E7: =วิทย์!R9 -> 0 | F7: =สังคม!R9 -> 0 | G7: =ประวัติ!R9 -> 0 | H7: =สุขพละ!R9 -> 0 | I7: =ศิลปะ!R9 -> 0 | J7: =การงาน!R9 -> 0 | K7: =ENG!R9 -> 0 | L7: =หน้าที่!R9 -> 0 | M7: =ต้าน!R9 -> 0 | N7: =AVERAGE(C7:L7) -> 0
A8: 3 | B8: ='1.1'!B8 -> 0 | C8: =ไทย!R10 -> 0 | D8: =คณิต!R10 -> 0 | E8: =วิทย์!R10 -> 0 | F8: =สังคม!R10 -> 0 | G8: =ประวัติ!R10 -> 0 | H8: =สุขพละ!R10 -> 0 | I8: =ศิลปะ!R10 -> 0 | J8: =การงาน!R10 -> 0 | K8: =ENG!R10 -> 0 | L8: =หน้าที่!R10 -> 0 | M8: =ต้าน!R10 -> 0 | N8: =AVERAGE(C8:L8) -> 0
A9: 4 | B9: ='1.1'!B9 -> 0 | C9: =ไทย!R11 -> 0 | D9: =คณิต!R11 -> 0 | E9: =วิทย์!R11 -> 0 | F9: =สังคม!R11 -> 0 | G9: =ประวัติ!R11 -> 0 | H9: =สุขพละ!R11 -> 0 | I9: =ศิลปะ!R11 -> 0 | J9: =การงาน!R11 -> 0 | K9: =ENG!R11 -> 0 | L9: =หน้าที่!R11 -> 0 | M9: =ต้าน!R11 -> 0 | N9: =AVERAGE(C9:L9) -> 0
A10: 5 | B10: ='1.1'!B10 -> 0 | C10: =ไทย!R12 -> 0 | D10: =คณิต!R12 -> 0 | E10: =วิทย์!R12 -> 0 | F10: =สังคม!R12 -> 0 | G10: =ประวัติ!R12 -> 0 | H10: =สุขพละ!R12 -> 0 | I10: =ศิลปะ!R12 -> 0 | J10: =การงาน!R12 -> 0 | K10: =ENG!R12 -> 0 | L10: =หน้าที่!R12 -> 0 | M10: =ต้าน!R12 -> 0 | N10: =AVERAGE(C10:L10) -> 0
A11: 6 | B11: ='1.1'!B11 -> 0 | C11: =ไทย!R13 -> 0 | D11: =คณิต!R13 -> 0 | E11: =วิทย์!R13 -> 0 | F11: =สังคม!R13 -> 0 | G11: =ประวัติ!R13 -> 0 | H11: =สุขพละ!R13 -> 0 | I11: =ศิลปะ!R13 -> 0 | J11: =การงาน!R13 -> 0 | K11: =ENG!R13 -> 0 | L11: =หน้าที่!R13 -> 0 | M11: =ต้าน!R13 -> 0 | N11: =AVERAGE(C11:L11) -> 0
A12: 7 | B12: ='1.1'!B12 -> 0 | C12: =ไทย!R14 -> 0 | D12: =คณิต!R14 -> 0 | E12: =วิทย์!R14 -> 0 | F12: =สังคม!R14 -> 0 | G12: =ประวัติ!R14 -> 0 | H12: =สุขพละ!R14 -> 0 | I12: =ศิลปะ!R14 -> 0 | J12: =การงาน!R14 -> 0 | K12: =ENG!R14 -> 0 | L12: =หน้าที่!R14 -> 0 | M12: =ต้าน!R14 -> 0 | N12: =AVERAGE(C12:L12) -> 0
A13: 8 | B13: ='1.1'!B13 -> 0 | C13: =ไทย!R15 -> 0 | D13: =คณิต!R15 -> 0 | E13: =วิทย์!R15 -> 0 | F13: =สังคม!R15 -> 0 | G13: =ประวัติ!R15 -> 0 | H13: =สุขพละ!R15 -> 0 | I13: =ศิลปะ!R15 -> 0 | J13: =การงาน!R15 -> 0 | K13: =ENG!R15 -> 0 | L13: =หน้าที่!R15 -> 0 | M13: =ต้าน!R15 -> 0 | N13: =AVERAGE(C13:L13) -> 0
A14: 9 | B14: ='1.1'!B14 -> 0 | C14: =ไทย!R16 -> 0 | D14: =คณิต!R16 -> 0 | E14: =วิทย์!R16 -> 0 | F14: =สังคม!R16 -> 0 | G14: =ประวัติ!R16 -> 0 | H14: =สุขพละ!R16 -> 0 | I14: =ศิลปะ!R16 -> 0 | J14: =การงาน!R16 -> 0 | K14: =ENG!R16 -> 0 | L14: =หน้าที่!R16 -> 0 | M14: =ต้าน!R16 -> 0 | N14: =AVERAGE(C14:L14) -> 0
A15: 10 | B15: ='1.1'!B15 -> 0 | C15: =ไทย!R17 -> 0 | D15: =คณิต!R17 -> 0 | E15: =วิทย์!R17 -> 0 | F15: =สังคม!R17 -> 0 | G15: =ประวัติ!R17 -> 0 | H15: =สุขพละ!R17 -> 0 | I15: =ศิลปะ!R17 -> 0 | J15: =การงาน!R17 -> 0 | K15: =ENG!R17 -> 0 | L15: =หน้าที่!R17 -> 0 | M15: =ต้าน!R17 -> 0 | N15: =AVERAGE(C15:L15) -> 0
A16: 11 | B16: ='1.1'!B16 -> 0 | C16: =ไทย!R18 -> 0 | D16: =คณิต!R18 -> 0 | E16: =วิทย์!R18 -> 0 | F16: =สังคม!R18 -> 0 | G16: =ประวัติ!R18 -> 0 | H16: =สุขพละ!R18 -> 0 | I16: =ศิลปะ!R18 -> 0 | J16: =การงาน!R18 -> 0 | K16: =ENG!R18 -> 0 | L16: =หน้าที่!R18 -> 0 | M16: =ต้าน!R18 -> 0 | N16: =AVERAGE(C16:L16) -> 0
A17: 12 | B17: ='1.1'!B17 -> 0 | C17: =ไทย!R19 -> 0 | D17: =คณิต!R19 -> 0 | E17: =วิทย์!R19 -> 0 | F17: =สังคม!R19 -> 0 | G17: =ประวัติ!R19 -> 0 | H17: =สุขพละ!R19 -> 0 | I17: =ศิลปะ!R19 -> 0 | J17: =การงาน!R19 -> 0 | K17: =ENG!R19 -> 0 | L17: =หน้าที่!R19 -> 0 | M17: =ต้าน!R19 -> 0 | N17: =AVERAGE(C17:L17) -> 0
... A28: 23 | B28: ='1.1'!B28 -> 0 | C28: =ไทย!R30 -> 0 | D28: =คณิต!R30 -> 0 | E28: =วิทย์!R30 -> 0 | F28: =สังคม!R30 -> 0 | G28: =ประวัติ!R30 -> 0 | H28: =สุขพละ!R30 -> 0 | I28: =ศิลปะ!R30 -> 0 | J28: =การงาน!R30 -> 0 | K28: =ENG!R30 -> 0 | L28: =หน้าที่!R30 -> 0 | M28: =ต้าน!R30 -> 0 | N28: =AVERAGE(C28:L28) -> 0

Sheet สรุป 5
A1: แบบประเมินคุณลักษณะอันพึงประสงค์
A2: ที่ | B2: ชื่อ - สกุล | C2: 5. อยู่อย่างพอเพียง | N2: รวม | O2: ผลการประเมิน
C4: ภาษาไทย | D4: คณิตศาสตร์ | E4: วิทยาศาสตร์ | F4: สังคมศึกษา | G4: ประวัติศาสตร์ | H4: สุข / พละ | I4: ศิลปะ | J4: การงานอาชีพ | K4: ภาษาอังกฤษ | L4: หน้าที่พลเมือง | M4: การป้องกันการทุจริต | O4: ดีเยี่ยม | P4: ดี | Q4: ผ่านเกณฑ์
A5: ระดับคุณภาพ | C5: =('5.1'!C5+'5.2'!C5+'5.3'!C5)/3 -> 3 | D5: =('5.1'!D5+'5.2'!D5+'5.3'!D5)/3 -> 3 | E5: =('5.1'!E5+'5.2'!E5+'5.3'!E5)/3 -> 3 | F5: =('5.1'!F5+'5.2'!F5+'5.3'!F5)/3 -> 3 | G5: =('5.1'!G5+'5.2'!G5+'5.3'!G5)/3 -> 3 | H5: =('5.1'!H5+'5.2'!H5+'5.3'!H5)/3 -> 3 | I5: =('5.1'!I5+'5.2'!I5+'5.3'!I5)/3 -> 3 | J5: =('5.1'!J5+'5.2'!J5+'5.3'!J5)/3 -> 3 | ... M5: =('5.1'!M5+'5.2'!M5+'5.3'!M5)/3 -> 3 | N5: =AVERAGE(C5:L5) -> 3
A6: 1 | B6: ='1.1'!B6 -> บาส | C6: =('5.1'!C6+'5.2'!C6+'5.3'!C6)/3 -> 0 | D6: =('5.1'!D6+'5.2'!D6+'5.3'!D6)/3 -> 0 | E6: =('5.1'!E6+'5.2'!E6+'5.3'!E6)/3 -> 0 | F6: =('5.1'!F6+'5.2'!F6+'5.3'!F6)/3 -> 0 | G6: =('5.1'!G6+'5.2'!G6+'5.3'!G6)/3 -> 0 | H6: =('5.1'!H6+'5.2'!H6+'5.3'!H6)/3 -> 0 | I6: =('5.1'!I6+'5.2'!I6+'5.3'!I6)/3 -> 0 | J6: =('5.1'!J6+'5.2'!J6+'5.3'!J6)/3 -> 0 | ... M6: =('5.1'!M6+'5.2'!M6+'5.3'!M6)/3 -> 0 | N6: =AVERAGE(C6:L6) -> 0
A7: 2 | B7: ='1.1'!B7 -> 0 | C7: =('5.1'!C7+'5.2'!C7+'5.3'!C7)/3 -> 0 | D7: =('5.1'!D7+'5.2'!D7+'5.3'!D7)/3 -> 0 | E7: =('5.1'!E7+'5.2'!E7+'5.3'!E7)/3 -> 0 | F7: =('5.1'!F7+'5.2'!F7+'5.3'!F7)/3 -> 0 | G7: =('5.1'!G7+'5.2'!G7+'5.3'!G7)/3 -> 0 | H7: =('5.1'!H7+'5.2'!H7+'5.3'!H7)/3 -> 0 | I7: =('5.1'!I7+'5.2'!I7+'5.3'!I7)/3 -> 0 | J7: =('5.1'!J7+'5.2'!J7+'5.3'!J7)/3 -> 0 | ... M7: =('5.1'!M7+'5.2'!M7+'5.3'!M7)/3 -> 0 | N7: =AVERAGE(C7:L7) -> 0
A8: 3 | B8: ='1.1'!B8 -> 0 | C8: =('5.1'!C8+'5.2'!C8+'5.3'!C8)/3 -> 0 | D8: =('5.1'!D8+'5.2'!D8+'5.3'!D8)/3 -> 0 | E8: =('5.1'!E8+'5.2'!E8+'5.3'!E8)/3 -> 0 | F8: =('5.1'!F8+'5.2'!F8+'5.3'!F8)/3 -> 0 | G8: =('5.1'!G8+'5.2'!G8+'5.3'!G8)/3 -> 0 | H8: =('5.1'!H8+'5.2'!H8+'5.3'!H8)/3 -> 0 | I8: =('5.1'!I8+'5.2'!I8+'5.3'!I8)/3 -> 0 | J8: =('5.1'!J8+'5.2'!J8+'5.3'!J8)/3 -> 0 | ... M8: =('5.1'!M8+'5.2'!M8+'5.3'!M8)/3 -> 0 | N8: =AVERAGE(C8:L8) -> 0
A9: 4 | B9: ='1.1'!B9 -> 0 | C9: =('5.1'!C9+'5.2'!C9+'5.3'!C9)/3 -> 0 | D9: =('5.1'!D9+'5.2'!D9+'5.3'!D9)/3 -> 0 | E9: =('5.1'!E9+'5.2'!E9+'5.3'!E9)/3 -> 0 | F9: =('5.1'!F9+'5.2'!F9+'5.3'!F9)/3 -> 0 | G9: =('5.1'!G9+'5.2'!G9+'5.3'!G9)/3 -> 0 | H9: =('5.1'!H9+'5.2'!H9+'5.3'!H9)/3 -> 0 | I9: =('5.1'!I9+'5.2'!I9+'5.3'!I9)/3 -> 0 | J9: =('5.1'!J9+'5.2'!J9+'5.3'!J9)/3 -> 0 | ... M9: =('5.1'!M9+'5.2'!M9+'5.3'!M9)/3 -> 0 | N9: =AVERAGE(C9:L9) -> 0
A10: 5 | B10: ='1.1'!B10 -> 0 | C10: =('5.1'!C10+'5.2'!C10+'5.3'!C10)/3 -> 0 | D10: =('5.1'!D10+'5.2'!D10+'5.3'!D10)/3 -> 0 | E10: =('5.1'!E10+'5.2'!E10+'5.3'!E10)/3 -> 0 | F10: =('5.1'!F10+'5.2'!F10+'5.3'!F10)/3 -> 0 | G10: =('5.1'!G10+'5.2'!G10+'5.3'!G10)/3 -> 0 | H10: =('5.1'!H10+'5.2'!H10+'5.3'!H10)/3 -> 0 | I10: =('5.1'!I10+'5.2'!I10+'5.3'!I10)/3 -> 0 | J10: =('5.1'!J10+'5.2'!J10+'5.3'!J10)/3 -> 0 | ... M10: =('5.1'!M10+'5.2'!M10+'5.3'!M10)/3 -> 0 | N10: =AVERAGE(C10:L10) -> 0
A11: 6 | B11: ='1.1'!B11 -> 0 | C11: =('5.1'!C11+'5.2'!C11+'5.3'!C11)/3 -> 0 | D11: =('5.1'!D11+'5.2'!D11+'5.3'!D11)/3 -> 0 | E11: =('5.1'!E11+'5.2'!E11+'5.3'!E11)/3 -> 0 | F11: =('5.1'!F11+'5.2'!F11+'5.3'!F11)/3 -> 0 | G11: =('5.1'!G11+'5.2'!G11+'5.3'!G11)/3 -> 0 | H11: =('5.1'!H11+'5.2'!H11+'5.3'!H11)/3 -> 0 | I11: =('5.1'!I11+'5.2'!I11+'5.3'!I11)/3 -> 0 | J11: =('5.1'!J11+'5.2'!J11+'5.3'!J11)/3 -> 0 | ... M11: =('5.1'!M11+'5.2'!M11+'5.3'!M11)/3 -> 0 | N11: =AVERAGE(C11:L11) -> 0
A12: 7 | B12: ='1.1'!B12 -> 0 | C12: =('5.1'!C12+'5.2'!C12+'5.3'!C12)/3 -> 0 | D12: =('5.1'!D12+'5.2'!D12+'5.3'!D12)/3 -> 0 | E12: =('5.1'!E12+'5.2'!E12+'5.3'!E12)/3 -> 0 | F12: =('5.1'!F12+'5.2'!F12+'5.3'!F12)/3 -> 0 | G12: =('5.1'!G12+'5.2'!G12+'5.3'!G12)/3 -> 0 | H12: =('5.1'!H12+'5.2'!H12+'5.3'!H12)/3 -> 0 | I12: =('5.1'!I12+'5.2'!I12+'5.3'!I12)/3 -> 0 | J12: =('5.1'!J12+'5.2'!J12+'5.3'!J12)/3 -> 0 | ... M12: =('5.1'!M12+'5.2'!M12+'5.3'!M12)/3 -> 0 | N12: =AVERAGE(C12:L12) -> 0
A13: 8 | B13: ='1.1'!B13 -> 0 | C13: =('5.1'!C13+'5.2'!C13+'5.3'!C13)/3 -> 0 | D13: =('5.1'!D13+'5.2'!D13+'5.3'!D13)/3 -> 0 | E13: =('5.1'!E13+'5.2'!E13+'5.3'!E13)/3 -> 0 | F13: =('5.1'!F13+'5.2'!F13+'5.3'!F13)/3 -> 0 | G13: =('5.1'!G13+'5.2'!G13+'5.3'!G13)/3 -> 0 | H13: =('5.1'!H13+'5.2'!H13+'5.3'!H13)/3 -> 0 | I13: =('5.1'!I13+'5.2'!I13+'5.3'!I13)/3 -> 0 | J13: =('5.1'!J13+'5.2'!J13+'5.3'!J13)/3 -> 0 | ... M13: =('5.1'!M13+'5.2'!M13+'5.3'!M13)/3 -> 0 | N13: =AVERAGE(C13:L13) -> 0
A14: 9 | B14: ='1.1'!B14 -> 0 | C14: =('5.1'!C14+'5.2'!C14+'5.3'!C14)/3 -> 0 | D14: =('5.1'!D14+'5.2'!D14+'5.3'!D14)/3 -> 0 | E14: =('5.1'!E14+'5.2'!E14+'5.3'!E14)/3 -> 0 | F14: =('5.1'!F14+'5.2'!F14+'5.3'!F14)/3 -> 0 | G14: =('5.1'!G14+'5.2'!G14+'5.3'!G14)/3 -> 0 | H14: =('5.1'!H14+'5.2'!H14+'5.3'!H14)/3 -> 0 | I14: =('5.1'!I14+'5.2'!I14+'5.3'!I14)/3 -> 0 | J14: =('5.1'!J14+'5.2'!J14+'5.3'!J14)/3 -> 0 | ... M14: =('5.1'!M14+'5.2'!M14+'5.3'!M14)/3 -> 0 | N14: =AVERAGE(C14:L14) -> 0
A15: 10 | B15: ='1.1'!B15 -> 0 | C15: =('5.1'!C15+'5.2'!C15+'5.3'!C15)/3 -> 0 | D15: =('5.1'!D15+'5.2'!D15+'5.3'!D15)/3 -> 0 | E15: =('5.1'!E15+'5.2'!E15+'5.3'!E15)/3 -> 0 | F15: =('5.1'!F15+'5.2'!F15+'5.3'!F15)/3 -> 0 | G15: =('5.1'!G15+'5.2'!G15+'5.3'!G15)/3 -> 0 | H15: =('5.1'!H15+'5.2'!H15+'5.3'!H15)/3 -> 0 | I15: =('5.1'!I15+'5.2'!I15+'5.3'!I15)/3 -> 0 | J15: =('5.1'!J15+'5.2'!J15+'5.3'!J15)/3 -> 0 | ... M15: =('5.1'!M15+'5.2'!M15+'5.3'!M15)/3 -> 0 | N15: =AVERAGE(C15:L15) -> 0
A16: 11 | B16: ='1.1'!B16 -> 0 | C16: =('5.1'!C16+'5.2'!C16+'5.3'!C16)/3 -> 0 | D16: =('5.1'!D16+'5.2'!D16+'5.3'!D16)/3 -> 0 | E16: =('5.1'!E16+'5.2'!E16+'5.3'!E16)/3 -> 0 | F16: =('5.1'!F16+'5.2'!F16+'5.3'!F16)/3 -> 0 | G16: =('5.1'!G16+'5.2'!G16+'5.3'!G16)/3 -> 0 | H16: =('5.1'!H16+'5.2'!H16+'5.3'!H16)/3 -> 0 | I16: =('5.1'!I16+'5.2'!I16+'5.3'!I16)/3 -> 0 | J16: =('5.1'!J16+'5.2'!J16+'5.3'!J16)/3 -> 0 | ... M16: =('5.1'!M16+'5.2'!M16+'5.3'!M16)/3 -> 0 | N16: =AVERAGE(C16:L16) -> 0
A17: 12 | B17: ='1.1'!B17 -> 0 | C17: =('5.1'!C17+'5.2'!C17+'5.3'!C17)/3 -> 0 | D17: =('5.1'!D17+'5.2'!D17+'5.3'!D17)/3 -> 0 | E17: =('5.1'!E17+'5.2'!E17+'5.3'!E17)/3 -> 0 | F17: =('5.1'!F17+'5.2'!F17+'5.3'!F17)/3 -> 0 | G17: =('5.1'!G17+'5.2'!G17+'5.3'!G17)/3 -> 0 | H17: =('5.1'!H17+'5.2'!H17+'5.3'!H17)/3 -> 0 | I17: =('5.1'!I17+'5.2'!I17+'5.3'!I17)/3 -> 0 | J17: =('5.1'!J17+'5.2'!J17+'5.3'!J17)/3 -> 0 | ... M17: =('5.1'!M17+'5.2'!M17+'5.3'!M17)/3 -> 0 | N17: =AVERAGE(C17:L17) -> 0
... A28: 23 | B28: ='1.1'!B28 -> 0 | C28: =('5.1'!C28+'5.2'!C28+'5.3'!C28)/3 -> 0 | D28: =('5.1'!D28+'5.2'!D28+'5.3'!D28)/3 -> 0 | E28: =('5.1'!E28+'5.2'!E28+'5.3'!E28)/3 -> 0 | F28: =('5.1'!F28+'5.2'!F28+'5.3'!F28)/3 -> 0 | G28: =('5.1'!G28+'5.2'!G28+'5.3'!G28)/3 -> 0 | H28: =('5.1'!H28+'5.2'!H28+'5.3'!H28)/3 -> 0 | I28: =('5.1'!I28+'5.2'!I28+'5.3'!I28)/3 -> 0 | J28: =('5.1'!J28+'5.2'!J28+'5.3'!J28)/3 -> 0 | ... M28: =('5.1'!M28+'5.2'!M28+'5.3'!M28)/3 -> 0 | N28: =AVERAGE(C28:L28) -> 0

Sheet 6.1
A1: แบบประเมินคุณลักษณะอันพึงประสงค์
A2: ที่ | B2: ชื่อ - สกุล | C2: 6. มุ่งมั่นในการทำงาน | N2: รวม | O2: ผลการประเมิน
C3: 6.1 ตั้งใจและรับผิดชอบในการทำงานให้สำเร็จ
C4: ภาษาไทย | D4: คณิตศาสตร์ | E4: วิทยาศาสตร์ | F4: สังคมศึกษา | G4: ประวัติศาสตร์ | H4: สุข / พละ | I4: ศิลปะ | J4: การงานอาชีพ | K4: ภาษาอังกฤษ | L4: หน้าที่พลเมือง | M4: การป้องกันการทุจริต | O4: ดีเยี่ยม | P4: ดี | Q4: ผ่านเกณฑ์
A5: ระดับคุณภาพ | C5: =ไทย!T7 -> 3 | D5: =คณิต!T7 -> 3 | E5: =วิทย์!T7 -> 3 | F5: =สังคม!T7 -> 3 | G5: =ประวัติ!T7 -> 3 | H5: =สุขพละ!T7 -> 3 | I5: =ศิลปะ!T7 -> 3 | J5: =การงาน!T7 -> 3 | K5: =ENG!T7 -> 3 | L5: =หน้าที่!T7 -> 3 | M5: =ต้าน!T7 -> 3 | N5: =AVERAGE(C5:L5) -> 3
A6: 1 | B6: ='1.1'!B6 -> บาส | C6: =ไทย!T8 -> 0 | D6: =คณิต!T8 -> 0 | E6: =วิทย์!T8 -> 0 | F6: =สังคม!T8 -> 0 | G6: =ประวัติ!T8 -> 0 | H6: =สุขพละ!T8 -> 0 | I6: =ศิลปะ!T8 -> 0 | J6: =การงาน!T8 -> 0 | K6: =ENG!T8 -> 0 | L6: =หน้าที่!T8 -> 0 | M6: =ต้าน!T8 -> 0 | N6: =AVERAGE(C6:L6) -> 0
A7: 2 | B7: ='1.1'!B7 -> 0 | C7: =ไทย!T9 -> 0 | D7: =คณิต!T9 -> 0 | E7: =วิทย์!T9 -> 0 | F7: =สังคม!T9 -> 0 | G7: =ประวัติ!T9 -> 0 | H7: =สุขพละ!T9 -> 0 | I7: =ศิลปะ!T9 -> 0 | J7: =การงาน!T9 -> 0 | K7: =ENG!T9 -> 0 | L7: =หน้าที่!T9 -> 0 | M7: =ต้าน!T9 -> 0 | N7: =AVERAGE(C7:L7) -> 0
A8: 3 | B8: ='1.1'!B8 -> 0 | C8: =ไทย!T10 -> 0 | D8: =คณิต!T10 -> 0 | E8: =วิทย์!T10 -> 0 | F8: =สังคม!T10 -> 0 | G8: =ประวัติ!T10 -> 0 | H8: =สุขพละ!T10 -> 0 | I8: =ศิลปะ!T10 -> 0 | J8: =การงาน!T10 -> 0 | K8: =ENG!T10 -> 0 | L8: =หน้าที่!T10 -> 0 | M8: =ต้าน!T10 -> 0 | N8: =AVERAGE(C8:L8) -> 0
A9: 4 | B9: ='1.1'!B9 -> 0 | C9: =ไทย!T11 -> 0 | D9: =คณิต!T11 -> 0 | E9: =วิทย์!T11 -> 0 | F9: =สังคม!T11 -> 0 | G9: =ประวัติ!T11 -> 0 | H9: =สุขพละ!T11 -> 0 | I9: =ศิลปะ!T11 -> 0 | J9: =การงาน!T11 -> 0 | K9: =ENG!T11 -> 0 | L9: =หน้าที่!T11 -> 0 | M9: =ต้าน!T11 -> 0 | N9: =AVERAGE(C9:L9) -> 0
A10: 5 | B10: ='1.1'!B10 -> 0 | C10: =ไทย!T12 -> 0 | D10: =คณิต!T12 -> 0 | E10: =วิทย์!T12 -> 0 | F10: =สังคม!T12 -> 0 | G10: =ประวัติ!T12 -> 0 | H10: =สุขพละ!T12 -> 0 | I10: =ศิลปะ!T12 -> 0 | J10: =การงาน!T12 -> 0 | K10: =ENG!T12 -> 0 | L10: =หน้าที่!T12 -> 0 | M10: =ต้าน!T12 -> 0 | N10: =AVERAGE(C10:L10) -> 0
A11: 6 | B11: ='1.1'!B11 -> 0 | C11: =ไทย!T13 -> 0 | D11: =คณิต!T13 -> 0 | E11: =วิทย์!T13 -> 0 | F11: =สังคม!T13 -> 0 | G11: =ประวัติ!T13 -> 0 | H11: =สุขพละ!T13 -> 0 | I11: =ศิลปะ!T13 -> 0 | J11: =การงาน!T13 -> 0 | K11: =ENG!T13 -> 0 | L11: =หน้าที่!T13 -> 0 | M11: =ต้าน!T13 -> 0 | N11: =AVERAGE(C11:L11) -> 0
A12: 7 | B12: ='1.1'!B12 -> 0 | C12: =ไทย!T14 -> 0 | D12: =คณิต!T14 -> 0 | E12: =วิทย์!T14 -> 0 | F12: =สังคม!T14 -> 0 | G12: =ประวัติ!T14 -> 0 | H12: =สุขพละ!T14 -> 0 | I12: =ศิลปะ!T14 -> 0 | J12: =การงาน!T14 -> 0 | K12: =ENG!T14 -> 0 | L12: =หน้าที่!T14 -> 0 | M12: =ต้าน!T14 -> 0 | N12: =AVERAGE(C12:L12) -> 0
A13: 8 | B13: ='1.1'!B13 -> 0 | C13: =ไทย!T15 -> 0 | D13: =คณิต!T15 -> 0 | E13: =วิทย์!T15 -> 0 | F13: =สังคม!T15 -> 0 | G13: =ประวัติ!T15 -> 0 | H13: =สุขพละ!T15 -> 0 | I13: =ศิลปะ!T15 -> 0 | J13: =การงาน!T15 -> 0 | K13: =ENG!T15 -> 0 | L13: =หน้าที่!T15 -> 0 | M13: =ต้าน!T15 -> 0 | N13: =AVERAGE(C13:L13) -> 0
A14: 9 | B14: ='1.1'!B14 -> 0 | C14: =ไทย!T16 -> 0 | D14: =คณิต!T16 -> 0 | E14: =วิทย์!T16 -> 0 | F14: =สังคม!T16 -> 0 | G14: =ประวัติ!T16 -> 0 | H14: =สุขพละ!T16 -> 0 | I14: =ศิลปะ!T16 -> 0 | J14: =การงาน!T16 -> 0 | K14: =ENG!T16 -> 0 | L14: =หน้าที่!T16 -> 0 | M14: =ต้าน!T16 -> 0 | N14: =AVERAGE(C14:L14) -> 0
A15: 10 | B15: ='1.1'!B15 -> 0 | C15: =ไทย!T17 -> 0 | D15: =คณิต!T17 -> 0 | E15: =วิทย์!T17 -> 0 | F15: =สังคม!T17 -> 0 | G15: =ประวัติ!T17 -> 0 | H15: =สุขพละ!T17 -> 0 | I15: =ศิลปะ!T17 -> 0 | J15: =การงาน!T17 -> 0 | K15: =ENG!T17 -> 0 | L15: =หน้าที่!T17 -> 0 | M15: =ต้าน!T17 -> 0 | N15: =AVERAGE(C15:L15) -> 0
A16: 11 | B16: ='1.1'!B16 -> 0 | C16: =ไทย!T18 -> 0 | D16: =คณิต!T18 -> 0 | E16: =วิทย์!T18 -> 0 | F16: =สังคม!T18 -> 0 | G16: =ประวัติ!T18 -> 0 | H16: =สุขพละ!T18 -> 0 | I16: =ศิลปะ!T18 -> 0 | J16: =การงาน!T18 -> 0 | K16: =ENG!T18 -> 0 | L16: =หน้าที่!T18 -> 0 | M16: =ต้าน!T18 -> 0 | N16: =AVERAGE(C16:L16) -> 0
A17: 12 | B17: ='1.1'!B17 -> 0 | C17: =ไทย!T19 -> 0 | D17: =คณิต!T19 -> 0 | E17: =วิทย์!T19 -> 0 | F17: =สังคม!T19 -> 0 | G17: =ประวัติ!T19 -> 0 | H17: =สุขพละ!T19 -> 0 | I17: =ศิลปะ!T19 -> 0 | J17: =การงาน!T19 -> 0 | K17: =ENG!T19 -> 0 | L17: =หน้าที่!T19 -> 0 | M17: =ต้าน!T19 -> 0 | N17: =AVERAGE(C17:L17) -> 0
... A28: 23 | B28: ='1.1'!B28 -> 0 | C28: =ไทย!T30 -> 0 | D28: =คณิต!T30 -> 0 | E28: =วิทย์!T30 -> 0 | F28: =สังคม!T30 -> 0 | G28: =ประวัติ!T30 -> 0 | H28: =สุขพละ!T30 -> 0 | I28: =ศิลปะ!T30 -> 0 | J28: =การงาน!T30 -> 0 | K28: =ENG!T30 -> 0 | L28: =หน้าที่!T30 -> 0 | M28: =ต้าน!T30 -> 0 | N28: =AVERAGE(C28:L28) -> 0

Sheet 6.2
A1: แบบประเมินคุณลักษณะอันพึงประสงค์
A2: ที่ | B2: ชื่อ - สกุล | C2: 6. มุ่งมั่นในการทำงาน | N2: รวม | O2: ผลการประเมิน
C3: 6.2 ทุ่มเททำงาน อดทนไม่ย่อท้อต่อปัญหาและอุปสรรค
C4: ภาษาไทย | D4: คณิตศาสตร์ | E4: วิทยาศาสตร์ | F4: สังคมศึกษา | G4: ประวัติศาสตร์ | H4: สุข / พละ | I4: ศิลปะ | J4: การงานอาชีพ | K4: ภาษาอังกฤษ | L4: หน้าที่พลเมือง | M4: การป้องกันการทุจริต | O4: ดีเยี่ยม | P4: ดี | Q4: ผ่านเกณฑ์
A5: ระดับคุณภาพ | C5: =ไทย!U7 -> 3 | D5: =คณิต!U7 -> 3 | E5: =วิทย์!U7 -> 3 | F5: =สังคม!U7 -> 3 | G5: =ประวัติ!U7 -> 3 | H5: =สุขพละ!U7 -> 3 | I5: =ศิลปะ!U7 -> 3 | J5: =การงาน!U7 -> 3 | K5: =ENG!U7 -> 3 | L5: =หน้าที่!U7 -> 3 | M5: =ต้าน!U7 -> 3 | N5: =AVERAGE(C5:L5) -> 3
A6: 1 | B6: ='1.1'!B6 -> บาส | C6: =ไทย!U8 -> 0 | D6: =คณิต!U8 -> 0 | E6: =วิทย์!U8 -> 0 | F6: =สังคม!U8 -> 0 | G6: =ประวัติ!U8 -> 0 | H6: =สุขพละ!U8 -> 0 | I6: =ศิลปะ!U8 -> 0 | J6: =การงาน!U8 -> 0 | K6: =ENG!U8 -> 0 | L6: =หน้าที่!U8 -> 0 | M6: =ต้าน!U8 -> 0 | N6: =AVERAGE(C6:L6) -> 0
A7: 2 | B7: ='1.1'!B7 -> 0 | C7: =ไทย!U9 -> 0 | D7: =คณิต!U9 -> 0 | E7: =วิทย์!U9 -> 0 | F7: =สังคม!U9 -> 0 | G7: =ประวัติ!U9 -> 0 | H7: =สุขพละ!U9 -> 0 | I7: =ศิลปะ!U9 -> 0 | J7: =การงาน!U9 -> 0 | K7: =ENG!U9 -> 0 | L7: =หน้าที่!U9 -> 0 | M7: =ต้าน!U9 -> 0 | N7: =AVERAGE(C7:L7) -> 0
A8: 3 | B8: ='1.1'!B8 -> 0 | C8: =ไทย!U10 -> 0 | D8: =คณิต!U10 -> 0 | E8: =วิทย์!U10 -> 0 | F8: =สังคม!U10 -> 0 | G8: =ประวัติ!U10 -> 0 | H8: =สุขพละ!U10 -> 0 | I8: =ศิลปะ!U10 -> 0 | J8: =การงาน!U10 -> 0 | K8: =ENG!U10 -> 0 | L8: =หน้าที่!U10 -> 0 | M8: =ต้าน!U10 -> 0 | N8: =AVERAGE(C8:L8) -> 0
A9: 4 | B9: ='1.1'!B9 -> 0 | C9: =ไทย!U11 -> 0 | D9: =คณิต!U11 -> 0 | E9: =วิทย์!U11 -> 0 | F9: =สังคม!U11 -> 0 | G9: =ประวัติ!U11 -> 0 | H9: =สุขพละ!U11 -> 0 | I9: =ศิลปะ!U11 -> 0 | J9: =การงาน!U11 -> 0 | K9: =ENG!U11 -> 0 | L9: =หน้าที่!U11 -> 0 | M9: =ต้าน!U11 -> 0 | N9: =AVERAGE(C9:L9) -> 0
A10: 5 | B10: ='1.1'!B10 -> 0 | C10: =ไทย!U12 -> 0 | D10: =คณิต!U12 -> 0 | E10: =วิทย์!U12 -> 0 | F10: =สังคม!U12 -> 0 | G10: =ประวัติ!U12 -> 0 | H10: =สุขพละ!U12 -> 0 | I10: =ศิลปะ!U12 -> 0 | J10: =การงาน!U12 -> 0 | K10: =ENG!U12 -> 0 | L10: =หน้าที่!U12 -> 0 | M10: =ต้าน!U12 -> 0 | N10: =AVERAGE(C10:L10) -> 0
A11: 6 | B11: ='1.1'!B11 -> 0 | C11: =ไทย!U13 -> 0 | D11: =คณิต!U13 -> 0 | E11: =วิทย์!U13 -> 0 | F11: =สังคม!U13 -> 0 | G11: =ประวัติ!U13 -> 0 | H11: =สุขพละ!U13 -> 0 | I11: =ศิลปะ!U13 -> 0 | J11: =การงาน!U13 -> 0 | K11: =ENG!U13 -> 0 | L11: =หน้าที่!U13 -> 0 | M11: =ต้าน!U13 -> 0 | N11: =AVERAGE(C11:L11) -> 0
A12: 7 | B12: ='1.1'!B12 -> 0 | C12: =ไทย!U14 -> 0 | D12: =คณิต!U14 -> 0 | E12: =วิทย์!U14 -> 0 | F12: =สังคม!U14 -> 0 | G12: =ประวัติ!U14 -> 0 | H12: =สุขพละ!U14 -> 0 | I12: =ศิลปะ!U14 -> 0 | J12: =การงาน!U14 -> 0 | K12: =ENG!U14 -> 0 | L12: =หน้าที่!U14 -> 0 | M12: =ต้าน!U14 -> 0 | N12: =AVERAGE(C12:L12) -> 0
A13: 8 | B13: ='1.1'!B13 -> 0 | C13: =ไทย!U15 -> 0 | D13: =คณิต!U15 -> 0 | E13: =วิทย์!U15 -> 0 | F13: =สังคม!U15 -> 0 | G13: =ประวัติ!U15 -> 0 | H13: =สุขพละ!U15 -> 0 | I13: =ศิลปะ!U15 -> 0 | J13: =การงาน!U15 -> 0 | K13: =ENG!U15 -> 0 | L13: =หน้าที่!U15 -> 0 | M13: =ต้าน!U15 -> 0 | N13: =AVERAGE(C13:L13) -> 0
A14: 9 | B14: ='1.1'!B14 -> 0 | C14: =ไทย!U16 -> 0 | D14: =คณิต!U16 -> 0 | E14: =วิทย์!U16 -> 0 | F14: =สังคม!U16 -> 0 | G14: =ประวัติ!U16 -> 0 | H14: =สุขพละ!U16 -> 0 | I14: =ศิลปะ!U16 -> 0 | J14: =การงาน!U16 -> 0 | K14: =ENG!U16 -> 0 | L14: =หน้าที่!U16 -> 0 | M14: =ต้าน!U16 -> 0 | N14: =AVERAGE(C14:L14) -> 0
A15: 10 | B15: ='1.1'!B15 -> 0 | C15: =ไทย!U17 -> 0 | D15: =คณิต!U17 -> 0 | E15: =วิทย์!U17 -> 0 | F15: =สังคม!U17 -> 0 | G15: =ประวัติ!U17 -> 0 | H15: =สุขพละ!U17 -> 0 | I15: =ศิลปะ!U17 -> 0 | J15: =การงาน!U17 -> 0 | K15: =ENG!U17 -> 0 | L15: =หน้าที่!U17 -> 0 | M15: =ต้าน!U17 -> 0 | N15: =AVERAGE(C15:L15) -> 0
A16: 11 | B16: ='1.1'!B16 -> 0 | C16: =ไทย!U18 -> 0 | D16: =คณิต!U18 -> 0 | E16: =วิทย์!U18 -> 0 | F16: =สังคม!U18 -> 0 | G16: =ประวัติ!U18 -> 0 | H16: =สุขพละ!U18 -> 0 | I16: =ศิลปะ!U18 -> 0 | J16: =การงาน!U18 -> 0 | K16: =ENG!U18 -> 0 | L16: =หน้าที่!U18 -> 0 | M16: =ต้าน!U18 -> 0 | N16: =AVERAGE(C16:L16) -> 0
A17: 12 | B17: ='1.1'!B17 -> 0 | C17: =ไทย!U19 -> 0 | D17: =คณิต!U19 -> 0 | E17: =วิทย์!U19 -> 0 | F17: =สังคม!U19 -> 0 | G17: =ประวัติ!U19 -> 0 | H17: =สุขพละ!U19 -> 0 | I17: =ศิลปะ!U19 -> 0 | J17: =การงาน!U19 -> 0 | K17: =ENG!U19 -> 0 | L17: =หน้าที่!U19 -> 0 | M17: =ต้าน!U19 -> 0 | N17: =AVERAGE(C17:L17) -> 0
... A28: 23 | B28: ='1.1'!B28 -> 0 | C28: =ไทย!U30 -> 0 | D28: =คณิต!U30 -> 0 | E28: =วิทย์!U30 -> 0 | F28: =สังคม!U30 -> 0 | G28: =ประวัติ!U30 -> 0 | H28: =สุขพละ!U30 -> 0 | I28: =ศิลปะ!U30 -> 0 | J28: =การงาน!U30 -> 0 | K28: =ENG!U30 -> 0 | L28: =หน้าที่!U30 -> 0 | M28: =ต้าน!U30 -> 0 | N28: =AVERAGE(C28:L28) -> 0

Sheet 6.3
A1: แบบประเมินคุณลักษณะอันพึงประสงค์
A2: ที่ | B2: ชื่อ - สกุล | C2: 6. มุ่งมั่นในการทำงาน | N2: รวม | O2: ผลการประเมิน
C3: 6.3 ปรับปรุงพัฒนาการทำงานและผลงานด้วยตนเอง
C4: ภาษาไทย | D4: คณิตศาสตร์ | E4: วิทยาศาสตร์ | F4: สังคมศึกษา | G4: ประวัติศาสตร์ | H4: สุข / พละ | I4: ศิลปะ | J4: การงานอาชีพ | K4: ภาษาอังกฤษ | L4: หน้าที่พลเมือง | M4: การป้องกันการทุจริต | O4: ดีเยี่ยม | P4: ดี | Q4: ผ่านเกณฑ์
A5: ระดับคุณภาพ | C5: =ไทย!V7 -> 3 | D5: =คณิต!V7 -> 3 | E5: =วิทย์!V7 -> 3 | F5: =สังคม!V7 -> 3 | G5: =ประวัติ!V7 -> 3 | H5: =สุขพละ!V7 -> 3 | I5: =ศิลปะ!V7 -> 3 | J5: =การงาน!V7 -> 3 | K5: =ENG!V7 -> 3 | L5: =หน้าที่!V7 -> 3 | M5: =ต้าน!V7 -> 3 | N5: =AVERAGE(C5:L5) -> 3
A6: 1 | B6: ='1.1'!B6 -> บาส | C6: =ไทย!V8 -> 0 | D6: =คณิต!V8 -> 0 | E6: =วิทย์!V8 -> 0 | F6: =สังคม!V8 -> 0 | G6: =ประวัติ!V8 -> 0 | H6: =สุขพละ!V8 -> 0 | I6: =ศิลปะ!V8 -> 0 | J6: =การงาน!V8 -> 0 | K6: =ENG!V8 -> 0 | L6: =หน้าที่!V8 -> 0 | M6: =ต้าน!V8 -> 0 | N6: =AVERAGE(C6:L6) -> 0
A7: 2 | B7: ='1.1'!B7 -> 0 | C7: =ไทย!V9 -> 0 | D7: =คณิต!V9 -> 0 | E7: =วิทย์!V9 -> 0 | F7: =สังคม!V9 -> 0 | G7: =ประวัติ!V9 -> 0 | H7: =สุขพละ!V9 -> 0 | I7: =ศิลปะ!V9 -> 0 | J7: =การงาน!V9 -> 0 | K7: =ENG!V9 -> 0 | L7: =หน้าที่!V9 -> 0 | M7: =ต้าน!V9 -> 0 | N7: =AVERAGE(C7:L7) -> 0
A8: 3 | B8: ='1.1'!B8 -> 0 | C8: =ไทย!V10 -> 0 | D8: =คณิต!V10 -> 0 | E8: =วิทย์!V10 -> 0 | F8: =สังคม!V10 -> 0 | G8: =ประวัติ!V10 -> 0 | H8: =สุขพละ!V10 -> 0 | I8: =ศิลปะ!V10 -> 0 | J8: =การงาน!V10 -> 0 | K8: =ENG!V10 -> 0 | L8: =หน้าที่!V10 -> 0 | M8: =ต้าน!V10 -> 0 | N8: =AVERAGE(C8:L8) -> 0
A9: 4 | B9: ='1.1'!B9 -> 0 | C9: =ไทย!V11 -> 0 | D9: =คณิต!V11 -> 0 | E9: =วิทย์!V11 -> 0 | F9: =สังคม!V11 -> 0 | G9: =ประวัติ!V11 -> 0 | H9: =สุขพละ!V11 -> 0 | I9: =ศิลปะ!V11 -> 0 | J9: =การงาน!V11 -> 0 | K9: =ENG!V11 -> 0 | L9: =หน้าที่!V11 -> 0 | M9: =ต้าน!V11 -> 0 | N9: =AVERAGE(C9:L9) -> 0
A10: 5 | B10: ='1.1'!B10 -> 0 | C10: =ไทย!V12 -> 0 | D10: =คณิต!V12 -> 0 | E10: =วิทย์!V12 -> 0 | F10: =สังคม!V12 -> 0 | G10: =ประวัติ!V12 -> 0 | H10: =สุขพละ!V12 -> 0 | I10: =ศิลปะ!V12 -> 0 | J10: =การงาน!V12 -> 0 | K10: =ENG!V12 -> 0 | L10: =หน้าที่!V12 -> 0 | M10: =ต้าน!V12 -> 0 | N10: =AVERAGE(C10:L10) -> 0
A11: 6 | B11: ='1.1'!B11 -> 0 | C11: =ไทย!V13 -> 0 | D11: =คณิต!V13 -> 0 | E11: =วิทย์!V13 -> 0 | F11: =สังคม!V13 -> 0 | G11: =ประวัติ!V13 -> 0 | H11: =สุขพละ!V13 -> 0 | I11: =ศิลปะ!V13 -> 0 | J11: =การงาน!V13 -> 0 | K11: =ENG!V13 -> 0 | L11: =หน้าที่!V13 -> 0 | M11: =ต้าน!V13 -> 0 | N11: =AVERAGE(C11:L11) -> 0
A12: 7 | B12: ='1.1'!B12 -> 0 | C12: =ไทย!V14 -> 0 | D12: =คณิต!V14 -> 0 | E12: =วิทย์!V14 -> 0 | F12: =สังคม!V14 -> 0 | G12: =ประวัติ!V14 -> 0 | H12: =สุขพละ!V14 -> 0 | I12: =ศิลปะ!V14 -> 0 | J12: =การงาน!V14 -> 0 | K12: =ENG!V14 -> 0 | L12: =หน้าที่!V14 -> 0 | M12: =ต้าน!V14 -> 0 | N12: =AVERAGE(C12:L12) -> 0
A13: 8 | B13: ='1.1'!B13 -> 0 | C13: =ไทย!V15 -> 0 | D13: =คณิต!V15 -> 0 | E13: =วิทย์!V15 -> 0 | F13: =สังคม!V15 -> 0 | G13: =ประวัติ!V15 -> 0 | H13: =สุขพละ!V15 -> 0 | I13: =ศิลปะ!V15 -> 0 | J13: =การงาน!V15 -> 0 | K13: =ENG!V15 -> 0 | L13: =หน้าที่!V15 -> 0 | M13: =ต้าน!V15 -> 0 | N13: =AVERAGE(C13:L13) -> 0
A14: 9 | B14: ='1.1'!B14 -> 0 | C14: =ไทย!V16 -> 0 | D14: =คณิต!V16 -> 0 | E14: =วิทย์!V16 -> 0 | F14: =สังคม!V16 -> 0 | G14: =ประวัติ!V16 -> 0 | H14: =สุขพละ!V16 -> 0 | I14: =ศิลปะ!V16 -> 0 | J14: =การงาน!V16 -> 0 | K14: =ENG!V16 -> 0 | L14: =หน้าที่!V16 -> 0 | M14: =ต้าน!V16 -> 0 | N14: =AVERAGE(C14:L14) -> 0
A15: 10 | B15: ='1.1'!B15 -> 0 | C15: =ไทย!V17 -> 0 | D15: =คณิต!V17 -> 0 | E15: =วิทย์!V17 -> 0 | F15: =สังคม!V17 -> 0 | G15: =ประวัติ!V17 -> 0 | H15: =สุขพละ!V17 -> 0 | I15: =ศิลปะ!V17 -> 0 | J15: =การงาน!V17 -> 0 | K15: =ENG!V17 -> 0 | L15: =หน้าที่!V17 -> 0 | M15: =ต้าน!V17 -> 0 | N15: =AVERAGE(C15:L15) -> 0
A16: 11 | B16: ='1.1'!B16 -> 0 | C16: =ไทย!V18 -> 0 | D16: =คณิต!V18 -> 0 | E16: =วิทย์!V18 -> 0 | F16: =สังคม!V18 -> 0 | G16: =ประวัติ!V18 -> 0 | H16: =สุขพละ!V18 -> 0 | I16: =ศิลปะ!V18 -> 0 | J16: =การงาน!V18 -> 0 | K16: =ENG!V18 -> 0 | L16: =หน้าที่!V18 -> 0 | M16: =ต้าน!V18 -> 0 | N16: =AVERAGE(C16:L16) -> 0
A17: 12 | B17: ='1.1'!B17 -> 0 | C17: =ไทย!V19 -> 0 | D17: =คณิต!V19 -> 0 | E17: =วิทย์!V19 -> 0 | F17: =สังคม!V19 -> 0 | G17: =ประวัติ!V19 -> 0 | H17: =สุขพละ!V19 -> 0 | I17: =ศิลปะ!V19 -> 0 | J17: =การงาน!V19 -> 0 | K17: =ENG!V19 -> 0 | L17: =หน้าที่!V19 -> 0 | M17: =ต้าน!V19 -> 0 | N17: =AVERAGE(C17:L17) -> 0
... A28: 23 | B28: ='1.1'!B28 -> 0 | C28: =ไทย!V30 -> 0 | D28: =คณิต!V30 -> 0 | E28: =วิทย์!V30 -> 0 | F28: =สังคม!V30 -> 0 | G28: =ประวัติ!V30 -> 0 | H28: =สุขพละ!V30 -> 0 | I28: =ศิลปะ!V30 -> 0 | J28: =การงาน!V30 -> 0 | K28: =ENG!V30 -> 0 | L28: =หน้าที่!V30 -> 0 | M28: =ต้าน!V30 -> 0 | N28: =AVERAGE(C28:L28) -> 0

Sheet สรุป 6
A1: แบบประเมินคุณลักษณะอันพึงประสงค์
A2: ที่ | B2: ชื่อ - สกุล | C2: 6. มุ่งมั่นในการทำงาน | N2: รวม | O2: ผลการประเมิน
C4: ภาษาไทย | D4: คณิตศาสตร์ | E4: วิทยาศาสตร์ | F4: สังคมศึกษา | G4: ประวัติศาสตร์ | H4: สุข / พละ | I4: ศิลปะ | J4: การงานอาชีพ | K4: ภาษาอังกฤษ | L4: หน้าที่พลเมือง | M4: การป้องกันการทุจริต | O4: ดีเยี่ยม | P4: ดี | Q4: ผ่านเกณฑ์
A5: ระดับคุณภาพ | C5: =('6.1'!C5+'6.2'!C5+'6.3'!C5)/3 -> 3 | D5: =('6.1'!D5+'6.2'!D5+'6.3'!D5)/3 -> 3 | E5: =('6.1'!E5+'6.2'!E5+'6.3'!E5)/3 -> 3 | F5: =('6.1'!F5+'6.2'!F5+'6.3'!F5)/3 -> 3 | G5: =('6.1'!G5+'6.2'!G5+'6.3'!G5)/3 -> 3 | H5: =('6.1'!H5+'6.2'!H5+'6.3'!H5)/3 -> 3 | I5: =('6.1'!I5+'6.2'!I5+'6.3'!I5)/3 -> 3 | J5: =('6.1'!J5+'6.2'!J5+'6.3'!J5)/3 -> 3 | ... M5: =('6.1'!M5+'6.2'!M5+'6.3'!M5)/3 -> 3 | N5: =AVERAGE(C5:M5) -> 3
A6: 1 | B6: ='1.1'!B6 -> บาส | C6: =('6.1'!C6+'6.2'!C6+'6.3'!C6)/3 -> 0 | D6: =('6.1'!D6+'6.2'!D6+'6.3'!D6)/3 -> 0 | E6: =('6.1'!E6+'6.2'!E6+'6.3'!E6)/3 -> 0 | F6: =('6.1'!F6+'6.2'!F6+'6.3'!F6)/3 -> 0 | G6: =('6.1'!G6+'6.2'!G6+'6.3'!G6)/3 -> 0 | H6: =('6.1'!H6+'6.2'!H6+'6.3'!H6)/3 -> 0 | I6: =('6.1'!I6+'6.2'!I6+'6.3'!I6)/3 -> 0 | J6: =('6.1'!J6+'6.2'!J6+'6.3'!J6)/3 -> 0 | ... M6: =('6.1'!M6+'6.2'!M6+'6.3'!M6)/3 -> 0 | N6: =AVERAGE(C6:M6) -> 0
A7: 2 | B7: ='1.1'!B7 -> 0 | C7: =('6.1'!C7+'6.2'!C7+'6.3'!C7)/3 -> 0 | D7: =('6.1'!D7+'6.2'!D7+'6.3'!D7)/3 -> 0 | E7: =('6.1'!E7+'6.2'!E7+'6.3'!E7)/3 -> 0 | F7: =('6.1'!F7+'6.2'!F7+'6.3'!F7)/3 -> 0 | G7: =('6.1'!G7+'6.2'!G7+'6.3'!G7)/3 -> 0 | H7: =('6.1'!H7+'6.2'!H7+'6.3'!H7)/3 -> 0 | I7: =('6.1'!I7+'6.2'!I7+'6.3'!I7)/3 -> 0 | J7: =('6.1'!J7+'6.2'!J7+'6.3'!J7)/3 -> 0 | ... M7: =('6.1'!M7+'6.2'!M7+'6.3'!M7)/3 -> 0 | N7: =AVERAGE(C7:M7) -> 0
A8: 3 | B8: ='1.1'!B8 -> 0 | C8: =('6.1'!C8+'6.2'!C8+'6.3'!C8)/3 -> 0 | D8: =('6.1'!D8+'6.2'!D8+'6.3'!D8)/3 -> 0 | E8: =('6.1'!E8+'6.2'!E8+'6.3'!E8)/3 -> 0 | F8: =('6.1'!F8+'6.2'!F8+'6.3'!F8)/3 -> 0 | G8: =('6.1'!G8+'6.2'!G8+'6.3'!G8)/3 -> 0 | H8: =('6.1'!H8+'6.2'!H8+'6.3'!H8)/3 -> 0 | I8: =('6.1'!I8+'6.2'!I8+'6.3'!I8)/3 -> 0 | J8: =('6.1'!J8+'6.2'!J8+'6.3'!J8)/3 -> 0 | ... M8: =('6.1'!M8+'6.2'!M8+'6.3'!M8)/3 -> 0 | N8: =AVERAGE(C8:M8) -> 0
A9: 4 | B9: ='1.1'!B9 -> 0 | C9: =('6.1'!C9+'6.2'!C9+'6.3'!C9)/3 -> 0 | D9: =('6.1'!D9+'6.2'!D9+'6.3'!D9)/3 -> 0 | E9: =('6.1'!E9+'6.2'!E9+'6.3'!E9)/3 -> 0 | F9: =('6.1'!F9+'6.2'!F9+'6.3'!F9)/3 -> 0 | G9: =('6.1'!G9+'6.2'!G9+'6.3'!G9)/3 -> 0 | H9: =('6.1'!H9+'6.2'!H9+'6.3'!H9)/3 -> 0 | I9: =('6.1'!I9+'6.2'!I9+'6.3'!I9)/3 -> 0 | J9: =('6.1'!J9+'6.2'!J9+'6.3'!J9)/3 -> 0 | ... M9: =('6.1'!M9+'6.2'!M9+'6.3'!M9)/3 -> 0 | N9: =AVERAGE(C9:M9) -> 0
A10: 5 | B10: ='1.1'!B10 -> 0 | C10: =('6.1'!C10+'6.2'!C10+'6.3'!C10)/3 -> 0 | D10: =('6.1'!D10+'6.2'!D10+'6.3'!D10)/3 -> 0 | E10: =('6.1'!E10+'6.2'!E10+'6.3'!E10)/3 -> 0 | F10: =('6.1'!F10+'6.2'!F10+'6.3'!F10)/3 -> 0 | G10: =('6.1'!G10+'6.2'!G10+'6.3'!G10)/3 -> 0 | H10: =('6.1'!H10+'6.2'!H10+'6.3'!H10)/3 -> 0 | I10: =('6.1'!I10+'6.2'!I10+'6.3'!I10)/3 -> 0 | J10: =('6.1'!J10+'6.2'!J10+'6.3'!J10)/3 -> 0 | ... M10: =('6.1'!M10+'6.2'!M10+'6.3'!M10)/3 -> 0 | N10: =AVERAGE(C10:M10) -> 0
A11: 6 | B11: ='1.1'!B11 -> 0 | C11: =('6.1'!C11+'6.2'!C11+'6.3'!C11)/3 -> 0 | D11: =('6.1'!D11+'6.2'!D11+'6.3'!D11)/3 -> 0 | E11: =('6.1'!E11+'6.2'!E11+'6.3'!E11)/3 -> 0 | F11: =('6.1'!F11+'6.2'!F11+'6.3'!F11)/3 -> 0 | G11: =('6.1'!G11+'6.2'!G11+'6.3'!G11)/3 -> 0 | H11: =('6.1'!H11+'6.2'!H11+'6.3'!H11)/3 -> 0 | I11: =('6.1'!I11+'6.2'!I11+'6.3'!I11)/3 -> 0 | J11: =('6.1'!J11+'6.2'!J11+'6.3'!J11)/3 -> 0 | ... M11: =('6.1'!M11+'6.2'!M11+'6.3'!M11)/3 -> 0 | N11: =AVERAGE(C11:M11) -> 0
A12: 7 | B12: ='1.1'!B12 -> 0 | C12: =('6.1'!C12+'6.2'!C12+'6.3'!C12)/3 -> 0 | D12: =('6.1'!D12+'6.2'!D12+'6.3'!D12)/3 -> 0 | E12: =('6.1'!E12+'6.2'!E12+'6.3'!E12)/3 -> 0 | F12: =('6.1'!F12+'6.2'!F12+'6.3'!F12)/3 -> 0 | G12: =('6.1'!G12+'6.2'!G12+'6.3'!G12)/3 -> 0 | H12: =('6.1'!H12+'6.2'!H12+'6.3'!H12)/3 -> 0 | I12: =('6.1'!I12+'6.2'!I12+'6.3'!I12)/3 -> 0 | J12: =('6.1'!J12+'6.2'!J12+'6.3'!J12)/3 -> 0 | ... M12: =('6.1'!M12+'6.2'!M12+'6.3'!M12)/3 -> 0 | N12: =AVERAGE(C12:M12) -> 0
A13: 8 | B13: ='1.1'!B13 -> 0 | C13: =('6.1'!C13+'6.2'!C13+'6.3'!C13)/3 -> 0 | D13: =('6.1'!D13+'6.2'!D13+'6.3'!D13)/3 -> 0 | E13: =('6.1'!E13+'6.2'!E13+'6.3'!E13)/3 -> 0 | F13: =('6.1'!F13+'6.2'!F13+'6.3'!F13)/3 -> 0 | G13: =('6.1'!G13+'6.2'!G13+'6.3'!G13)/3 -> 0 | H13: =('6.1'!H13+'6.2'!H13+'6.3'!H13)/3 -> 0 | I13: =('6.1'!I13+'6.2'!I13+'6.3'!I13)/3 -> 0 | J13: =('6.1'!J13+'6.2'!J13+'6.3'!J13)/3 -> 0 | ... M13: =('6.1'!M13+'6.2'!M13+'6.3'!M13)/3 -> 0 | N13: =AVERAGE(C13:M13) -> 0
A14: 9 | B14: ='1.1'!B14 -> 0 | C14: =('6.1'!C14+'6.2'!C14+'6.3'!C14)/3 -> 0 | D14: =('6.1'!D14+'6.2'!D14+'6.3'!D14)/3 -> 0 | E14: =('6.1'!E14+'6.2'!E14+'6.3'!E14)/3 -> 0 | F14: =('6.1'!F14+'6.2'!F14+'6.3'!F14)/3 -> 0 | G14: =('6.1'!G14+'6.2'!G14+'6.3'!G14)/3 -> 0 | H14: =('6.1'!H14+'6.2'!H14+'6.3'!H14)/3 -> 0 | I14: =('6.1'!I14+'6.2'!I14+'6.3'!I14)/3 -> 0 | J14: =('6.1'!J14+'6.2'!J14+'6.3'!J14)/3 -> 0 | ... M14: =('6.1'!M14+'6.2'!M14+'6.3'!M14)/3 -> 0 | N14: =AVERAGE(C14:M14) -> 0
A15: 10 | B15: ='1.1'!B15 -> 0 | C15: =('6.1'!C15+'6.2'!C15+'6.3'!C15)/3 -> 0 | D15: =('6.1'!D15+'6.2'!D15+'6.3'!D15)/3 -> 0 | E15: =('6.1'!E15+'6.2'!E15+'6.3'!E15)/3 -> 0 | F15: =('6.1'!F15+'6.2'!F15+'6.3'!F15)/3 -> 0 | G15: =('6.1'!G15+'6.2'!G15+'6.3'!G15)/3 -> 0 | H15: =('6.1'!H15+'6.2'!H15+'6.3'!H15)/3 -> 0 | I15: =('6.1'!I15+'6.2'!I15+'6.3'!I15)/3 -> 0 | J15: =('6.1'!J15+'6.2'!J15+'6.3'!J15)/3 -> 0 | ... M15: =('6.1'!M15+'6.2'!M15+'6.3'!M15)/3 -> 0 | N15: =AVERAGE(C15:M15) -> 0
A16: 11 | B16: ='1.1'!B16 -> 0 | C16: =('6.1'!C16+'6.2'!C16+'6.3'!C16)/3 -> 0 | D16: =('6.1'!D16+'6.2'!D16+'6.3'!D16)/3 -> 0 | E16: =('6.1'!E16+'6.2'!E16+'6.3'!E16)/3 -> 0 | F16: =('6.1'!F16+'6.2'!F16+'6.3'!F16)/3 -> 0 | G16: =('6.1'!G16+'6.2'!G16+'6.3'!G16)/3 -> 0 | H16: =('6.1'!H16+'6.2'!H16+'6.3'!H16)/3 -> 0 | I16: =('6.1'!I16+'6.2'!I16+'6.3'!I16)/3 -> 0 | J16: =('6.1'!J16+'6.2'!J16+'6.3'!J16)/3 -> 0 | ... M16: =('6.1'!M16+'6.2'!M16+'6.3'!M16)/3 -> 0 | N16: =AVERAGE(C16:M16) -> 0
A17: 12 | B17: ='1.1'!B17 -> 0 | C17: =('6.1'!C17+'6.2'!C17+'6.3'!C17)/3 -> 0 | D17: =('6.1'!D17+'6.2'!D17+'6.3'!D17)/3 -> 0 | E17: =('6.1'!E17+'6.2'!E17+'6.3'!E17)/3 -> 0 | F17: =('6.1'!F17+'6.2'!F17+'6.3'!F17)/3 -> 0 | G17: =('6.1'!G17+'6.2'!G17+'6.3'!G17)/3 -> 0 | H17: =('6.1'!H17+'6.2'!H17+'6.3'!H17)/3 -> 0 | I17: =('6.1'!I17+'6.2'!I17+'6.3'!I17)/3 -> 0 | J17: =('6.1'!J17+'6.2'!J17+'6.3'!J17)/3 -> 0 | ... M17: =('6.1'!M17+'6.2'!M17+'6.3'!M17)/3 -> 0 | N17: =AVERAGE(C17:M17) -> 0
... A28: 23 | B28: ='1.1'!B28 -> 0 | C28: =('6.1'!C28+'6.2'!C28+'6.3'!C28)/3 -> 0 | D28: =('6.1'!D28+'6.2'!D28+'6.3'!D28)/3 -> 0 | E28: =('6.1'!E28+'6.2'!E28+'6.3'!E28)/3 -> 0 | F28: =('6.1'!F28+'6.2'!F28+'6.3'!F28)/3 -> 0 | G28: =('6.1'!G28+'6.2'!G28+'6.3'!G28)/3 -> 0 | H28: =('6.1'!H28+'6.2'!H28+'6.3'!H28)/3 -> 0 | I28: =('6.1'!I28+'6.2'!I28+'6.3'!I28)/3 -> 0 | J28: =('6.1'!J28+'6.2'!J28+'6.3'!J28)/3 -> 0 | ... M28: =('6.1'!M28+'6.2'!M28+'6.3'!M28)/3 -> 0 | N28: =AVERAGE(C28:M28) -> 0

Sheet 7.1
A1: แบบประเมินคุณลักษณะอันพึงประสงค์
A2: ที่ | B2: ชื่อ - สกุล | C2: 7. รักความเป็นไทย | N2: รวม | O2: ผลการประเมิน
C3: 7.1 ปฏิบัติตามขนบธรรมเนียม ประเพณี ศิลปะ วัฒนธรรมไทย
C4: ภาษาไทย | D4: คณิตศาสตร์ | E4: วิทยาศาสตร์ | F4: สังคมศึกษา | G4: ประวัติศาสตร์ | H4: สุข / พละ | I4: ศิลปะ | J4: การงานอาชีพ | K4: ภาษาอังกฤษ | L4: หน้าที่พลเมือง | M4: การป้องกันการทุจริต | O4: ดีเยี่ยม | P4: ดี | Q4: ผ่านเกณฑ์
A5: ระดับคุณภาพ | C5: =ไทย!W7 -> 3 | D5: =คณิต!W7 -> 3 | E5: =วิทย์!W7 -> 3 | F5: =สังคม!W7 -> 3 | G5: =ประวัติ!W7 -> 3 | H5: =สุขพละ!W7 -> 3 | I5: =ศิลปะ!W7 -> 3 | J5: =การงาน!W7 -> 3 | K5: =ENG!W7 -> 3 | L5: =หน้าที่!W7 -> 3 | M5: =ต้าน!W7 -> 3 | N5: =AVERAGE(C5:L5) -> 3
A6: 1 | B6: ='1.1'!B6 -> บาส | C6: =ไทย!W8 -> 0 | D6: =คณิต!W8 -> 0 | E6: =วิทย์!W8 -> 0 | F6: =สังคม!W8 -> 0 | G6: =ประวัติ!W8 -> 0 | H6: =สุขพละ!W8 -> 0 | I6: =ศิลปะ!W8 -> 0 | J6: =การงาน!W8 -> 0 | K6: =ENG!W8 -> 0 | L6: =หน้าที่!W8 -> 0 | M6: =ต้าน!W8 -> 0 | N6: =AVERAGE(C6:L6) -> 0
A7: 2 | B7: ='1.1'!B7 -> 0 | C7: =ไทย!W9 -> 0 | D7: =คณิต!W9 -> 0 | E7: =วิทย์!W9 -> 0 | F7: =สังคม!W9 -> 0 | G7: =ประวัติ!W9 -> 0 | H7: =สุขพละ!W9 -> 0 | I7: =ศิลปะ!W9 -> 0 | J7: =การงาน!W9 -> 0 | K7: =ENG!W9 -> 0 | L7: =หน้าที่!W9 -> 0 | M7: =ต้าน!W9 -> 0 | N7: =AVERAGE(C7:L7) -> 0
A8: 3 | B8: ='1.1'!B8 -> 0 | C8: =ไทย!W10 -> 0 | D8: =คณิต!W10 -> 0 | E8: =วิทย์!W10 -> 0 | F8: =สังคม!W10 -> 0 | G8: =ประวัติ!W10 -> 0 | H8: =สุขพละ!W10 -> 0 | I8: =ศิลปะ!W10 -> 0 | J8: =การงาน!W10 -> 0 | K8: =ENG!W10 -> 0 | L8: =หน้าที่!W10 -> 0 | M8: =ต้าน!W10 -> 0 | N8: =AVERAGE(C8:L8) -> 0
A9: 4 | B9: ='1.1'!B9 -> 0 | C9: =ไทย!W11 -> 0 | D9: =คณิต!W11 -> 0 | E9: =วิทย์!W11 -> 0 | F9: =สังคม!W11 -> 0 | G9: =ประวัติ!W11 -> 0 | H9: =สุขพละ!W11 -> 0 | I9: =ศิลปะ!W11 -> 0 | J9: =การงาน!W11 -> 0 | K9: =ENG!W11 -> 0 | L9: =หน้าที่!W11 -> 0 | M9: =ต้าน!W11 -> 0 | N9: =AVERAGE(C9:L9) -> 0
A10: 5 | B10: ='1.1'!B10 -> 0 | C10: =ไทย!W12 -> 0 | D10: =คณิต!W12 -> 0 | E10: =วิทย์!W12 -> 0 | F10: =สังคม!W12 -> 0 | G10: =ประวัติ!W12 -> 0 | H10: =สุขพละ!W12 -> 0 | I10: =ศิลปะ!W12 -> 0 | J10: =การงาน!W12 -> 0 | K10: =ENG!W12 -> 0 | L10: =หน้าที่!W12 -> 0 | M10: =ต้าน!W12 -> 0 | N10: =AVERAGE(C10:L10) -> 0
A11: 6 | B11: ='1.1'!B11 -> 0 | C11: =ไทย!W13 -> 0 | D11: =คณิต!W13 -> 0 | E11: =วิทย์!W13 -> 0 | F11: =สังคม!W13 -> 0 | G11: =ประวัติ!W13 -> 0 | H11: =สุขพละ!W13 -> 0 | I11: =ศิลปะ!W13 -> 0 | J11: =การงาน!W13 -> 0 | K11: =ENG!W13 -> 0 | L11: =หน้าที่!W13 -> 0 | M11: =ต้าน!W13 -> 0 | N11: =AVERAGE(C11:L11) -> 0
A12: 7 | B12: ='1.1'!B12 -> 0 | C12: =ไทย!W14 -> 0 | D12: =คณิต!W14 -> 0 | E12: =วิทย์!W14 -> 0 | F12: =สังคม!W14 -> 0 | G12: =ประวัติ!W14 -> 0 | H12: =สุขพละ!W14 -> 0 | I12: =ศิลปะ!W14 -> 0 | J12: =การงาน!W14 -> 0 | K12: =ENG!W14 -> 0 | L12: =หน้าที่!W14 -> 0 | M12: =ต้าน!W14 -> 0 | N12: =AVERAGE(C12:L12) -> 0
A13: 8 | B13: ='1.1'!B13 -> 0 | C13: =ไทย!W15 -> 0 | D13: =คณิต!W15 -> 0 | E13: =วิทย์!W15 -> 0 | F13: =สังคม!W15 -> 0 | G13: =ประวัติ!W15 -> 0 | H13: =สุขพละ!W15 -> 0 | I13: =ศิลปะ!W15 -> 0 | J13: =การงาน!W15 -> 0 | K13: =ENG!W15 -> 0 | L13: =หน้าที่!W15 -> 0 | M13: =ต้าน!W15 -> 0 | N13: =AVERAGE(C13:L13) -> 0
A14: 9 | B14: ='1.1'!B14 -> 0 | C14: =ไทย!W16 -> 0 | D14: =คณิต!W16 -> 0 | E14: =วิทย์!W16 -> 0 | F14: =สังคม!W16 -> 0 | G14: =ประวัติ!W16 -> 0 | H14: =สุขพละ!W16 -> 0 | I14: =ศิลปะ!W16 -> 0 | J14: =การงาน!W16 -> 0 | K14: =ENG!W16 -> 0 | L14: =หน้าที่!W16 -> 0 | M14: =ต้าน!W16 -> 0 | N14: =AVERAGE(C14:L14) -> 0
A15: 10 | B15: ='1.1'!B15 -> 0 | C15: =ไทย!W17 -> 0 | D15: =คณิต!W17 -> 0 | E15: =วิทย์!W17 -> 0 | F15: =สังคม!W17 -> 0 | G15: =ประวัติ!W17 -> 0 | H15: =สุขพละ!W17 -> 0 | I15: =ศิลปะ!W17 -> 0 | J15: =การงาน!W17 -> 0 | K15: =ENG!W17 -> 0 | L15: =หน้าที่!W17 -> 0 | M15: =ต้าน!W17 -> 0 | N15: =AVERAGE(C15:L15) -> 0
A16: 11 | B16: ='1.1'!B16 -> 0 | C16: =ไทย!W18 -> 0 | D16: =คณิต!W18 -> 0 | E16: =วิทย์!W18 -> 0 | F16: =สังคม!W18 -> 0 | G16: =ประวัติ!W18 -> 0 | H16: =สุขพละ!W18 -> 0 | I16: =ศิลปะ!W18 -> 0 | J16: =การงาน!W18 -> 0 | K16: =ENG!W18 -> 0 | L16: =หน้าที่!W18 -> 0 | M16: =ต้าน!W18 -> 0 | N16: =AVERAGE(C16:L16) -> 0
A17: 12 | B17: ='1.1'!B17 -> 0 | C17: =ไทย!W19 -> 0 | D17: =คณิต!W19 -> 0 | E17: =วิทย์!W19 -> 0 | F17: =สังคม!W19 -> 0 | G17: =ประวัติ!W19 -> 0 | H17: =สุขพละ!W19 -> 0 | I17: =ศิลปะ!W19 -> 0 | J17: =การงาน!W19 -> 0 | K17: =ENG!W19 -> 0 | L17: =หน้าที่!W19 -> 0 | M17: =ต้าน!W19 -> 0 | N17: =AVERAGE(C17:L17) -> 0
... A28: 23 | B28: ='1.1'!B28 -> 0 | C28: =ไทย!W30 -> 0 | D28: =คณิต!W30 -> 0 | E28: =วิทย์!W30 -> 0 | F28: =สังคม!W30 -> 0 | G28: =ประวัติ!W30 -> 0 | H28: =สุขพละ!W30 -> 0 | I28: =ศิลปะ!W30 -> 0 | J28: =การงาน!W30 -> 0 | K28: =ENG!W30 -> 0 | L28: =หน้าที่!W30 -> 0 | M28: =ต้าน!W30 -> 0 | N28: =AVERAGE(C28:L28) -> 0

Sheet 7.2
A1: แบบประเมินคุณลักษณะอันพึงประสงค์
A2: ที่ | B2: ชื่อ - สกุล | C2: 7. รักความเป็นไทย | N2: รวม | O2: ผลการประเมิน
C3: 7.2 ใช้ภาษาไทย เลขไทยในการสื่อสารได้อย่างถูกต้อง
C4: ภาษาไทย | D4: คณิตศาสตร์ | E4: วิทยาศาสตร์ | F4: สังคมศึกษา | G4: ประวัติศาสตร์ | H4: สุข / พละ | I4: ศิลปะ | J4: การงานอาชีพ | K4: ภาษาอังกฤษ | L4: หน้าที่พลเมือง | M4: การป้องกันการทุจริต | O4: ดีเยี่ยม | P4: ดี | Q4: ผ่านเกณฑ์
A5: ระดับคุณภาพ | C5: =ไทย!X7 -> 3 | D5: =คณิต!X7 -> 3 | E5: =วิทย์!X7 -> 3 | F5: =สังคม!X7 -> 3 | G5: =ประวัติ!X7 -> 3 | H5: =สุขพละ!X7 -> 3 | I5: =ศิลปะ!X7 -> 3 | J5: =การงาน!X7 -> 3 | K5: =ENG!X7 -> 3 | L5: =หน้าที่!X7 -> 3 | M5: =ต้าน!X7 -> 3 | N5: =AVERAGE(C5:L5) -> 3
A6: 1 | B6: ='1.1'!B6 -> บาส | C6: =ไทย!X8 -> 0 | D6: =คณิต!X8 -> 0 | E6: =วิทย์!X8 -> 0 | F6: =สังคม!X8 -> 0 | G6: =ประวัติ!X8 -> 0 | H6: =สุขพละ!X8 -> 0 | I6: =ศิลปะ!X8 -> 0 | J6: =การงาน!X8 -> 0 | K6: =ENG!X8 -> 0 | L6: =หน้าที่!X8 -> 0 | M6: =ต้าน!X8 -> 0 | N6: =AVERAGE(C6:L6) -> 0
A7: 2 | B7: ='1.1'!B7 -> 0 | C7: =ไทย!X9 -> 0 | D7: =คณิต!X9 -> 0 | E7: =วิทย์!X9 -> 0 | F7: =สังคม!X9 -> 0 | G7: =ประวัติ!X9 -> 0 | H7: =สุขพละ!X9 -> 0 | I7: =ศิลปะ!X9 -> 0 | J7: =การงาน!X9 -> 0 | K7: =ENG!X9 -> 0 | L7: =หน้าที่!X9 -> 0 | M7: =ต้าน!X9 -> 0 | N7: =AVERAGE(C7:L7) -> 0
A8: 3 | B8: ='1.1'!B8 -> 0 | C8: =ไทย!X10 -> 0 | D8: =คณิต!X10 -> 0 | E8: =วิทย์!X10 -> 0 | F8: =สังคม!X10 -> 0 | G8: =ประวัติ!X10 -> 0 | H8: =สุขพละ!X10 -> 0 | I8: =ศิลปะ!X10 -> 0 | J8: =การงาน!X10 -> 0 | K8: =ENG!X10 -> 0 | L8: =หน้าที่!X10 -> 0 | M8: =ต้าน!X10 -> 0 | N8: =AVERAGE(C8:L8) -> 0
A9: 4 | B9: ='1.1'!B9 -> 0 | C9: =ไทย!X11 -> 0 | D9: =คณิต!X11 -> 0 | E9: =วิทย์!X11 -> 0 | F9: =สังคม!X11 -> 0 | G9: =ประวัติ!X11 -> 0 | H9: =สุขพละ!X11 -> 0 | I9: =ศิลปะ!X11 -> 0 | J9: =การงาน!X11 -> 0 | K9: =ENG!X11 -> 0 | L9: =หน้าที่!X11 -> 0 | M9: =ต้าน!X11 -> 0 | N9: =AVERAGE(C9:L9) -> 0
A10: 5 | B10: ='1.1'!B10 -> 0 | C10: =ไทย!X12 -> 0 | D10: =คณิต!X12 -> 0 | E10: =วิทย์!X12 -> 0 | F10: =สังคม!X12 -> 0 | G10: =ประวัติ!X12 -> 0 | H10: =สุขพละ!X12 -> 0 | I10: =ศิลปะ!X12 -> 0 | J10: =การงาน!X12 -> 0 | K10: =ENG!X12 -> 0 | L10: =หน้าที่!X12 -> 0 | M10: =ต้าน!X12 -> 0 | N10: =AVERAGE(C10:L10) -> 0
A11: 6 | B11: ='1.1'!B11 -> 0 | C11: =ไทย!X13 -> 0 | D11: =คณิต!X13 -> 0 | E11: =วิทย์!X13 -> 0 | F11: =สังคม!X13 -> 0 | G11: =ประวัติ!X13 -> 0 | H11: =สุขพละ!X13 -> 0 | I11: =ศิลปะ!X13 -> 0 | J11: =การงาน!X13 -> 0 | K11: =ENG!X13 -> 0 | L11: =หน้าที่!X13 -> 0 | M11: =ต้าน!X13 -> 0 | N11: =AVERAGE(C11:L11) -> 0
A12: 7 | B12: ='1.1'!B12 -> 0 | C12: =ไทย!X14 -> 0 | D12: =คณิต!X14 -> 0 | E12: =วิทย์!X14 -> 0 | F12: =สังคม!X14 -> 0 | G12: =ประวัติ!X14 -> 0 | H12: =สุขพละ!X14 -> 0 | I12: =ศิลปะ!X14 -> 0 | J12: =การงาน!X14 -> 0 | K12: =ENG!X14 -> 0 | L12: =หน้าที่!X14 -> 0 | M12: =ต้าน!X14 -> 0 | N12: =AVERAGE(C12:L12) -> 0
A13: 8 | B13: ='1.1'!B13 -> 0 | C13: =ไทย!X15 -> 0 | D13: =คณิต!X15 -> 0 | E13: =วิทย์!X15 -> 0 | F13: =สังคม!X15 -> 0 | G13: =ประวัติ!X15 -> 0 | H13: =สุขพละ!X15 -> 0 | I13: =ศิลปะ!X15 -> 0 | J13: =การงาน!X15 -> 0 | K13: =ENG!X15 -> 0 | L13: =หน้าที่!X15 -> 0 | M13: =ต้าน!X15 -> 0 | N13: =AVERAGE(C13:L13) -> 0
A14: 9 | B14: ='1.1'!B14 -> 0 | C14: =ไทย!X16 -> 0 | D14: =คณิต!X16 -> 0 | E14: =วิทย์!X16 -> 0 | F14: =สังคม!X16 -> 0 | G14: =ประวัติ!X16 -> 0 | H14: =สุขพละ!X16 -> 0 | I14: =ศิลปะ!X16 -> 0 | J14: =การงาน!X16 -> 0 | K14: =ENG!X16 -> 0 | L14: =หน้าที่!X16 -> 0 | M14: =ต้าน!X16 -> 0 | N14: =AVERAGE(C14:L14) -> 0
A15: 10 | B15: ='1.1'!B15 -> 0 | C15: =ไทย!X17 -> 0 | D15: =คณิต!X17 -> 0 | E15: =วิทย์!X17 -> 0 | F15: =สังคม!X17 -> 0 | G15: =ประวัติ!X17 -> 0 | H15: =สุขพละ!X17 -> 0 | I15: =ศิลปะ!X17 -> 0 | J15: =การงาน!X17 -> 0 | K15: =ENG!X17 -> 0 | L15: =หน้าที่!X17 -> 0 | M15: =ต้าน!X17 -> 0 | N15: =AVERAGE(C15:L15) -> 0
A16: 11 | B16: ='1.1'!B16 -> 0 | C16: =ไทย!X18 -> 0 | D16: =คณิต!X18 -> 0 | E16: =วิทย์!X18 -> 0 | F16: =สังคม!X18 -> 0 | G16: =ประวัติ!X18 -> 0 | H16: =สุขพละ!X18 -> 0 | I16: =ศิลปะ!X18 -> 0 | J16: =การงาน!X18 -> 0 | K16: =ENG!X18 -> 0 | L16: =หน้าที่!X18 -> 0 | M16: =ต้าน!X18 -> 0 | N16: =AVERAGE(C16:L16) -> 0
A17: 12 | B17: ='1.1'!B17 -> 0 | C17: =ไทย!X19 -> 0 | D17: =คณิต!X19 -> 0 | E17: =วิทย์!X19 -> 0 | F17: =สังคม!X19 -> 0 | G17: =ประวัติ!X19 -> 0 | H17: =สุขพละ!X19 -> 0 | I17: =ศิลปะ!X19 -> 0 | J17: =การงาน!X19 -> 0 | K17: =ENG!X19 -> 0 | L17: =หน้าที่!X19 -> 0 | M17: =ต้าน!X19 -> 0 | N17: =AVERAGE(C17:L17) -> 0
... A28: 23 | B28: ='1.1'!B28 -> 0 | C28: =ไทย!X30 -> 0 | D28: =คณิต!X30 -> 0 | E28: =วิทย์!X30 -> 0 | F28: =สังคม!X30 -> 0 | G28: =ประวัติ!X30 -> 0 | H28: =สุขพละ!X30 -> 0 | I28: =ศิลปะ!X30 -> 0 | J28: =การงาน!X30 -> 0 | K28: =ENG!X30 -> 0 | L28: =หน้าที่!X30 -> 0 | M28: =ต้าน!X30 -> 0 | N28: =AVERAGE(C28:L28) -> 0

Sheet 7.3
A1: แบบประเมินคุณลักษณะอันพึงประสงค์
A2: ที่ | B2: ชื่อ - สกุล | C2: 7. รักความเป็นไทย | N2: รวม | O2: ผลการประเมิน
C3: 7.3 ร่วมกิจกรรมที่เกี่ยวข้องกับภูมิปัญญาไทย นำมาใช้ให้เหมาะสม ในวิถีชีวิต
C4: ภาษาไทย | D4: คณิตศาสตร์ | E4: วิทยาศาสตร์ | F4: สังคมศึกษา | G4: ประวัติศาสตร์ | H4: สุข / พละ | I4: ศิลปะ | J4: การงานอาชีพ | K4: ภาษาอังกฤษ | L4: หน้าที่พลเมือง | M4: การป้องกันการทุจริต | O4: ดีเยี่ยม | P4: ดี | Q4: ผ่านเกณฑ์
A5: ระดับคุณภาพ | C5: =ไทย!Y7 -> 3 | D5: =คณิต!Y7 -> 3 | E5: =วิทย์!Y7 -> 3 | F5: =สังคม!Y7 -> 3 | G5: =ประวัติ!Y7 -> 3 | H5: =สุขพละ!Y7 -> 3 | I5: =ศิลปะ!Y7 -> 3 | J5: =การงาน!Y7 -> 3 | K5: =ENG!Y7 -> 3 | L5: =หน้าที่!Y7 -> 3 | M5: =ต้าน!Z7 -> 3 | N5: =AVERAGE(C5:L5) -> 3
A6: 1 | B6: ='1.1'!B6 -> บาส | C6: =ไทย!Y8 -> 0 | D6: =คณิต!Y8 -> 0 | E6: =วิทย์!Y8 -> 0 | F6: =สังคม!Y8 -> 0 | G6: =ประวัติ!Y8 -> 0 | H6: =สุขพละ!Y8 -> 0 | I6: =ศิลปะ!Y8 -> 0 | J6: =การงาน!Y8 -> 0 | K6: =ENG!Y8 -> 0 | L6: =หน้าที่!Y8 -> 0 | M6: =ต้าน!Z8 -> 0 | N6: =AVERAGE(C6:L6) -> 0
A7: 2 | B7: ='1.1'!B7 -> 0 | C7: =ไทย!Y9 -> 0 | D7: =คณิต!Y9 -> 0 | E7: =วิทย์!Y9 -> 0 | F7: =สังคม!Y9 -> 0 | G7: =ประวัติ!Y9 -> 0 | H7: =สุขพละ!Y9 -> 0 | I7: =ศิลปะ!Y9 -> 0 | J7: =การงาน!Y9 -> 0 | K7: =ENG!Y9 -> 0 | L7: =หน้าที่!Y9 -> 0 | M7: =ต้าน!Z9 -> 0 | N7: =AVERAGE(C7:L7) -> 0
A8: 3 | B8: ='1.1'!B8 -> 0 | C8: =ไทย!Y10 -> 0 | D8: =คณิต!Y10 -> 0 | E8: =วิทย์!Y10 -> 0 | F8: =สังคม!Y10 -> 0 | G8: =ประวัติ!Y10 -> 0 | H8: =สุขพละ!Y10 -> 0 | I8: =ศิลปะ!Y10 -> 0 | J8: =การงาน!Y10 -> 0 | K8: =ENG!Y10 -> 0 | L8: =หน้าที่!Y10 -> 0 | M8: =ต้าน!Z10 -> 0 | N8: =AVERAGE(C8:L8) -> 0
A9: 4 | B9: ='1.1'!B9 -> 0 | C9: =ไทย!Y11 -> 0 | D9: =คณิต!Y11 -> 0 | E9: =วิทย์!Y11 -> 0 | F9: =สังคม!Y11 -> 0 | G9: =ประวัติ!Y11 -> 0 | H9: =สุขพละ!Y11 -> 0 | I9: =ศิลปะ!Y11 -> 0 | J9: =การงาน!Y11 -> 0 | K9: =ENG!Y11 -> 0 | L9: =หน้าที่!Y11 -> 0 | M9: =ต้าน!Z11 -> 0 | N9: =AVERAGE(C9:L9) -> 0
A10: 5 | B10: ='1.1'!B10 -> 0 | C10: =ไทย!Y12 -> 0 | D10: =คณิต!Y12 -> 0 | E10: =วิทย์!Y12 -> 0 | F10: =สังคม!Y12 -> 0 | G10: =ประวัติ!Y12 -> 0 | H10: =สุขพละ!Y12 -> 0 | I10: =ศิลปะ!Y12 -> 0 | J10: =การงาน!Y12 -> 0 | K10: =ENG!Y12 -> 0 | L10: =หน้าที่!Y12 -> 0 | M10: =ต้าน!Z12 -> 0 | N10: =AVERAGE(C10:L10) -> 0
A11: 6 | B11: ='1.1'!B11 -> 0 | C11: =ไทย!Y13 -> 0 | D11: =คณิต!Y13 -> 0 | E11: =วิทย์!Y13 -> 0 | F11: =สังคม!Y13 -> 0 | G11: =ประวัติ!Y13 -> 0 | H11: =สุขพละ!Y13 -> 0 | I11: =ศิลปะ!Y13 -> 0 | J11: =การงาน!Y13 -> 0 | K11: =ENG!Y13 -> 0 | L11: =หน้าที่!Y13 -> 0 | M11: =ต้าน!Z13 -> 0 | N11: =AVERAGE(C11:L11) -> 0
A12: 7 | B12: ='1.1'!B12 -> 0 | C12: =ไทย!Y14 -> 0 | D12: =คณิต!Y14 -> 0 | E12: =วิทย์!Y14 -> 0 | F12: =สังคม!Y14 -> 0 | G12: =ประวัติ!Y14 -> 0 | H12: =สุขพละ!Y14 -> 0 | I12: =ศิลปะ!Y14 -> 0 | J12: =การงาน!Y14 -> 0 | K12: =ENG!Y14 -> 0 | L12: =หน้าที่!Y14 -> 0 | M12: =ต้าน!Z14 -> 0 | N12: =AVERAGE(C12:L12) -> 0
A13: 8 | B13: ='1.1'!B13 -> 0 | C13: =ไทย!Y15 -> 0 | D13: =คณิต!Y15 -> 0 | E13: =วิทย์!Y15 -> 0 | F13: =สังคม!Y15 -> 0 | G13: =ประวัติ!Y15 -> 0 | H13: =สุขพละ!Y15 -> 0 | I13: =ศิลปะ!Y15 -> 0 | J13: =การงาน!Y15 -> 0 | K13: =ENG!Y15 -> 0 | L13: =หน้าที่!Y15 -> 0 | M13: =ต้าน!Z15 -> 0 | N13: =AVERAGE(C13:L13) -> 0
A14: 9 | B14: ='1.1'!B14 -> 0 | C14: =ไทย!Y16 -> 0 | D14: =คณิต!Y16 -> 0 | E14: =วิทย์!Y16 -> 0 | F14: =สังคม!Y16 -> 0 | G14: =ประวัติ!Y16 -> 0 | H14: =สุขพละ!Y16 -> 0 | I14: =ศิลปะ!Y16 -> 0 | J14: =การงาน!Y16 -> 0 | K14: =ENG!Y16 -> 0 | L14: =หน้าที่!Y16 -> 0 | M14: =ต้าน!Z16 -> 0 | N14: =AVERAGE(C14:L14) -> 0
A15: 10 | B15: ='1.1'!B15 -> 0 | C15: =ไทย!Y17 -> 0 | D15: =คณิต!Y17 -> 0 | E15: =วิทย์!Y17 -> 0 | F15: =สังคม!Y17 -> 0 | G15: =ประวัติ!Y17 -> 0 | H15: =สุขพละ!Y17 -> 0 | I15: =ศิลปะ!Y17 -> 0 | J15: =การงาน!Y17 -> 0 | K15: =ENG!Y17 -> 0 | L15: =หน้าที่!Y17 -> 0 | M15: =ต้าน!Z17 -> 0 | N15: =AVERAGE(C15:L15) -> 0
A16: 11 | B16: ='1.1'!B16 -> 0 | C16: =ไทย!Y18 -> 0 | D16: =คณิต!Y18 -> 0 | E16: =วิทย์!Y18 -> 0 | F16: =สังคม!Y18 -> 0 | G16: =ประวัติ!Y18 -> 0 | H16: =สุขพละ!Y18 -> 0 | I16: =ศิลปะ!Y18 -> 0 | J16: =การงาน!Y18 -> 0 | K16: =ENG!Y18 -> 0 | L16: =หน้าที่!Y18 -> 0 | M16: =ต้าน!Z18 -> 0 | N16: =AVERAGE(C16:L16) -> 0
A17: 12 | B17: ='1.1'!B17 -> 0 | C17: =ไทย!Y19 -> 0 | D17: =คณิต!Y19 -> 0 | E17: =วิทย์!Y19 -> 0 | F17: =สังคม!Y19 -> 0 | G17: =ประวัติ!Y19 -> 0 | H17: =สุขพละ!Y19 -> 0 | I17: =ศิลปะ!Y19 -> 0 | J17: =การงาน!Y19 -> 0 | K17: =ENG!Y19 -> 0 | L17: =หน้าที่!Y19 -> 0 | M17: =ต้าน!Z19 -> 0 | N17: =AVERAGE(C17:L17) -> 0
... A28: 23 | B28: ='1.1'!B28 -> 0 | C28: =ไทย!Y30 -> 0 | D28: =คณิต!Y30 -> 0 | E28: =วิทย์!Y30 -> 0 | F28: =สังคม!Y30 -> 0 | G28: =ประวัติ!Y30 -> 0 | H28: =สุขพละ!Y30 -> 0 | I28: =ศิลปะ!Y30 -> 0 | J28: =การงาน!Y30 -> 0 | K28: =ENG!Y30 -> 0 | L28: =หน้าที่!Y30 -> 0 | M28: =ต้าน!Z30 -> 0 | N28: =AVERAGE(C28:L28) -> 0

Sheet สรุป 7
A1: แบบประเมินคุณลักษณะอันพึงประสงค์
A2: ที่ | B2: ชื่อ - สกุล | C2: 7. รักความเป็นไทย | N2: รวม | O2: ผลการประเมิน
C4: ภาษาไทย | D4: คณิตศาสตร์ | E4: วิทยาศาสตร์ | F4: สังคมศึกษา | G4: ประวัติศาสตร์ | H4: สุข / พละ | I4: ศิลปะ | J4: การงานอาชีพ | K4: ภาษาอังกฤษ | L4: หน้าที่พลเมือง | M4: การป้องกันการทุจริต | O4: ดีเยี่ยม | P4: ดี | Q4: ผ่านเกณฑ์
A5: ระดับคุณภาพ | C5: =('7.1'!C5+'7.2'!C5+'7.3'!C5)/3 -> 3 | D5: =('7.1'!D5+'7.2'!D5+'7.3'!D5)/3 -> 3 | E5: =('7.1'!E5+'7.2'!E5+'7.3'!E5)/3 -> 3 | F5: =('7.1'!F5+'7.2'!F5+'7.3'!F5)/3 -> 3 | G5: =('7.1'!G5+'7.2'!G5+'7.3'!G5)/3 -> 3 | H5: =('7.1'!H5+'7.2'!H5+'7.3'!H5)/3 -> 3 | I5: =('7.1'!I5+'7.2'!I5+'7.3'!I5)/3 -> 3 | J5: =('7.1'!J5+'7.2'!J5+'7.3'!J5)/3 -> 3 | ... M5: =('7.1'!M5+'7.2'!M5+'7.3'!M5)/3 -> 3 | N5: =AVERAGE(C5:M5) -> 3
A6: 1 | B6: ='1.1'!B6 -> บาส | C6: =('7.1'!C6+'7.2'!C6+'7.3'!C6)/3 -> 0 | D6: =('7.1'!D6+'7.2'!D6+'7.3'!D6)/3 -> 0 | E6: =('7.1'!E6+'7.2'!E6+'7.3'!E6)/3 -> 0 | F6: =('7.1'!F6+'7.2'!F6+'7.3'!F6)/3 -> 0 | G6: =('7.1'!G6+'7.2'!G6+'7.3'!G6)/3 -> 0 | H6: =('7.1'!H6+'7.2'!H6+'7.3'!H6)/3 -> 0 | I6: =('7.1'!I6+'7.2'!I6+'7.3'!I6)/3 -> 0 | J6: =('7.1'!J6+'7.2'!J6+'7.3'!J6)/3 -> 0 | ... M6: =('7.1'!M6+'7.2'!M6+'7.3'!M6)/3 -> 0 | N6: =AVERAGE(C6:M6) -> 0
A7: 2 | B7: ='1.1'!B7 -> 0 | C7: =('7.1'!C7+'7.2'!C7+'7.3'!C7)/3 -> 0 | D7: =('7.1'!D7+'7.2'!D7+'7.3'!D7)/3 -> 0 | E7: =('7.1'!E7+'7.2'!E7+'7.3'!E7)/3 -> 0 | F7: =('7.1'!F7+'7.2'!F7+'7.3'!F7)/3 -> 0 | G7: =('7.1'!G7+'7.2'!G7+'7.3'!G7)/3 -> 0 | H7: =('7.1'!H7+'7.2'!H7+'7.3'!H7)/3 -> 0 | I7: =('7.1'!I7+'7.2'!I7+'7.3'!I7)/3 -> 0 | J7: =('7.1'!J7+'7.2'!J7+'7.3'!J7)/3 -> 0 | ... M7: =('7.1'!M7+'7.2'!M7+'7.3'!M7)/3 -> 0 | N7: =AVERAGE(C7:M7) -> 0
A8: 3 | B8: ='1.1'!B8 -> 0 | C8: =('7.1'!C8+'7.2'!C8+'7.3'!C8)/3 -> 0 | D8: =('7.1'!D8+'7.2'!D8+'7.3'!D8)/3 -> 0 | E8: =('7.1'!E8+'7.2'!E8+'7.3'!E8)/3 -> 0 | F8: =('7.1'!F8+'7.2'!F8+'7.3'!F8)/3 -> 0 | G8: =('7.1'!G8+'7.2'!G8+'7.3'!G8)/3 -> 0 | H8: =('7.1'!H8+'7.2'!H8+'7.3'!H8)/3 -> 0 | I8: =('7.1'!I8+'7.2'!I8+'7.3'!I8)/3 -> 0 | J8: =('7.1'!J8+'7.2'!J8+'7.3'!J8)/3 -> 0 | ... M8: =('7.1'!M8+'7.2'!M8+'7.3'!M8)/3 -> 0 | N8: =AVERAGE(C8:M8) -> 0
A9: 4 | B9: ='1.1'!B9 -> 0 | C9: =('7.1'!C9+'7.2'!C9+'7.3'!C9)/3 -> 0 | D9: =('7.1'!D9+'7.2'!D9+'7.3'!D9)/3 -> 0 | E9: =('7.1'!E9+'7.2'!E9+'7.3'!E9)/3 -> 0 | F9: =('7.1'!F9+'7.2'!F9+'7.3'!F9)/3 -> 0 | G9: =('7.1'!G9+'7.2'!G9+'7.3'!G9)/3 -> 0 | H9: =('7.1'!H9+'7.2'!H9+'7.3'!H9)/3 -> 0 | I9: =('7.1'!I9+'7.2'!I9+'7.3'!I9)/3 -> 0 | J9: =('7.1'!J9+'7.2'!J9+'7.3'!J9)/3 -> 0 | ... M9: =('7.1'!M9+'7.2'!M9+'7.3'!M9)/3 -> 0 | N9: =AVERAGE(C9:M9) -> 0
A10: 5 | B10: ='1.1'!B10 -> 0 | C10: =('7.1'!C10+'7.2'!C10+'7.3'!C10)/3 -> 0 | D10: =('7.1'!D10+'7.2'!D10+'7.3'!D10)/3 -> 0 | E10: =('7.1'!E10+'7.2'!E10+'7.3'!E10)/3 -> 0 | F10: =('7.1'!F10+'7.2'!F10+'7.3'!F10)/3 -> 0 | G10: =('7.1'!G10+'7.2'!G10+'7.3'!G10)/3 -> 0 | H10: =('7.1'!H10+'7.2'!H10+'7.3'!H10)/3 -> 0 | I10: =('7.1'!I10+'7.2'!I10+'7.3'!I10)/3 -> 0 | J10: =('7.1'!J10+'7.2'!J10+'7.3'!J10)/3 -> 0 | ... M10: =('7.1'!M10+'7.2'!M10+'7.3'!M10)/3 -> 0 | N10: =AVERAGE(C10:M10) -> 0
A11: 6 | B11: ='1.1'!B11 -> 0 | C11: =('7.1'!C11+'7.2'!C11+'7.3'!C11)/3 -> 0 | D11: =('7.1'!D11+'7.2'!D11+'7.3'!D11)/3 -> 0 | E11: =('7.1'!E11+'7.2'!E11+'7.3'!E11)/3 -> 0 | F11: =('7.1'!F11+'7.2'!F11+'7.3'!F11)/3 -> 0 | G11: =('7.1'!G11+'7.2'!G11+'7.3'!G11)/3 -> 0 | H11: =('7.1'!H11+'7.2'!H11+'7.3'!H11)/3 -> 0 | I11: =('7.1'!I11+'7.2'!I11+'7.3'!I11)/3 -> 0 | J11: =('7.1'!J11+'7.2'!J11+'7.3'!J11)/3 -> 0 | ... M11: =('7.1'!M11+'7.2'!M11+'7.3'!M11)/3 -> 0 | N11: =AVERAGE(C11:M11) -> 0
A12: 7 | B12: ='1.1'!B12 -> 0 | C12: =('7.1'!C12+'7.2'!C12+'7.3'!C12)/3 -> 0 | D12: =('7.1'!D12+'7.2'!D12+'7.3'!D12)/3 -> 0 | E12: =('7.1'!E12+'7.2'!E12+'7.3'!E12)/3 -> 0 | F12: =('7.1'!F12+'7.2'!F12+'7.3'!F12)/3 -> 0 | G12: =('7.1'!G12+'7.2'!G12+'7.3'!G12)/3 -> 0 | H12: =('7.1'!H12+'7.2'!H12+'7.3'!H12)/3 -> 0 | I12: =('7.1'!I12+'7.2'!I12+'7.3'!I12)/3 -> 0 | J12: =('7.1'!J12+'7.2'!J12+'7.3'!J12)/3 -> 0 | ... M12: =('7.1'!M12+'7.2'!M12+'7.3'!M12)/3 -> 0 | N12: =AVERAGE(C12:M12) -> 0
A13: 8 | B13: ='1.1'!B13 -> 0 | C13: =('7.1'!C13+'7.2'!C13+'7.3'!C13)/3 -> 0 | D13: =('7.1'!D13+'7.2'!D13+'7.3'!D13)/3 -> 0 | E13: =('7.1'!E13+'7.2'!E13+'7.3'!E13)/3 -> 0 | F13: =('7.1'!F13+'7.2'!F13+'7.3'!F13)/3 -> 0 | G13: =('7.1'!G13+'7.2'!G13+'7.3'!G13)/3 -> 0 | H13: =('7.1'!H13+'7.2'!H13+'7.3'!H13)/3 -> 0 | I13: =('7.1'!I13+'7.2'!I13+'7.3'!I13)/3 -> 0 | J13: =('7.1'!J13+'7.2'!J13+'7.3'!J13)/3 -> 0 | ... M13: =('7.1'!M13+'7.2'!M13+'7.3'!M13)/3 -> 0 | N13: =AVERAGE(C13:M13) -> 0
A14: 9 | B14: ='1.1'!B14 -> 0 | C14: =('7.1'!C14+'7.2'!C14+'7.3'!C14)/3 -> 0 | D14: =('7.1'!D14+'7.2'!D14+'7.3'!D14)/3 -> 0 | E14: =('7.1'!E14+'7.2'!E14+'7.3'!E14)/3 -> 0 | F14: =('7.1'!F14+'7.2'!F14+'7.3'!F14)/3 -> 0 | G14: =('7.1'!G14+'7.2'!G14+'7.3'!G14)/3 -> 0 | H14: =('7.1'!H14+'7.2'!H14+'7.3'!H14)/3 -> 0 | I14: =('7.1'!I14+'7.2'!I14+'7.3'!I14)/3 -> 0 | J14: =('7.1'!J14+'7.2'!J14+'7.3'!J14)/3 -> 0 | ... M14: =('7.1'!M14+'7.2'!M14+'7.3'!M14)/3 -> 0 | N14: =AVERAGE(C14:M14) -> 0
A15: 10 | B15: ='1.1'!B15 -> 0 | C15: =('7.1'!C15+'7.2'!C15+'7.3'!C15)/3 -> 0 | D15: =('7.1'!D15+'7.2'!D15+'7.3'!D15)/3 -> 0 | E15: =('7.1'!E15+'7.2'!E15+'7.3'!E15)/3 -> 0 | F15: =('7.1'!F15+'7.2'!F15+'7.3'!F15)/3 -> 0 | G15: =('7.1'!G15+'7.2'!G15+'7.3'!G15)/3 -> 0 | H15: =('7.1'!H15+'7.2'!H15+'7.3'!H15)/3 -> 0 | I15: =('7.1'!I15+'7.2'!I15+'7.3'!I15)/3 -> 0 | J15: =('7.1'!J15+'7.2'!J15+'7.3'!J15)/3 -> 0 | ... M15: =('7.1'!M15+'7.2'!M15+'7.3'!M15)/3 -> 0 | N15: =AVERAGE(C15:M15) -> 0
A16: 11 | B16: ='1.1'!B16 -> 0 | C16: =('7.1'!C16+'7.2'!C16+'7.3'!C16)/3 -> 0 | D16: =('7.1'!D16+'7.2'!D16+'7.3'!D16)/3 -> 0 | E16: =('7.1'!E16+'7.2'!E16+'7.3'!E16)/3 -> 0 | F16: =('7.1'!F16+'7.2'!F16+'7.3'!F16)/3 -> 0 | G16: =('7.1'!G16+'7.2'!G16+'7.3'!G16)/3 -> 0 | H16: =('7.1'!H16+'7.2'!H16+'7.3'!H16)/3 -> 0 | I16: =('7.1'!I16+'7.2'!I16+'7.3'!I16)/3 -> 0 | J16: =('7.1'!J16+'7.2'!J16+'7.3'!J16)/3 -> 0 | ... M16: =('7.1'!M16+'7.2'!M16+'7.3'!M16)/3 -> 0 | N16: =AVERAGE(C16:M16) -> 0
A17: 12 | B17: ='1.1'!B17 -> 0 | C17: =('7.1'!C17+'7.2'!C17+'7.3'!C17)/3 -> 0 | D17: =('7.1'!D17+'7.2'!D17+'7.3'!D17)/3 -> 0 | E17: =('7.1'!E17+'7.2'!E17+'7.3'!E17)/3 -> 0 | F17: =('7.1'!F17+'7.2'!F17+'7.3'!F17)/3 -> 0 | G17: =('7.1'!G17+'7.2'!G17+'7.3'!G17)/3 -> 0 | H17: =('7.1'!H17+'7.2'!H17+'7.3'!H17)/3 -> 0 | I17: =('7.1'!I17+'7.2'!I17+'7.3'!I17)/3 -> 0 | J17: =('7.1'!J17+'7.2'!J17+'7.3'!J17)/3 -> 0 | ... M17: =('7.1'!M17+'7.2'!M17+'7.3'!M17)/3 -> 0 | N17: =AVERAGE(C17:M17) -> 0
... A28: 23 | B28: ='1.1'!B28 -> 0 | C28: =('7.1'!C28+'7.2'!C28+'7.3'!C28)/3 -> 0 | D28: =('7.1'!D28+'7.2'!D28+'7.3'!D28)/3 -> 0 | E28: =('7.1'!E28+'7.2'!E28+'7.3'!E28)/3 -> 0 | F28: =('7.1'!F28+'7.2'!F28+'7.3'!F28)/3 -> 0 | G28: =('7.1'!G28+'7.2'!G28+'7.3'!G28)/3 -> 0 | H28: =('7.1'!H28+'7.2'!H28+'7.3'!H28)/3 -> 0 | I28: =('7.1'!I28+'7.2'!I28+'7.3'!I28)/3 -> 0 | J28: =('7.1'!J28+'7.2'!J28+'7.3'!J28)/3 -> 0 | ... M28: =('7.1'!M28+'7.2'!M28+'7.3'!M28)/3 -> 0 | N28: =AVERAGE(C28:M28) -> 0

Sheet 8.1
A1: แบบประเมินคุณลักษณะอันพึงประสงค์
A2: ที่ | B2: ชื่อ - สกุล | C2: 8. มีจิตสาธารณะ | N2: รวม | O2: ผลการประเมิน
C3: 8.1 ช่วยเหลือผู้อื่น แบ่งปันสิ่งของ อาสาทำงานให้ด้วยความเต็มใจไม่หวังผลตอบแทน
C4: ภาษาไทย | D4: คณิตศาสตร์ | E4: วิทยาศาสตร์ | F4: สังคมศึกษา | G4: ประวัติศาสตร์ | H4: สุข / พละ | I4: ศิลปะ | J4: การงานอาชีพ | K4: ภาษาอังกฤษ | L4: หน้าที่พลเมือง | M4: การป้องกันการทุจริต | O4: ดีเยี่ยม | P4: ดี | Q4: ผ่านเกณฑ์
A5: ระดับคุณภาพ | C5: =ไทย!Z7 -> 3 | D5: =คณิต!Z7 -> 3 | E5: =วิทย์!Z7 -> 3 | F5: =สังคม!Z7 -> 3 | G5: =ประวัติ!Z7 -> 3 | H5: =สุขพละ!Z7 -> 3 | I5: =ศิลปะ!Z7 -> 3 | J5: =การงาน!Z7 -> 3 | K5: =ENG!Z7 -> 3 | L5: =หน้าที่!Z7 -> 3 | M5: =ต้าน!Z7 -> 3 | N5: =AVERAGE(C5:L5) -> 3
A6: 1 | B6: ='1.1'!B6 -> บาส | C6: =ไทย!Z8 -> 0 | D6: =คณิต!Z8 -> 0 | E6: =วิทย์!Z8 -> 0 | F6: =สังคม!Z8 -> 0 | G6: =ประวัติ!Z8 -> 0 | H6: =สุขพละ!Z8 -> 0 | I6: =ศิลปะ!Z8 -> 0 | J6: =การงาน!Z8 -> 0 | K6: =ENG!Z8 -> 0 | L6: =หน้าที่!Z8 -> 0 | M6: =ต้าน!Z8 -> 0 | N6: =AVERAGE(C6:L6) -> 0
A7: 2 | B7: ='1.1'!B7 -> 0 | C7: =ไทย!Z9 -> 0 | D7: =คณิต!Z9 -> 0 | E7: =วิทย์!Z9 -> 0 | F7: =สังคม!Z9 -> 0 | G7: =ประวัติ!Z9 -> 0 | H7: =สุขพละ!Z9 -> 0 | I7: =ศิลปะ!Z9 -> 0 | J7: =การงาน!Z9 -> 0 | K7: =ENG!Z9 -> 0 | L7: =หน้าที่!Z9 -> 0 | M7: =ต้าน!Z9 -> 0 | N7: =AVERAGE(C7:L7) -> 0
A8: 3 | B8: ='1.1'!B8 -> 0 | C8: =ไทย!Z10 -> 0 | D8: =คณิต!Z10 -> 0 | E8: =วิทย์!Z10 -> 0 | F8: =สังคม!Z10 -> 0 | G8: =ประวัติ!Z10 -> 0 | H8: =สุขพละ!Z10 -> 0 | I8: =ศิลปะ!Z10 -> 0 | J8: =การงาน!Z10 -> 0 | K8: =ENG!Z10 -> 0 | L8: =หน้าที่!Z10 -> 0 | M8: =ต้าน!Z10 -> 0 | N8: =AVERAGE(C8:L8) -> 0
A9: 4 | B9: ='1.1'!B9 -> 0 | C9: =ไทย!Z11 -> 0 | D9: =คณิต!Z11 -> 0 | E9: =วิทย์!Z11 -> 0 | F9: =สังคม!Z11 -> 0 | G9: =ประวัติ!Z11 -> 0 | H9: =สุขพละ!Z11 -> 0 | I9: =ศิลปะ!Z11 -> 0 | J9: =การงาน!Z11 -> 0 | K9: =ENG!Z11 -> 0 | L9: =หน้าที่!Z11 -> 0 | M9: =ต้าน!Z11 -> 0 | N9: =AVERAGE(C9:L9) -> 0
A10: 5 | B10: ='1.1'!B10 -> 0 | C10: =ไทย!Z12 -> 0 | D10: =คณิต!Z12 -> 0 | E10: =วิทย์!Z12 -> 0 | F10: =สังคม!Z12 -> 0 | G10: =ประวัติ!Z12 -> 0 | H10: =สุขพละ!Z12 -> 0 | I10: =ศิลปะ!Z12 -> 0 | J10: =การงาน!Z12 -> 0 | K10: =ENG!Z12 -> 0 | L10: =หน้าที่!Z12 -> 0 | M10: =ต้าน!Z12 -> 0 | N10: =AVERAGE(C10:L10) -> 0
A11: 6 | B11: ='1.1'!B11 -> 0 | C11: =ไทย!Z13 -> 0 | D11: =คณิต!Z13 -> 0 | E11: =วิทย์!Z13 -> 0 | F11: =สังคม!Z13 -> 0 | G11: =ประวัติ!Z13 -> 0 | H11: =สุขพละ!Z13 -> 0 | I11: =ศิลปะ!Z13 -> 0 | J11: =การงาน!Z13 -> 0 | K11: =ENG!Z13 -> 0 | L11: =หน้าที่!Z13 -> 0 | M11: =ต้าน!Z13 -> 0 | N11: =AVERAGE(C11:L11) -> 0
A12: 7 | B12: ='1.1'!B12 -> 0 | C12: =ไทย!Z14 -> 0 | D12: =คณิต!Z14 -> 0 | E12: =วิทย์!Z14 -> 0 | F12: =สังคม!Z14 -> 0 | G12: =ประวัติ!Z14 -> 0 | H12: =สุขพละ!Z14 -> 0 | I12: =ศิลปะ!Z14 -> 0 | J12: =การงาน!Z14 -> 0 | K12: =ENG!Z14 -> 0 | L12: =หน้าที่!Z14 -> 0 | M12: =ต้าน!Z14 -> 0 | N12: =AVERAGE(C12:L12) -> 0
A13: 8 | B13: ='1.1'!B13 -> 0 | C13: =ไทย!Z15 -> 0 | D13: =คณิต!Z15 -> 0 | E13: =วิทย์!Z15 -> 0 | F13: =สังคม!Z15 -> 0 | G13: =ประวัติ!Z15 -> 0 | H13: =สุขพละ!Z15 -> 0 | I13: =ศิลปะ!Z15 -> 0 | J13: =การงาน!Z15 -> 0 | K13: =ENG!Z15 -> 0 | L13: =หน้าที่!Z15 -> 0 | M13: =ต้าน!Z15 -> 0 | N13: =AVERAGE(C13:L13) -> 0
A14: 9 | B14: ='1.1'!B14 -> 0 | C14: =ไทย!Z16 -> 0 | D14: =คณิต!Z16 -> 0 | E14: =วิทย์!Z16 -> 0 | F14: =สังคม!Z16 -> 0 | G14: =ประวัติ!Z16 -> 0 | H14: =สุขพละ!Z16 -> 0 | I14: =ศิลปะ!Z16 -> 0 | J14: =การงาน!Z16 -> 0 | K14: =ENG!Z16 -> 0 | L14: =หน้าที่!Z16 -> 0 | M14: =ต้าน!Z16 -> 0 | N14: =AVERAGE(C14:L14) -> 0
A15: 10 | B15: ='1.1'!B15 -> 0 | C15: =ไทย!Z17 -> 0 | D15: =คณิต!Z17 -> 0 | E15: =วิทย์!Z17 -> 0 | F15: =สังคม!Z17 -> 0 | G15: =ประวัติ!Z17 -> 0 | H15: =สุขพละ!Z17 -> 0 | I15: =ศิลปะ!Z17 -> 0 | J15: =การงาน!Z17 -> 0 | K15: =ENG!Z17 -> 0 | L15: =หน้าที่!Z17 -> 0 | M15: =ต้าน!Z17 -> 0 | N15: =AVERAGE(C15:L15) -> 0
A16: 11 | B16: ='1.1'!B16 -> 0 | C16: =ไทย!Z18 -> 0 | D16: =คณิต!Z18 -> 0 | E16: =วิทย์!Z18 -> 0 | F16: =สังคม!Z18 -> 0 | G16: =ประวัติ!Z18 -> 0 | H16: =สุขพละ!Z18 -> 0 | I16: =ศิลปะ!Z18 -> 0 | J16: =การงาน!Z18 -> 0 | K16: =ENG!Z18 -> 0 | L16: =หน้าที่!Z18 -> 0 | M16: =ต้าน!Z18 -> 0 | N16: =AVERAGE(C16:L16) -> 0
A17: 12 | B17: ='1.1'!B17 -> 0 | C17: =ไทย!Z19 -> 0 | D17: =คณิต!Z19 -> 0 | E17: =วิทย์!Z19 -> 0 | F17: =สังคม!Z19 -> 0 | G17: =ประวัติ!Z19 -> 0 | H17: =สุขพละ!Z19 -> 0 | I17: =ศิลปะ!Z19 -> 0 | J17: =การงาน!Z19 -> 0 | K17: =ENG!Z19 -> 0 | L17: =หน้าที่!Z19 -> 0 | M17: =ต้าน!Z19 -> 0 | N17: =AVERAGE(C17:L17) -> 0
... A28: 23 | B28: ='1.1'!B28 -> 0 | C28: =ไทย!Z30 -> 0 | D28: =คณิต!Z30 -> 0 | E28: =วิทย์!Z30 -> 0 | F28: =สังคม!Z30 -> 0 | G28: =ประวัติ!Z30 -> 0 | H28: =สุขพละ!Z30 -> 0 | I28: =ศิลปะ!Z30 -> 0 | J28: =การงาน!Z30 -> 0 | K28: =ENG!Z30 -> 0 | L28: =หน้าที่!Z30 -> 0 | M28: =ต้าน!Z30 -> 0 | N28: =AVERAGE(C28:L28) -> 0

Sheet 8.2
A1: แบบประเมินคุณลักษณะอันพึงประสงค์
A2: ที่ | B2: ชื่อ - สกุล | C2: 8. มีจิตสาธารณะ | N2: รวม | O2: ผลการประเมิน
C3: 8.2 เข้าร่วมกิจกรรมที่เป็นประโยชน์ต่อโรงเรียน ชุมชนและสังคม
C4: ภาษาไทย | D4: คณิตศาสตร์ | E4: วิทยาศาสตร์ | F4: สังคมศึกษา | G4: ประวัติศาสตร์ | H4: สุข / พละ | I4: ศิลปะ | J4: การงานอาชีพ | K4: ภาษาอังกฤษ | L4: หน้าที่พลเมือง | M4: การป้องกันการทุจริต | O4: ดีเยี่ยม | P4: ดี | Q4: ผ่านเกณฑ์
A5: ระดับคุณภาพ | C5: =ไทย!AA7 -> 3 | D5: =คณิต!AA7 -> 3 | E5: =วิทย์!AA7 -> 3 | F5: =สังคม!AA7 -> 3 | G5: =ประวัติ!AA7 -> 3 | H5: =สุขพละ!AA7 -> 3 | I5: =ศิลปะ!AA7 -> 3 | J5: =การงาน!AA7 -> 3 | K5: =ENG!AA7 -> 3 | L5: =หน้าที่!AA7 -> 3 | M5: =ต้าน!AA7 -> 3 | N5: =AVERAGE(C5:L5) -> 3
A6: 1 | B6: ='1.1'!B6 -> บาส | C6: =ไทย!AA8 -> 0 | D6: =คณิต!AA8 -> 0 | E6: =วิทย์!AA8 -> 0 | F6: =สังคม!AA8 -> 0 | G6: =ประวัติ!AA8 -> 0 | H6: =สุขพละ!AA8 -> 0 | I6: =ศิลปะ!AA8 -> 0 | J6: =การงาน!AA8 -> 0 | K6: =ENG!AA8 -> 0 | L6: =หน้าที่!AA8 -> 0 | M6: =ต้าน!AA8 -> 0 | N6: =AVERAGE(C6:L6) -> 0
A7: 2 | B7: ='1.1'!B7 -> 0 | C7: =ไทย!AA9 -> 0 | D7: =คณิต!AA9 -> 0 | E7: =วิทย์!AA9 -> 0 | F7: =สังคม!AA9 -> 0 | G7: =ประวัติ!AA9 -> 0 | H7: =สุขพละ!AA9 -> 0 | I7: =ศิลปะ!AA9 -> 0 | J7: =การงาน!AA9 -> 0 | K7: =ENG!AA9 -> 0 | L7: =หน้าที่!AA9 -> 0 | M7: =ต้าน!AA9 -> 0 | N7: =AVERAGE(C7:L7) -> 0
A8: 3 | B8: ='1.1'!B8 -> 0 | C8: =ไทย!AA10 -> 0 | D8: =คณิต!AA10 -> 0 | E8: =วิทย์!AA10 -> 0 | F8: =สังคม!AA10 -> 0 | G8: =ประวัติ!AA10 -> 0 | H8: =สุขพละ!AA10 -> 0 | I8: =ศิลปะ!AA10 -> 0 | J8: =การงาน!AA10 -> 0 | K8: =ENG!AA10 -> 0 | L8: =หน้าที่!AA10 -> 0 | M8: =ต้าน!AA10 -> 0 | N8: =AVERAGE(C8:L8) -> 0
A9: 4 | B9: ='1.1'!B9 -> 0 | C9: =ไทย!AA11 -> 0 | D9: =คณิต!AA11 -> 0 | E9: =วิทย์!AA11 -> 0 | F9: =สังคม!AA11 -> 0 | G9: =ประวัติ!AA11 -> 0 | H9: =สุขพละ!AA11 -> 0 | I9: =ศิลปะ!AA11 -> 0 | J9: =การงาน!AA11 -> 0 | K9: =ENG!AA11 -> 0 | L9: =หน้าที่!AA11 -> 0 | M9: =ต้าน!AA11 -> 0 | N9: =AVERAGE(C9:L9) -> 0
A10: 5 | B10: ='1.1'!B10 -> 0 | C10: =ไทย!AA12 -> 0 | D10: =คณิต!AA12 -> 0 | E10: =วิทย์!AA12 -> 0 | F10: =สังคม!AA12 -> 0 | G10: =ประวัติ!AA12 -> 0 | H10: =สุขพละ!AA12 -> 0 | I10: =ศิลปะ!AA12 -> 0 | J10: =การงาน!AA12 -> 0 | K10: =ENG!AA12 -> 0 | L10: =หน้าที่!AA12 -> 0 | M10: =ต้าน!AA12 -> 0 | N10: =AVERAGE(C10:L10) -> 0
A11: 6 | B11: ='1.1'!B11 -> 0 | C11: =ไทย!AA13 -> 0 | D11: =คณิต!AA13 -> 0 | E11: =วิทย์!AA13 -> 0 | F11: =สังคม!AA13 -> 0 | G11: =ประวัติ!AA13 -> 0 | H11: =สุขพละ!AA13 -> 0 | I11: =ศิลปะ!AA13 -> 0 | J11: =การงาน!AA13 -> 0 | K11: =ENG!AA13 -> 0 | L11: =หน้าที่!AA13 -> 0 | M11: =ต้าน!AA13 -> 0 | N11: =AVERAGE(C11:L11) -> 0
A12: 7 | B12: ='1.1'!B12 -> 0 | C12: =ไทย!AA14 -> 0 | D12: =คณิต!AA14 -> 0 | E12: =วิทย์!AA14 -> 0 | F12: =สังคม!AA14 -> 0 | G12: =ประวัติ!AA14 -> 0 | H12: =สุขพละ!AA14 -> 0 | I12: =ศิลปะ!AA14 -> 0 | J12: =การงาน!AA14 -> 0 | K12: =ENG!AA14 -> 0 | L12: =หน้าที่!AA14 -> 0 | M12: =ต้าน!AA14 -> 0 | N12: =AVERAGE(C12:L12) -> 0
A13: 8 | B13: ='1.1'!B13 -> 0 | C13: =ไทย!AA15 -> 0 | D13: =คณิต!AA15 -> 0 | E13: =วิทย์!AA15 -> 0 | F13: =สังคม!AA15 -> 0 | G13: =ประวัติ!AA15 -> 0 | H13: =สุขพละ!AA15 -> 0 | I13: =ศิลปะ!AA15 -> 0 | J13: =การงาน!AA15 -> 0 | K13: =ENG!AA15 -> 0 | L13: =หน้าที่!AA15 -> 0 | M13: =ต้าน!AA15 -> 0 | N13: =AVERAGE(C13:L13) -> 0
A14: 9 | B14: ='1.1'!B14 -> 0 | C14: =ไทย!AA16 -> 0 | D14: =คณิต!AA16 -> 0 | E14: =วิทย์!AA16 -> 0 | F14: =สังคม!AA16 -> 0 | G14: =ประวัติ!AA16 -> 0 | H14: =สุขพละ!AA16 -> 0 | I14: =ศิลปะ!AA16 -> 0 | J14: =การงาน!AA16 -> 0 | K14: =ENG!AA16 -> 0 | L14: =หน้าที่!AA16 -> 0 | M14: =ต้าน!AA16 -> 0 | N14: =AVERAGE(C14:L14) -> 0
A15: 10 | B15: ='1.1'!B15 -> 0 | C15: =ไทย!AA17 -> 0 | D15: =คณิต!AA17 -> 0 | E15: =วิทย์!AA17 -> 0 | F15: =สังคม!AA17 -> 0 | G15: =ประวัติ!AA17 -> 0 | H15: =สุขพละ!AA17 -> 0 | I15: =ศิลปะ!AA17 -> 0 | J15: =การงาน!AA17 -> 0 | K15: =ENG!AA17 -> 0 | L15: =หน้าที่!AA17 -> 0 | M15: =ต้าน!AA17 -> 0 | N15: =AVERAGE(C15:L15) -> 0
A16: 11 | B16: ='1.1'!B16 -> 0 | C16: =ไทย!AA18 -> 0 | D16: =คณิต!AA18 -> 0 | E16: =วิทย์!AA18 -> 0 | F16: =สังคม!AA18 -> 0 | G16: =ประวัติ!AA18 -> 0 | H16: =สุขพละ!AA18 -> 0 | I16: =ศิลปะ!AA18 -> 0 | J16: =การงาน!AA18 -> 0 | K16: =ENG!AA18 -> 0 | L16: =หน้าที่!AA18 -> 0 | M16: =ต้าน!AA18 -> 0 | N16: =AVERAGE(C16:L16) -> 0
A17: 12 | B17: ='1.1'!B17 -> 0 | C17: =ไทย!AA19 -> 0 | D17: =คณิต!AA19 -> 0 | E17: =วิทย์!AA19 -> 0 | F17: =สังคม!AA19 -> 0 | G17: =ประวัติ!AA19 -> 0 | H17: =สุขพละ!AA19 -> 0 | I17: =ศิลปะ!AA19 -> 0 | J17: =การงาน!AA19 -> 0 | K17: =ENG!AA19 -> 0 | L17: =หน้าที่!AA19 -> 0 | M17: =ต้าน!AA19 -> 0 | N17: =AVERAGE(C17:L17) -> 0
... A28: 23 | B28: ='1.1'!B28 -> 0 | C28: =ไทย!AA30 -> 0 | D28: =คณิต!AA30 -> 0 | E28: =วิทย์!AA30 -> 0 | F28: =สังคม!AA30 -> 0 | G28: =ประวัติ!AA30 -> 0 | H28: =สุขพละ!AA30 -> 0 | I28: =ศิลปะ!AA30 -> 0 | J28: =การงาน!AA30 -> 0 | K28: =ENG!AA30 -> 0 | L28: =หน้าที่!AA30 -> 0 | M28: =ต้าน!AA30 -> 0 | N28: =AVERAGE(C28:L28) -> 0

Sheet 8.3
A1: แบบประเมินคุณลักษณะอันพึงประสงค์
A2: ที่ | B2: ชื่อ - สกุล | C2: 8. มีจิตสาธารณะ | N2: รวม | O2: ผลการประเมิน
C3: 8.3 ดูแลรักษาสาธารณสมบัติและสิ่งแวดล้อมด้วย ความเต็มใจ
C4: ภาษาไทย | D4: คณิตศาสตร์ | E4: วิทยาศาสตร์ | F4: สังคมศึกษา | G4: ประวัติศาสตร์ | H4: สุข / พละ | I4: ศิลปะ | J4: การงานอาชีพ | K4: ภาษาอังกฤษ | L4: หน้าที่พลเมือง | M4: การป้องกันการทุจริต | O4: ดีเยี่ยม | P4: ดี | Q4: ผ่านเกณฑ์
A5: ระดับคุณภาพ | C5: =ไทย!AB7 -> 3 | D5: =คณิต!AB7 -> 3 | E5: =วิทย์!AB7 -> 3 | F5: =สังคม!AB7 -> 3 | G5: =ประวัติ!AB7 -> 3 | H5: =สุขพละ!AB7 -> 3 | I5: =ศิลปะ!AB7 -> 3 | J5: =การงาน!AB7 -> 3 | K5: =ENG!AB7 -> 3 | L5: =หน้าที่!AB7 -> 3 | M5: =ต้าน!AB7 -> 3 | N5: =AVERAGE(C5:L5) -> 3
A6: 1 | B6: ='1.1'!B6 -> บาส | C6: =ไทย!AB8 -> 0 | D6: =คณิต!AB8 -> 0 | E6: =วิทย์!AB8 -> 0 | F6: =สังคม!AB8 -> 0 | G6: =ประวัติ!AB8 -> 0 | H6: =สุขพละ!AB8 -> 0 | I6: =ศิลปะ!AB8 -> 0 | J6: =การงาน!AB8 -> 0 | K6: =ENG!AB8 -> 0 | L6: =หน้าที่!AB8 -> 0 | M6: =ต้าน!AB8 -> 0 | N6: =AVERAGE(C6:L6) -> 0
A7: 2 | B7: ='1.1'!B7 -> 0 | C7: =ไทย!AB9 -> 0 | D7: =คณิต!AB9 -> 0 | E7: =วิทย์!AB9 -> 0 | F7: =สังคม!AB9 -> 0 | G7: =ประวัติ!AB9 -> 0 | H7: =สุขพละ!AB9 -> 0 | I7: =ศิลปะ!AB9 -> 0 | J7: =การงาน!AB9 -> 0 | K7: =ENG!AB9 -> 0 | L7: =หน้าที่!AB9 -> 0 | M7: =ต้าน!AB9 -> 0 | N7: =AVERAGE(C7:L7) -> 0
A8: 3 | B8: ='1.1'!B8 -> 0 | C8: =ไทย!AB10 -> 0 | D8: =คณิต!AB10 -> 0 | E8: =วิทย์!AB10 -> 0 | F8: =สังคม!AB10 -> 0 | G8: =ประวัติ!AB10 -> 0 | H8: =สุขพละ!AB10 -> 0 | I8: =ศิลปะ!AB10 -> 0 | J8: =การงาน!AB10 -> 0 | K8: =ENG!AB10 -> 0 | L8: =หน้าที่!AB10 -> 0 | M8: =ต้าน!AB10 -> 0 | N8: =AVERAGE(C8:L8) -> 0
A9: 4 | B9: ='1.1'!B9 -> 0 | C9: =ไทย!AB11 -> 0 | D9: =คณิต!AB11 -> 0 | E9: =วิทย์!AB11 -> 0 | F9: =สังคม!AB11 -> 0 | G9: =ประวัติ!AB11 -> 0 | H9: =สุขพละ!AB11 -> 0 | I9: =ศิลปะ!AB11 -> 0 | J9: =การงาน!AB11 -> 0 | K9: =ENG!AB11 -> 0 | L9: =หน้าที่!AB11 -> 0 | M9: =ต้าน!AB11 -> 0 | N9: =AVERAGE(C9:L9) -> 0
A10: 5 | B10: ='1.1'!B10 -> 0 | C10: =ไทย!AB12 -> 0 | D10: =คณิต!AB12 -> 0 | E10: =วิทย์!AB12 -> 0 | F10: =สังคม!AB12 -> 0 | G10: =ประวัติ!AB12 -> 0 | H10: =สุขพละ!AB12 -> 0 | I10: =ศิลปะ!AB12 -> 0 | J10: =การงาน!AB12 -> 0 | K10: =ENG!AB12 -> 0 | L10: =หน้าที่!AB12 -> 0 | M10: =ต้าน!AB12 -> 0 | N10: =AVERAGE(C10:L10) -> 0
A11: 6 | B11: ='1.1'!B11 -> 0 | C11: =ไทย!AB13 -> 0 | D11: =คณิต!AB13 -> 0 | E11: =วิทย์!AB13 -> 0 | F11: =สังคม!AB13 -> 0 | G11: =ประวัติ!AB13 -> 0 | H11: =สุขพละ!AB13 -> 0 | I11: =ศิลปะ!AB13 -> 0 | J11: =การงาน!AB13 -> 0 | K11: =ENG!AB13 -> 0 | L11: =หน้าที่!AB13 -> 0 | M11: =ต้าน!AB13 -> 0 | N11: =AVERAGE(C11:L11) -> 0
A12: 7 | B12: ='1.1'!B12 -> 0 | C12: =ไทย!AB14 -> 0 | D12: =คณิต!AB14 -> 0 | E12: =วิทย์!AB14 -> 0 | F12: =สังคม!AB14 -> 0 | G12: =ประวัติ!AB14 -> 0 | H12: =สุขพละ!AB14 -> 0 | I12: =ศิลปะ!AB14 -> 0 | J12: =การงาน!AB14 -> 0 | K12: =ENG!AB14 -> 0 | L12: =หน้าที่!AB14 -> 0 | M12: =ต้าน!AB14 -> 0 | N12: =AVERAGE(C12:L12) -> 0
A13: 8 | B13: ='1.1'!B13 -> 0 | C13: =ไทย!AB15 -> 0 | D13: =คณิต!AB15 -> 0 | E13: =วิทย์!AB15 -> 0 | F13: =สังคม!AB15 -> 0 | G13: =ประวัติ!AB15 -> 0 | H13: =สุขพละ!AB15 -> 0 | I13: =ศิลปะ!AB15 -> 0 | J13: =การงาน!AB15 -> 0 | K13: =ENG!AB15 -> 0 | L13: =หน้าที่!AB15 -> 0 | M13: =ต้าน!AB15 -> 0 | N13: =AVERAGE(C13:L13) -> 0
A14: 9 | B14: ='1.1'!B14 -> 0 | C14: =ไทย!AB16 -> 0 | D14: =คณิต!AB16 -> 0 | E14: =วิทย์!AB16 -> 0 | F14: =สังคม!AB16 -> 0 | G14: =ประวัติ!AB16 -> 0 | H14: =สุขพละ!AB16 -> 0 | I14: =ศิลปะ!AB16 -> 0 | J14: =การงาน!AB16 -> 0 | K14: =ENG!AB16 -> 0 | L14: =หน้าที่!AB16 -> 0 | M14: =ต้าน!AB16 -> 0 | N14: =AVERAGE(C14:L14) -> 0
A15: 10 | B15: ='1.1'!B15 -> 0 | C15: =ไทย!AB17 -> 0 | D15: =คณิต!AB17 -> 0 | E15: =วิทย์!AB17 -> 0 | F15: =สังคม!AB17 -> 0 | G15: =ประวัติ!AB17 -> 0 | H15: =สุขพละ!AB17 -> 0 | I15: =ศิลปะ!AB17 -> 0 | J15: =การงาน!AB17 -> 0 | K15: =ENG!AB17 -> 0 | L15: =หน้าที่!AB17 -> 0 | M15: =ต้าน!AB17 -> 0 | N15: =AVERAGE(C15:L15) -> 0
A16: 11 | B16: ='1.1'!B16 -> 0 | C16: =ไทย!AB18 -> 0 | D16: =คณิต!AB18 -> 0 | E16: =วิทย์!AB18 -> 0 | F16: =สังคม!AB18 -> 0 | G16: =ประวัติ!AB18 -> 0 | H16: =สุขพละ!AB18 -> 0 | I16: =ศิลปะ!AB18 -> 0 | J16: =การงาน!AB18 -> 0 | K16: =ENG!AB18 -> 0 | L16: =หน้าที่!AB18 -> 0 | M16: =ต้าน!AB18 -> 0 | N16: =AVERAGE(C16:L16) -> 0
A17: 12 | B17: ='1.1'!B17 -> 0 | C17: =ไทย!AB19 -> 0 | D17: =คณิต!AB19 -> 0 | E17: =วิทย์!AB19 -> 0 | F17: =สังคม!AB19 -> 0 | G17: =ประวัติ!AB19 -> 0 | H17: =สุขพละ!AB19 -> 0 | I17: =ศิลปะ!AB19 -> 0 | J17: =การงาน!AB19 -> 0 | K17: =ENG!AB19 -> 0 | L17: =หน้าที่!AB19 -> 0 | M17: =ต้าน!AB19 -> 0 | N17: =AVERAGE(C17:L17) -> 0
... A28: 23 | B28: ='1.1'!B28 -> 0 | C28: =ไทย!AB30 -> 0 | D28: =คณิต!AB30 -> 0 | E28: =วิทย์!AB30 -> 0 | F28: =สังคม!AB30 -> 0 | G28: =ประวัติ!AB30 -> 0 | H28: =สุขพละ!AB30 -> 0 | I28: =ศิลปะ!AB30 -> 0 | J28: =การงาน!AB30 -> 0 | K28: =ENG!AB30 -> 0 | L28: =หน้าที่!AB30 -> 0 | M28: =ต้าน!AB30 -> 0 | N28: =AVERAGE(C28:L28) -> 0

Sheet สรุป 8
A1: แบบประเมินคุณลักษณะอันพึงประสงค์
A2: ที่ | B2: ชื่อ - สกุล | C2: 8. มีจิตสาธารณะ | N2: รวม | O2: ผลการประเมิน
C4: ภาษาไทย | D4: คณิตศาสตร์ | E4: วิทยาศาสตร์ | F4: สังคมศึกษา | G4: ประวัติศาสตร์ | H4: สุข / พละ | I4: ศิลปะ | J4: การงานอาชีพ | K4: ภาษาอังกฤษ | L4: หน้าที่พลเมือง | M4: การป้องกันการทุจริต | O4: ดีเยี่ยม | P4: ดี | Q4: ผ่านเกณฑ์
A5: ระดับคุณภาพ | C5: =('8.1'!C5+'8.2'!C5+'8.3'!C5)/3 -> 3 | D5: =('8.1'!D5+'8.2'!D5+'8.3'!D5)/3 -> 3 | E5: =('8.1'!E5+'8.2'!E5+'8.3'!E5)/3 -> 3 | F5: =('8.1'!F5+'8.2'!F5+'8.3'!F5)/3 -> 3 | G5: =('8.1'!G5+'8.2'!G5+'8.3'!G5)/3 -> 3 | H5: =('8.1'!H5+'8.2'!H5+'8.3'!H5)/3 -> 3 | I5: =('8.1'!I5+'8.2'!I5+'8.3'!I5)/3 -> 3 | J5: =('8.1'!J5+'8.2'!J5+'8.3'!J5)/3 -> 3 | ... M5: =('8.1'!M5+'8.2'!M5+'8.3'!M5)/3 -> 3 | N5: =AVERAGE(C5:M5) -> 3
A6: 1 | B6: ='1.1'!B6 -> บาส | C6: =('8.1'!C6+'8.2'!C6+'8.3'!C6)/3 -> 0 | D6: =('8.1'!D6+'8.2'!D6+'8.3'!D6)/3 -> 0 | E6: =('8.1'!E6+'8.2'!E6+'8.3'!E6)/3 -> 0 | F6: =('8.1'!F6+'8.2'!F6+'8.3'!F6)/3 -> 0 | G6: =('8.1'!G6+'8.2'!G6+'8.3'!G6)/3 -> 0 | H6: =('8.1'!H6+'8.2'!H6+'8.3'!H6)/3 -> 0 | I6: =('8.1'!I6+'8.2'!I6+'8.3'!I6)/3 -> 0 | J6: =('8.1'!J6+'8.2'!J6+'8.3'!J6)/3 -> 0 | ... M6: =('8.1'!M6+'8.2'!M6+'8.3'!M6)/3 -> 0 | N6: =AVERAGE(C6:M6) -> 0
A7: 2 | B7: ='1.1'!B7 -> 0 | C7: =('8.1'!C7+'8.2'!C7+'8.3'!C7)/3 -> 0 | D7: =('8.1'!D7+'8.2'!D7+'8.3'!D7)/3 -> 0 | E7: =('8.1'!E7+'8.2'!E7+'8.3'!E7)/3 -> 0 | F7: =('8.1'!F7+'8.2'!F7+'8.3'!F7)/3 -> 0 | G7: =('8.1'!G7+'8.2'!G7+'8.3'!G7)/3 -> 0 | H7: =('8.1'!H7+'8.2'!H7+'8.3'!H7)/3 -> 0 | I7: =('8.1'!I7+'8.2'!I7+'8.3'!I7)/3 -> 0 | J7: =('8.1'!J7+'8.2'!J7+'8.3'!J7)/3 -> 0 | ... M7: =('8.1'!M7+'8.2'!M7+'8.3'!M7)/3 -> 0 | N7: =AVERAGE(C7:M7) -> 0
A8: 3 | B8: ='1.1'!B8 -> 0 | C8: =('8.1'!C8+'8.2'!C8+'8.3'!C8)/3 -> 0 | D8: =('8.1'!D8+'8.2'!D8+'8.3'!D8)/3 -> 0 | E8: =('8.1'!E8+'8.2'!E8+'8.3'!E8)/3 -> 0 | F8: =('8.1'!F8+'8.2'!F8+'8.3'!F8)/3 -> 0 | G8: =('8.1'!G8+'8.2'!G8+'8.3'!G8)/3 -> 0 | H8: =('8.1'!H8+'8.2'!H8+'8.3'!H8)/3 -> 0 | I8: =('8.1'!I8+'8.2'!I8+'8.3'!I8)/3 -> 0 | J8: =('8.1'!J8+'8.2'!J8+'8.3'!J8)/3 -> 0 | ... M8: =('8.1'!M8+'8.2'!M8+'8.3'!M8)/3 -> 0 | N8: =AVERAGE(C8:M8) -> 0
A9: 4 | B9: ='1.1'!B9 -> 0 | C9: =('8.1'!C9+'8.2'!C9+'8.3'!C9)/3 -> 0 | D9: =('8.1'!D9+'8.2'!D9+'8.3'!D9)/3 -> 0 | E9: =('8.1'!E9+'8.2'!E9+'8.3'!E9)/3 -> 0 | F9: =('8.1'!F9+'8.2'!F9+'8.3'!F9)/3 -> 0 | G9: =('8.1'!G9+'8.2'!G9+'8.3'!G9)/3 -> 0 | H9: =('8.1'!H9+'8.2'!H9+'8.3'!H9)/3 -> 0 | I9: =('8.1'!I9+'8.2'!I9+'8.3'!I9)/3 -> 0 | J9: =('8.1'!J9+'8.2'!J9+'8.3'!J9)/3 -> 0 | ... M9: =('8.1'!M9+'8.2'!M9+'8.3'!M9)/3 -> 0 | N9: =AVERAGE(C9:M9) -> 0
A10: 5 | B10: ='1.1'!B10 -> 0 | C10: =('8.1'!C10+'8.2'!C10+'8.3'!C10)/3 -> 0 | D10: =('8.1'!D10+'8.2'!D10+'8.3'!D10)/3 -> 0 | E10: =('8.1'!E10+'8.2'!E10+'8.3'!E10)/3 -> 0 | F10: =('8.1'!F10+'8.2'!F10+'8.3'!F10)/3 -> 0 | G10: =('8.1'!G10+'8.2'!G10+'8.3'!G10)/3 -> 0 | H10: =('8.1'!H10+'8.2'!H10+'8.3'!H10)/3 -> 0 | I10: =('8.1'!I10+'8.2'!I10+'8.3'!I10)/3 -> 0 | J10: =('8.1'!J10+'8.2'!J10+'8.3'!J10)/3 -> 0 | ... M10: =('8.1'!M10+'8.2'!M10+'8.3'!M10)/3 -> 0 | N10: =AVERAGE(C10:M10) -> 0
A11: 6 | B11: ='1.1'!B11 -> 0 | C11: =('8.1'!C11+'8.2'!C11+'8.3'!C11)/3 -> 0 | D11: =('8.1'!D11+'8.2'!D11+'8.3'!D11)/3 -> 0 | E11: =('8.1'!E11+'8.2'!E11+'8.3'!E11)/3 -> 0 | F11: =('8.1'!F11+'8.2'!F11+'8.3'!F11)/3 -> 0 | G11: =('8.1'!G11+'8.2'!G11+'8.3'!G11)/3 -> 0 | H11: =('8.1'!H11+'8.2'!H11+'8.3'!H11)/3 -> 0 | I11: =('8.1'!I11+'8.2'!I11+'8.3'!I11)/3 -> 0 | J11: =('8.1'!J11+'8.2'!J11+'8.3'!J11)/3 -> 0 | ... M11: =('8.1'!M11+'8.2'!M11+'8.3'!M11)/3 -> 0 | N11: =AVERAGE(C11:M11) -> 0
A12: 7 | B12: ='1.1'!B12 -> 0 | C12: =('8.1'!C12+'8.2'!C12+'8.3'!C12)/3 -> 0 | D12: =('8.1'!D12+'8.2'!D12+'8.3'!D12)/3 -> 0 | E12: =('8.1'!E12+'8.2'!E12+'8.3'!E12)/3 -> 0 | F12: =('8.1'!F12+'8.2'!F12+'8.3'!F12)/3 -> 0 | G12: =('8.1'!G12+'8.2'!G12+'8.3'!G12)/3 -> 0 | H12: =('8.1'!H12+'8.2'!H12+'8.3'!H12)/3 -> 0 | I12: =('8.1'!I12+'8.2'!I12+'8.3'!I12)/3 -> 0 | J12: =('8.1'!J12+'8.2'!J12+'8.3'!J12)/3 -> 0 | ... M12: =('8.1'!M12+'8.2'!M12+'8.3'!M12)/3 -> 0 | N12: =AVERAGE(C12:M12) -> 0
A13: 8 | B13: ='1.1'!B13 -> 0 | C13: =('8.1'!C13+'8.2'!C13+'8.3'!C13)/3 -> 0 | D13: =('8.1'!D13+'8.2'!D13+'8.3'!D13)/3 -> 0 | E13: =('8.1'!E13+'8.2'!E13+'8.3'!E13)/3 -> 0 | F13: =('8.1'!F13+'8.2'!F13+'8.3'!F13)/3 -> 0 | G13: =('8.1'!G13+'8.2'!G13+'8.3'!G13)/3 -> 0 | H13: =('8.1'!H13+'8.2'!H13+'8.3'!H13)/3 -> 0 | I13: =('8.1'!I13+'8.2'!I13+'8.3'!I13)/3 -> 0 | J13: =('8.1'!J13+'8.2'!J13+'8.3'!J13)/3 -> 0 | ... M13: =('8.1'!M13+'8.2'!M13+'8.3'!M13)/3 -> 0 | N13: =AVERAGE(C13:M13) -> 0
A14: 9 | B14: ='1.1'!B14 -> 0 | C14: =('8.1'!C14+'8.2'!C14+'8.3'!C14)/3 -> 0 | D14: =('8.1'!D14+'8.2'!D14+'8.3'!D14)/3 -> 0 | E14: =('8.1'!E14+'8.2'!E14+'8.3'!E14)/3 -> 0 | F14: =('8.1'!F14+'8.2'!F14+'8.3'!F14)/3 -> 0 | G14: =('8.1'!G14+'8.2'!G14+'8.3'!G14)/3 -> 0 | H14: =('8.1'!H14+'8.2'!H14+'8.3'!H14)/3 -> 0 | I14: =('8.1'!I14+'8.2'!I14+'8.3'!I14)/3 -> 0 | J14: =('8.1'!J14+'8.2'!J14+'8.3'!J14)/3 -> 0 | ... M14: =('8.1'!M14+'8.2'!M14+'8.3'!M14)/3 -> 0 | N14: =AVERAGE(C14:M14) -> 0
A15: 10 | B15: ='1.1'!B15 -> 0 | C15: =('8.1'!C15+'8.2'!C15+'8.3'!C15)/3 -> 0 | D15: =('8.1'!D15+'8.2'!D15+'8.3'!D15)/3 -> 0 | E15: =('8.1'!E15+'8.2'!E15+'8.3'!E15)/3 -> 0 | F15: =('8.1'!F15+'8.2'!F15+'8.3'!F15)/3 -> 0 | G15: =('8.1'!G15+'8.2'!G15+'8.3'!G15)/3 -> 0 | H15: =('8.1'!H15+'8.2'!H15+'8.3'!H15)/3 -> 0 | I15: =('8.1'!I15+'8.2'!I15+'8.3'!I15)/3 -> 0 | J15: =('8.1'!J15+'8.2'!J15+'8.3'!J15)/3 -> 0 | ... M15: =('8.1'!M15+'8.2'!M15+'8.3'!M15)/3 -> 0 | N15: =AVERAGE(C15:M15) -> 0
A16: 11 | B16: ='1.1'!B16 -> 0 | C16: =('8.1'!C16+'8.2'!C16+'8.3'!C16)/3 -> 0 | D16: =('8.1'!D16+'8.2'!D16+'8.3'!D16)/3 -> 0 | E16: =('8.1'!E16+'8.2'!E16+'8.3'!E16)/3 -> 0 | F16: =('8.1'!F16+'8.2'!F16+'8.3'!F16)/3 -> 0 | G16: =('8.1'!G16+'8.2'!G16+'8.3'!G16)/3 -> 0 | H16: =('8.1'!H16+'8.2'!H16+'8.3'!H16)/3 -> 0 | I16: =('8.1'!I16+'8.2'!I16+'8.3'!I16)/3 -> 0 | J16: =('8.1'!J16+'8.2'!J16+'8.3'!J16)/3 -> 0 | ... M16: =('8.1'!M16+'8.2'!M16+'8.3'!M16)/3 -> 0 | N16: =AVERAGE(C16:M16) -> 0
A17: 12 | B17: ='1.1'!B17 -> 0 | C17: =('8.1'!C17+'8.2'!C17+'8.3'!C17)/3 -> 0 | D17: =('8.1'!D17+'8.2'!D17+'8.3'!D17)/3 -> 0 | E17: =('8.1'!E17+'8.2'!E17+'8.3'!E17)/3 -> 0 | F17: =('8.1'!F17+'8.2'!F17+'8.3'!F17)/3 -> 0 | G17: =('8.1'!G17+'8.2'!G17+'8.3'!G17)/3 -> 0 | H17: =('8.1'!H17+'8.2'!H17+'8.3'!H17)/3 -> 0 | I17: =('8.1'!I17+'8.2'!I17+'8.3'!I17)/3 -> 0 | J17: =('8.1'!J17+'8.2'!J17+'8.3'!J17)/3 -> 0 | ... M17: =('8.1'!M17+'8.2'!M17+'8.3'!M17)/3 -> 0 | N17: =AVERAGE(C17:M17) -> 0
... A28: 23 | B28: ='1.1'!B28 -> 0 | C28: =('8.1'!C28+'8.2'!C28+'8.3'!C28)/3 -> 0 | D28: =('8.1'!D28+'8.2'!D28+'8.3'!D28)/3 -> 0 | E28: =('8.1'!E28+'8.2'!E28+'8.3'!E28)/3 -> 0 | F28: =('8.1'!F28+'8.2'!F28+'8.3'!F28)/3 -> 0 | G28: =('8.1'!G28+'8.2'!G28+'8.3'!G28)/3 -> 0 | H28: =('8.1'!H28+'8.2'!H28+'8.3'!H28)/3 -> 0 | I28: =('8.1'!I28+'8.2'!I28+'8.3'!I28)/3 -> 0 | J28: =('8.1'!J28+'8.2'!J28+'8.3'!J28)/3 -> 0 | ... M28: =('8.1'!M28+'8.2'!M28+'8.3'!M28)/3 -> 0 | N28: =AVERAGE(C28:M28) -> 0

Sheet สรุปสุดท้าย
A1: สรุปแบบประเมินคุณลักษณะอันพึงประสงค์
A2: ที่ | B2: ชื่อ - สกุล | C2: คุณลักษณะอันพึงประสงค์ | K2: รวม | L2: ผลการประเมิน
C4: 1 | D4: 2 | E4: 3 | F4: 4 | G4: 5 | H4: 6 | I4: 7 | J4: 8 | L4: ดีเยี่ยม | M4: ดี | N4: ผ่านเกณฑ์ | O4: ไม่ผ่านเกณฑ์
A5: ระดับคุณภาพ | C5: ='สรุป 1'!N5 -> 3 | D5: ='สรุป 2'!N5 -> 3 | E5: ='สรุป 3'!N5 -> 3 | F5: ='สรุป 4'!N5 -> 3 | G5: ='สรุป 5'!N5 -> 3 | H5: ='สรุป 6'!N5 -> 3 | I5: ='สรุป 7'!N5 -> 3 | J5: ='สรุป 8'!N5 -> 3 | K5: =SUM(C5:J5) -> 24 | L5: 21-24 | M5: 16-20 | N5: 8-15 | O5: 0-7
A6: 1 | B6: ='1.1'!B6 -> บาส | C6: =('8.1'!C6+'8.2'!C6+'8.3'!C6)/3 -> 0 | D6: =('8.1'!D6+'8.2'!D6+'8.3'!D6)/3 -> 0 | E6: =('8.1'!E6+'8.2'!E6+'8.3'!E6)/3 -> 0 | F6: =('8.1'!F6+'8.2'!F6+'8.3'!F6)/3 -> 0 | G6: =('8.1'!G6+'8.2'!G6+'8.3'!G6)/3 -> 0 | H6: =('8.1'!H6+'8.2'!H6+'8.3'!H6)/3 -> 0 | I6: =('8.1'!I6+'8.2'!I6+'8.3'!I6)/3 -> 0 | J6: =('8.1'!J6+'8.2'!J6+'8.3'!J6)/3 -> 0 | K6: =SUM(C6:J6) -> 0
A7: 2 | B7: ='1.1'!B7 -> 0 | C7: =('8.1'!C7+'8.2'!C7+'8.3'!C7)/3 -> 0 | D7: =('8.1'!D7+'8.2'!D7+'8.3'!D7)/3 -> 0 | E7: =('8.1'!E7+'8.2'!E7+'8.3'!E7)/3 -> 0 | F7: =('8.1'!F7+'8.2'!F7+'8.3'!F7)/3 -> 0 | G7: =('8.1'!G7+'8.2'!G7+'8.3'!G7)/3 -> 0 | H7: =('8.1'!H7+'8.2'!H7+'8.3'!H7)/3 -> 0 | I7: =('8.1'!I7+'8.2'!I7+'8.3'!I7)/3 -> 0 | J7: =('8.1'!J7+'8.2'!J7+'8.3'!J7)/3 -> 0 | K7: =SUM(C7:J7) -> 0
A8: 3 | B8: ='1.1'!B8 -> 0 | C8: =('8.1'!C8+'8.2'!C8+'8.3'!C8)/3 -> 0 | D8: =('8.1'!D8+'8.2'!D8+'8.3'!D8)/3 -> 0 | E8: =('8.1'!E8+'8.2'!E8+'8.3'!E8)/3 -> 0 | F8: =('8.1'!F8+'8.2'!F8+'8.3'!F8)/3 -> 0 | G8: =('8.1'!G8+'8.2'!G8+'8.3'!G8)/3 -> 0 | H8: =('8.1'!H8+'8.2'!H8+'8.3'!H8)/3 -> 0 | I8: =('8.1'!I8+'8.2'!I8+'8.3'!I8)/3 -> 0 | J8: =('8.1'!J8+'8.2'!J8+'8.3'!J8)/3 -> 0 | K8: =SUM(C8:J8) -> 0
A9: 4 | B9: ='1.1'!B9 -> 0 | C9: =('8.1'!C9+'8.2'!C9+'8.3'!C9)/3 -> 0 | D9: =('8.1'!D9+'8.2'!D9+'8.3'!D9)/3 -> 0 | E9: =('8.1'!E9+'8.2'!E9+'8.3'!E9)/3 -> 0 | F9: =('8.1'!F9+'8.2'!F9+'8.3'!F9)/3 -> 0 | G9: =('8.1'!G9+'8.2'!G9+'8.3'!G9)/3 -> 0 | H9: =('8.1'!H9+'8.2'!H9+'8.3'!H9)/3 -> 0 | I9: =('8.1'!I9+'8.2'!I9+'8.3'!I9)/3 -> 0 | J9: =('8.1'!J9+'8.2'!J9+'8.3'!J9)/3 -> 0 | K9: =SUM(C9:J9) -> 0
A10: 5 | B10: ='1.1'!B10 -> 0 | C10: =('8.1'!C10+'8.2'!C10+'8.3'!C10)/3 -> 0 | D10: =('8.1'!D10+'8.2'!D10+'8.3'!D10)/3 -> 0 | E10: =('8.1'!E10+'8.2'!E10+'8.3'!E10)/3 -> 0 | F10: =('8.1'!F10+'8.2'!F10+'8.3'!F10)/3 -> 0 | G10: =('8.1'!G10+'8.2'!G10+'8.3'!G10)/3 -> 0 | H10: =('8.1'!H10+'8.2'!H10+'8.3'!H10)/3 -> 0 | I10: =('8.1'!I10+'8.2'!I10+'8.3'!I10)/3 -> 0 | J10: =('8.1'!J10+'8.2'!J10+'8.3'!J10)/3 -> 0 | K10: =SUM(C10:J10) -> 0
A11: 6 | B11: ='1.1'!B11 -> 0 | C11: =('8.1'!C11+'8.2'!C11+'8.3'!C11)/3 -> 0 | D11: =('8.1'!D11+'8.2'!D11+'8.3'!D11)/3 -> 0 | E11: =('8.1'!E11+'8.2'!E11+'8.3'!E11)/3 -> 0 | F11: =('8.1'!F11+'8.2'!F11+'8.3'!F11)/3 -> 0 | G11: =('8.1'!G11+'8.2'!G11+'8.3'!G11)/3 -> 0 | H11: =('8.1'!H11+'8.2'!H11+'8.3'!H11)/3 -> 0 | I11: =('8.1'!I11+'8.2'!I11+'8.3'!I11)/3 -> 0 | J11: =('8.1'!J11+'8.2'!J11+'8.3'!J11)/3 -> 0 | K11: =SUM(C11:J11) -> 0
A12: 7 | B12: ='1.1'!B12 -> 0 | C12: =('8.1'!C12+'8.2'!C12+'8.3'!C12)/3 -> 0 | D12: =('8.1'!D12+'8.2'!D12+'8.3'!D12)/3 -> 0 | E12: =('8.1'!E12+'8.2'!E12+'8.3'!E12)/3 -> 0 | F12: =('8.1'!F12+'8.2'!F12+'8.3'!F12)/3 -> 0 | G12: =('8.1'!G12+'8.2'!G12+'8.3'!G12)/3 -> 0 | H12: =('8.1'!H12+'8.2'!H12+'8.3'!H12)/3 -> 0 | I12: =('8.1'!I12+'8.2'!I12+'8.3'!I12)/3 -> 0 | J12: =('8.1'!J12+'8.2'!J12+'8.3'!J12)/3 -> 0 | K12: =SUM(C12:J12) -> 0
A13: 8 | B13: ='1.1'!B13 -> 0 | C13: =('8.1'!C13+'8.2'!C13+'8.3'!C13)/3 -> 0 | D13: =('8.1'!D13+'8.2'!D13+'8.3'!D13)/3 -> 0 | E13: =('8.1'!E13+'8.2'!E13+'8.3'!E13)/3 -> 0 | F13: =('8.1'!F13+'8.2'!F13+'8.3'!F13)/3 -> 0 | G13: =('8.1'!G13+'8.2'!G13+'8.3'!G13)/3 -> 0 | H13: =('8.1'!H13+'8.2'!H13+'8.3'!H13)/3 -> 0 | I13: =('8.1'!I13+'8.2'!I13+'8.3'!I13)/3 -> 0 | J13: =('8.1'!J13+'8.2'!J13+'8.3'!J13)/3 -> 0 | K13: =SUM(C13:J13) -> 0
A14: 9 | B14: ='1.1'!B14 -> 0 | C14: =('8.1'!C14+'8.2'!C14+'8.3'!C14)/3 -> 0 | D14: =('8.1'!D14+'8.2'!D14+'8.3'!D14)/3 -> 0 | E14: =('8.1'!E14+'8.2'!E14+'8.3'!E14)/3 -> 0 | F14: =('8.1'!F14+'8.2'!F14+'8.3'!F14)/3 -> 0 | G14: =('8.1'!G14+'8.2'!G14+'8.3'!G14)/3 -> 0 | H14: =('8.1'!H14+'8.2'!H14+'8.3'!H14)/3 -> 0 | I14: =('8.1'!I14+'8.2'!I14+'8.3'!I14)/3 -> 0 | J14: =('8.1'!J14+'8.2'!J14+'8.3'!J14)/3 -> 0 | K14: =SUM(C14:J14) -> 0
A15: 10 | B15: ='1.1'!B15 -> 0 | C15: =('8.1'!C15+'8.2'!C15+'8.3'!C15)/3 -> 0 | D15: =('8.1'!D15+'8.2'!D15+'8.3'!D15)/3 -> 0 | E15: =('8.1'!E15+'8.2'!E15+'8.3'!E15)/3 -> 0 | F15: =('8.1'!F15+'8.2'!F15+'8.3'!F15)/3 -> 0 | G15: =('8.1'!G15+'8.2'!G15+'8.3'!G15)/3 -> 0 | H15: =('8.1'!H15+'8.2'!H15+'8.3'!H15)/3 -> 0 | I15: =('8.1'!I15+'8.2'!I15+'8.3'!I15)/3 -> 0 | J15: =('8.1'!J15+'8.2'!J15+'8.3'!J15)/3 -> 0 | K15: =SUM(C15:J15) -> 0
A16: 11 | B16: ='1.1'!B16 -> 0 | C16: =('8.1'!C16+'8.2'!C16+'8.3'!C16)/3 -> 0 | D16: =('8.1'!D16+'8.2'!D16+'8.3'!D16)/3 -> 0 | E16: =('8.1'!E16+'8.2'!E16+'8.3'!E16)/3 -> 0 | F16: =('8.1'!F16+'8.2'!F16+'8.3'!F16)/3 -> 0 | G16: =('8.1'!G16+'8.2'!G16+'8.3'!G16)/3 -> 0 | H16: =('8.1'!H16+'8.2'!H16+'8.3'!H16)/3 -> 0 | I16: =('8.1'!I16+'8.2'!I16+'8.3'!I16)/3 -> 0 | J16: =('8.1'!J16+'8.2'!J16+'8.3'!J16)/3 -> 0 | K16: =SUM(C16:J16) -> 0
A17: 12 | B17: ='1.1'!B17 -> 0 | C17: =('8.1'!C17+'8.2'!C17+'8.3'!C17)/3 -> 0 | D17: =('8.1'!D17+'8.2'!D17+'8.3'!D17)/3 -> 0 | E17: =('8.1'!E17+'8.2'!E17+'8.3'!E17)/3 -> 0 | F17: =('8.1'!F17+'8.2'!F17+'8.3'!F17)/3 -> 0 | G17: =('8.1'!G17+'8.2'!G17+'8.3'!G17)/3 -> 0 | H17: =('8.1'!H17+'8.2'!H17+'8.3'!H17)/3 -> 0 | I17: =('8.1'!I17+'8.2'!I17+'8.3'!I17)/3 -> 0 | J17: =('8.1'!J17+'8.2'!J17+'8.3'!J17)/3 -> 0 | K17: =SUM(C17:J17) -> 0
... A28: 23 | B28: ='1.1'!B28 -> 0 | C28: =('8.1'!C28+'8.2'!C28+'8.3'!C28)/3 -> 0 | D28: =('8.1'!D28+'8.2'!D28+'8.3'!D28)/3 -> 0 | E28: =('8.1'!E28+'8.2'!E28+'8.3'!E28)/3 -> 0 | F28: =('8.1'!F28+'8.2'!F28+'8.3'!F28)/3 -> 0 | G28: =('8.1'!G28+'8.2'!G28+'8.3'!G28)/3 -> 0 | H28: =('8.1'!H28+'8.2'!H28+'8.3'!H28)/3 -> 0 | I28: =('8.1'!I28+'8.2'!I28+'8.3'!I28)/3 -> 0 | J28: =('8.1'!J28+'8.2'!J28+'8.3'!J28)/3 -> 0 | K28: =SUM(C28:J28) -> 0

Sheet ไทย
A1: แบบประเมินคุณลักษณะอันพึงประสงค์ วิชาภาษาไทย | I1: แบบประเมินคุณลักษณะอันพึงประสงค์ วิชาภาษาไทย | S1: แบบประเมินคุณลักษณะอันพึงประสงค์ วิชาภาษาไทย
A2: ที่ | B2: ชื่อ - สกุล | C2: 1 | F2: 2 | I2: เลขที่ | J2: 3 | M2: 4 | P2: 5 | S2: เลขที่ | T2: 6 | W2: 7 | Z2: 8 | AC2: รวม | AD2: ผลการประเมิน
C3: รักชาติ ศาสตร์ กษัตริย์ | F3: ซื่อสัตย์สุจริต | J3: มีวินัย | M3: ใฝ่เรียนรู้ | P3: อยู่อย่างพอเพียง | T3: มุ่งมั่นในการทำงาน | W3: รักความเป็นไทย | Z3: มีจิตสาธารณะ
C5: 1.1 | D5: 1.2 | E5: 1.3 | F5: 2.1 | G5: 2.2 | H5: 2.3 | J5: 3.1 | K5: 3.2 | L5: 3.3 | M5: 4.1 | N5: 4.2 | O5: 4.3 | P5: 5.1 | Q5: 5.2 | R5: 5.3 | T5: 6.1 | U5: 6.2 | V5: 6.3 | W5: 7.1 | X5: 7.2 | Y5: 7.3 | Z5: 8.1 | AA5: 8.2 | AB5: 8.3
C6: ชอบเข้าร่วมกิจกรรมแสดงความรักชาติ เช่น เชิญธง ยืนตรงเคารพธงชาติ ร้องเพลงชาติ รักษาชื่อเสียงและหวงแหนสมบัติของชาติ | D6: ชอบเข้าร่วมกิจกรรมทางศาสนา และปฎิบัติตามหลักธรรมของศาสนา เช่น รักษาศีล ปฏิบัติธรรม | E6: ชอบเข้าร่วมกิจกรรมเพื่อแสดงความจงรักภักดีต่อพระมหากษัตริย์ | F6: ให้ข้อมูลที่ถูกต้องและเป็นจริง ไม่โกหก | G6: ไม่ถือเอาสิ่งของหรือผลงานของผู้อื่นมาเป็นของตนเอง ไม่ลักขโมย | H6: ไม่หาผลประโยชน์ในทางที่ไม่ถูกต้อง ไม่คดโกง | J6: ปฏิบัติตนตามข้อตกลง กฎระเบียบของครอบครัว โรงเรียนและสังคม | K6: ตรงต่อเวลาและรับผิดชอบในการเรียน การปฏิบัติงาน | L6: ปฏิบัติตนในกิจวัตรประจำวันโดยไม่ละเมิดสิทธิผู้อื่น | M6: ตั้งใจ เพียงพยายามในการเรียน สนใจเข้าร่วมกิจกรรมการเรียนรู้ต่าง ๆ | N6: แสวงหา ศึกษา ค้นคว้าความรู้จากแหล่งการเรียนรู้ต่าง ๆ | O6: บันทึกความรู้วิเคราะห์ตรวจสอบ แลกเปลี่ยนเรียนรู้ | P6: ใช้ทรัพย์สินของตนเองและของส่วนรวมอย่างประหยัด คุ้มค่า รวมทั้งใช้เวลาอย่างเหมาะสม | Q6: ปฏิบัติตนและตัดสินใจด้วยความรอบคอบมีเหตุผล | R6: วางแผนการเรียนการทำงาน บนพื้นฐานของความรู้ ข้อมูล ข่าวสาร มีภูมิคุ้มกันในตัวที่ดี | T6: ตั้งใจและรับผิดชอบในการทำงานให้สำเร็จ | U6: ทุ่มเททำงาน อดทนไม่ย่อท้อต่อปัญหาและอุปสรรค | V6: ปรับปรุงพัฒนาการทำงานและผลงานด้วยตนเอง | W6: ปฏิบัติตามขนบะรรมเนียม ประเพณีศิลปะวัฒนธรรมไทย | X6: ใช้ภาษาไทย เลขไทยในการสื่อสารได้อย่างถูกต้อง | Y6: ร่วมกิจกรรมที่เกี่ยวข้องกับภูมิปัญญาไทย นำมาใช้ให้เหมาะสมในวิถีชีวิต | Z6: ช่วยเหลือผู้อื่น แบ่งปันสิ่งของ อาสาทำงานให้ด้ยความเต็มใจไม่หวังผลตอบแทน | AA6: เข้าร่วมกิจกรรมที่เป็นประโยชน์ต่อโรงเรียน ชุมชนและสังคม | AB6: ดูแลรักษาสาธารณสมบัติและสิ่งแวดล้อมด้วยความเต็มใจ | AD6: ดีเยี่ยม | AE6: ดี | AF6: ผ่านเกณฑ์
A7: ระดับคุณภาพ | C7: 3 | D7: 3 | E7: 3 | F7: 3 | G7: 3 | H7: 3 | J7: 3 | K7: 3 | L7: 3 | M7: 3 | N7: 3 | O7: 3 | P7: 3 | Q7: 3 | R7: 3 | T7: 3 | U7: 3 | V7: 3 | W7: 3 | X7: 3 | Y7: 3 | Z7: 3 | AA7: 3 | AB7: 3 | AC7: 3 | AD7: 3 | AE7: 2 | AF7: 1
A8: 1 | B8: ='1.1'!B6 -> บาส | I8: 1 | S8: 1
A9: 2 | B9: ='1.1'!B7 -> 0 | I9: 2 | S9: 2
A10: 3 | B10: ='1.1'!B8 -> 0 | I10: 3 | S10: 3
A11: 4 | B11: ='1.1'!B9 -> 0 | I11: 4 | S11: 4
A12: 5 | B12: ='1.1'!B10 -> 0 | I12: 5 | S12: 5
A13: 6 | B13: ='1.1'!B11 -> 0 | I13: 6 | S13: 6
A14: 7 | B14: ='1.1'!B12 -> 0 | I14: 7 | S14: 7
A15: 8 | B15: ='1.1'!B13 -> 0 | I15: 8 | S15: 8
A16: 9 | B16: ='1.1'!B14 -> 0 | I16: 9 | S16: 9
A17: 10 | B17: ='1.1'!B15 -> 0 | I17: 10 | S17: 10
A18: 11 | B18: ='1.1'!B16 -> 0 | I18: 11 | S18: 11
A19: 12 | B19: ='1.1'!B17 -> 0 | I19: 12 | S19: 12
... A28: 21 | B28: ='1.1'!B26 -> 0 | I28: 21 | S28: 21

Sheet คณิต
A1: แบบประเมินคุณลักษณะอันพึงประสงค์ วิชาคณิตศาสตร์ | I1: แบบประเมินคุณลักษณะอันพึงประสงค์ วิชาคณิตศาสตร์ | S1: แบบประเมินคุณลักษณะอันพึงประสงค์ วิชาคณิตศาสตร์
A2: ที่ | B2: ชื่อ - สกุล | C2: 1 | F2: 2 | I2: เลขที่ | J2: 3 | M2: 4 | P2: 5 | S2: เลขที่ | T2: 6 | W2: 7 | Z2: 8 | AC2: รวม | AD2: ผลการประเมิน
C3: รักชาติ ศาสตร์ กษัตริย์ | F3: ซื่อสัตย์สุจริต | J3: มีวินัย | M3: ใฝ่เรียนรู้ | P3: อยู่อย่างพอเพียง | T3: มุ่งมั่นในการทำงาน | W3: รักความเป็นไทย | Z3: มีจิตสาธารณะ
C5: 1.1 | D5: 1.2 | E5: 1.3 | F5: 2.1 | G5: 2.2 | H5: 2.3 | J5: 3.1 | K5: 3.2 | L5: 3.3 | M5: 4.1 | N5: 4.2 | O5: 4.3 | P5: 5.1 | Q5: 5.2 | R5: 5.3 | T5: 6.1 | U5: 6.2 | V5: 6.3 | W5: 7.1 | X5: 7.2 | Y5: 7.3 | Z5: 8.1 | AA5: 8.2 | AB5: 8.3
C6: ชอบเข้าร่วมกิจกรรมแสดงความรักชาติ เช่น เชิญธง ยืนตรงเคารพธงชาติ ร้องเพลงชาติ รักษาชื่อเสียงและหวงแหนสมบัติของชาติ | D6: ชอบเข้าร่วมกิจกรรมทางศาสนา และปฎิบัติตามหลักธรรมของศาสนา เช่น รักษาศีล ปฏิบัติธรรม | E6: ชอบเข้าร่วมกิจกรรมเพื่อแสดงความจงรักภักดีต่อพระมหากษัตริย์ | F6: ให้ข้อมูลที่ถูกต้องและเป็นจริง ไม่โกหก | G6: ไม่ถือเอาสิ่งของหรือผลงานของผู้อื่นมาเป็นของตนเอง ไม่ลักขโมย | H6: ไม่หาผลประโยชน์ในทางที่ไม่ถูกต้อง ไม่คดโกง | J6: ปฏิบัติตนตามข้อตกลง กฎระเบียบของครอบครัว โรงเรียนและสังคม | K6: ตรงต่อเวลาและรับผิดชอบในการเรียน การปฏิบัติงาน | L6: ปฏิบัติตนในกิจวัตรประจำวันโดยไม่ละเมิดสิทธิผู้อื่น | M6: ตั้งใจ เพียงพยายามในการเรียน สนใจเข้าร่วมกิจกรรมการเรียนรู้ต่าง ๆ | N6: แสวงหา ศึกษา ค้นคว้าความรู้จากแหล่งการเรียนรู้ต่าง ๆ | O6: บันทึกความรู้วิเคราะห์ตรวจสอบ แลกเปลี่ยนเรียนรู้ | P6: ใช้ทรัพย์สินของตนเองและของส่วนรวมอย่างประหยัด คุ้มค่า รวมทั้งใช้เวลาอย่างเหมาะสม | Q6: ปฏิบัติตนและตัดสินใจด้วยความรอบคอบมีเหตุผล | R6: วางแผนการเรียนการทำงาน บนพื้นฐานของความรู้ ข้อมูล ข่าวสาร มีภูมิคุ้มกันในตัวที่ดี | T6: ตั้งใจและรับผิดชอบในการทำงานให้สำเร็จ | U6: ทุ่มเททำงาน อดทนไม่ย่อท้อต่อปัญหาและอุปสรรค | V6: ปรับปรุงพัฒนาการทำงานและผลงานด้วยตนเอง | W6: ปฏิบัติตามขนบะรรมเนียม ประเพณีศิลปะวัฒนธรรมไทย | X6: ใช้ภาษาไทย เลขไทยในการสื่อสารได้อย่างถูกต้อง | Y6: ร่วมกิจกรรมที่เกี่ยวข้องกับภูมิปัญญาไทย นำมาใช้ให้เหมาะสมในวิถีชีวิต | Z6: ช่วยเหลือผู้อื่น แบ่งปันสิ่งของ อาสาทำงานให้ด้ยความเต็มใจไม่หวังผลตอบแทน | AA6: เข้าร่วมกิจกรรมที่เป็นประโยชน์ต่อโรงเรียน ชุมชนและสังคม | AB6: ดูแลรักษาสาธารณสมบัติและสิ่งแวดล้อมด้วยความเต็มใจ | AD6: ดีเยี่ยม | AE6: ดี | AF6: ผ่านเกณฑ์
A7: ระดับคุณภาพ | C7: 3 | D7: 3 | E7: 3 | F7: 3 | G7: 3 | H7: 3 | J7: 3 | K7: 3 | L7: 3 | M7: 3 | N7: 3 | O7: 3 | P7: 3 | Q7: 3 | R7: 3 | T7: 3 | U7: 3 | V7: 3 | W7: 3 | X7: 3 | Y7: 3 | Z7: 3 | AA7: 3 | AB7: 3 | AC7: 3 | AD7: 3 | AE7: 2 | AF7: 1
A8: 1 | B8: ='1.1'!B6 -> บาส | I8: 1 | S8: 1
A9: 2 | B9: ='1.1'!B7 -> 0 | I9: 2 | S9: 2
A10: 3 | B10: ='1.1'!B8 -> 0 | I10: 3 | S10: 3
A11: 4 | B11: ='1.1'!B9 -> 0 | I11: 4 | S11: 4
A12: 5 | B12: ='1.1'!B10 -> 0 | I12: 5 | S12: 5
A13: 6 | B13: ='1.1'!B11 -> 0 | I13: 6 | S13: 6
A14: 7 | B14: ='1.1'!B12 -> 0 | I14: 7 | S14: 7
A15: 8 | B15: ='1.1'!B13 -> 0 | I15: 8 | S15: 8
A16: 9 | B16: ='1.1'!B14 -> 0 | I16: 9 | S16: 9
A17: 10 | B17: ='1.1'!B15 -> 0 | I17: 10 | S17: 10
A18: 11 | B18: ='1.1'!B16 -> 0 | I18: 11 | S18: 11
A19: 12 | B19: ='1.1'!B17 -> 0 | I19: 12 | S19: 12
... A28: 21 | B28: ='1.1'!B26 -> 0 | I28: 21 | S28: 21

Sheet วิทย์
A1: แบบประเมินคุณลักษณะอันพึงประสงค์ วิชาวิทยาศาสตร์ | I1: แบบประเมินคุณลักษณะอันพึงประสงค์ วิชาวิทยาศาสตร์ | S1: แบบประเมินคุณลักษณะอันพึงประสงค์ วิชาวิทยาศาสตร์
A2: ที่ | B2: ชื่อ - สกุล | C2: 1 | F2: 2 | I2: เลขที่ | J2: 3 | M2: 4 | P2: 5 | S2: เลขที่ | T2: 6 | W2: 7 | Z2: 8 | AC2: รวม | AD2: ผลการประเมิน
C3: รักชาติ ศาสตร์ กษัตริย์ | F3: ซื่อสัตย์สุจริต | J3: มีวินัย | M3: ใฝ่เรียนรู้ | P3: อยู่อย่างพอเพียง | T3: มุ่งมั่นในการทำงาน | W3: รักความเป็นไทย | Z3: มีจิตสาธารณะ
C5: 1.1 | D5: 1.2 | E5: 1.3 | F5: 2.1 | G5: 2.2 | H5: 2.3 | J5: 3.1 | K5: 3.2 | L5: 3.3 | M5: 4.1 | N5: 4.2 | O5: 4.3 | P5: 5.1 | Q5: 5.2 | R5: 5.3 | T5: 6.1 | U5: 6.2 | V5: 6.3 | W5: 7.1 | X5: 7.2 | Y5: 7.3 | Z5: 8.1 | AA5: 8.2 | AB5: 8.3
C6: ชอบเข้าร่วมกิจกรรมแสดงความรักชาติ เช่น เชิญธง ยืนตรงเคารพธงชาติ ร้องเพลงชาติ รักษาชื่อเสียงและหวงแหนสมบัติของชาติ | D6: ชอบเข้าร่วมกิจกรรมทางศาสนา และปฎิบัติตามหลักธรรมของศาสนา เช่น รักษาศีล ปฏิบัติธรรม | E6: ชอบเข้าร่วมกิจกรรมเพื่อแสดงความจงรักภักดีต่อพระมหากษัตริย์ | F6: ให้ข้อมูลที่ถูกต้องและเป็นจริง ไม่โกหก | G6: ไม่ถือเอาสิ่งของหรือผลงานของผู้อื่นมาเป็นของตนเอง ไม่ลักขโมย | H6: ไม่หาผลประโยชน์ในทางที่ไม่ถูกต้อง ไม่คดโกง | J6: ปฏิบัติตนตามข้อตกลง กฎระเบียบของครอบครัว โรงเรียนและสังคม | K6: ตรงต่อเวลาและรับผิดชอบในการเรียน การปฏิบัติงาน | L6: ปฏิบัติตนในกิจวัตรประจำวันโดยไม่ละเมิดสิทธิผู้อื่น | M6: ตั้งใจ เพียงพยายามในการเรียน สนใจเข้าร่วมกิจกรรมการเรียนรู้ต่าง ๆ | N6: แสวงหา ศึกษา ค้นคว้าความรู้จากแหล่งการเรียนรู้ต่าง ๆ | O6: บันทึกความรู้วิเคราะห์ตรวจสอบ แลกเปลี่ยนเรียนรู้ | P6: ใช้ทรัพย์สินของตนเองและของส่วนรวมอย่างประหยัด คุ้มค่า รวมทั้งใช้เวลาอย่างเหมาะสม | Q6: ปฏิบัติตนและตัดสินใจด้วยความรอบคอบมีเหตุผล | R6: วางแผนการเรียนการทำงาน บนพื้นฐานของความรู้ ข้อมูล ข่าวสาร มีภูมิคุ้มกันในตัวที่ดี | T6: ตั้งใจและรับผิดชอบในการทำงานให้สำเร็จ | U6: ทุ่มเททำงาน อดทนไม่ย่อท้อต่อปัญหาและอุปสรรค | V6: ปรับปรุงพัฒนาการทำงานและผลงานด้วยตนเอง | W6: ปฏิบัติตามขนบะรรมเนียม ประเพณีศิลปะวัฒนธรรมไทย | X6: ใช้ภาษาไทย เลขไทยในการสื่อสารได้อย่างถูกต้อง | Y6: ร่วมกิจกรรมที่เกี่ยวข้องกับภูมิปัญญาไทย นำมาใช้ให้เหมาะสมในวิถีชีวิต | Z6: ช่วยเหลือผู้อื่น แบ่งปันสิ่งของ อาสาทำงานให้ด้ยความเต็มใจไม่หวังผลตอบแทน | AA6: เข้าร่วมกิจกรรมที่เป็นประโยชน์ต่อโรงเรียน ชุมชนและสังคม | AB6: ดูแลรักษาสาธารณสมบัติและสิ่งแวดล้อมด้วยความเต็มใจ | AD6: ดีเยี่ยม | AE6: ดี | AF6: ผ่านเกณฑ์
A7: ระดับคุณภาพ | C7: 3 | D7: 3 | E7: 3 | F7: 3 | G7: 3 | H7: 3 | J7: 3 | K7: 3 | L7: 3 | M7: 3 | N7: 3 | O7: 3 | P7: 3 | Q7: 3 | R7: 3 | T7: 3 | U7: 3 | V7: 3 | W7: 3 | X7: 3 | Y7: 3 | Z7: 3 | AA7: 3 | AB7: 3 | AC7: 3 | AD7: 3 | AE7: 2 | AF7: 1
A8: 1 | B8: ='1.1'!B6 -> บาส | I8: 1 | S8: 1
A9: 2 | B9: ='1.1'!B7 -> 0 | I9: 2 | S9: 2
A10: 3 | B10: ='1.1'!B8 -> 0 | I10: 3 | S10: 3
A11: 4 | B11: ='1.1'!B9 -> 0 | I11: 4 | S11: 4
A12: 5 | B12: ='1.1'!B10 -> 0 | I12: 5 | S12: 5
A13: 6 | B13: ='1.1'!B11 -> 0 | I13: 6 | S13: 6
A14: 7 | B14: ='1.1'!B12 -> 0 | I14: 7 | S14: 7
A15: 8 | B15: ='1.1'!B13 -> 0 | I15: 8 | S15: 8
A16: 9 | B16: ='1.1'!B14 -> 0 | I16: 9 | S16: 9
A17: 10 | B17: ='1.1'!B15 -> 0 | I17: 10 | S17: 10
A18: 11 | B18: ='1.1'!B16 -> 0 | I18: 11 | S18: 11
A19: 12 | B19: ='1.1'!B17 -> 0 | I19: 12 | S19: 12
... A28: 21 | B28: ='1.1'!B26 -> 0 | I28: 21 | S28: 21

Sheet สังคม
A1: แบบประเมินคุณลักษณะอันพึงประสงค์ วิชาสังคมศึกษา ศาสนาและวัฒนธรรม | I1: แบบประเมินคุณลักษณะอันพึงประสงค์ วิชาสังคมศึกษา ศาสนาและวัฒนธรรม | S1: แบบประเมินคุณลักษณะอันพึงประสงค์ วิชาสังคมศึกษา ศาสนาและวัฒนธรรม
A2: ที่ | B2: ชื่อ - สกุล | C2: 1 | F2: 2 | I2: เลขที่ | J2: 3 | M2: 4 | P2: 5 | S2: เลขที่ | T2: 6 | W2: 7 | Z2: 8 | AC2: รวม | AD2: ผลการประเมิน
C3: รักชาติ ศาสตร์ กษัตริย์ | F3: ซื่อสัตย์สุจริต | J3: มีวินัย | M3: ใฝ่เรียนรู้ | P3: อยู่อย่างพอเพียง | T3: มุ่งมั่นในการทำงาน | W3: รักความเป็นไทย | Z3: มีจิตสาธารณะ
C5: 1.1 | D5: 1.2 | E5: 1.3 | F5: 2.1 | G5: 2.2 | H5: 2.3 | J5: 3.1 | K5: 3.2 | L5: 3.3 | M5: 4.1 | N5: 4.2 | O5: 4.3 | P5: 5.1 | Q5: 5.2 | R5: 5.3 | T5: 6.1 | U5: 6.2 | V5: 6.3 | W5: 7.1 | X5: 7.2 | Y5: 7.3 | Z5: 8.1 | AA5: 8.2 | AB5: 8.3
C6: ชอบเข้าร่วมกิจกรรมแสดงความรักชาติ เช่น เชิญธง ยืนตรงเคารพธงชาติ ร้องเพลงชาติ รักษาชื่อเสียงและหวงแหนสมบัติของชาติ | D6: ชอบเข้าร่วมกิจกรรมทางศาสนา และปฎิบัติตามหลักธรรมของศาสนา เช่น รักษาศีล ปฏิบัติธรรม | E6: ชอบเข้าร่วมกิจกรรมเพื่อแสดงความจงรักภักดีต่อพระมหากษัตริย์ | F6: ให้ข้อมูลที่ถูกต้องและเป็นจริง ไม่โกหก | G6: ไม่ถือเอาสิ่งของหรือผลงานของผู้อื่นมาเป็นของตนเอง ไม่ลักขโมย | H6: ไม่หาผลประโยชน์ในทางที่ไม่ถูกต้อง ไม่คดโกง | J6: ปฏิบัติตนตามข้อตกลง กฎระเบียบของครอบครัว โรงเรียนและสังคม | K6: ตรงต่อเวลาและรับผิดชอบในการเรียน การปฏิบัติงาน | L6: ปฏิบัติตนในกิจวัตรประจำวันโดยไม่ละเมิดสิทธิผู้อื่น | M6: ตั้งใจ เพียงพยายามในการเรียน สนใจเข้าร่วมกิจกรรมการเรียนรู้ต่าง ๆ | N6: แสวงหา ศึกษา ค้นคว้าความรู้จากแหล่งการเรียนรู้ต่าง ๆ | O6: บันทึกความรู้วิเคราะห์ตรวจสอบ แลกเปลี่ยนเรียนรู้ | P6: ใช้ทรัพย์สินของตนเองและของส่วนรวมอย่างประหยัด คุ้มค่า รวมทั้งใช้เวลาอย่างเหมาะสม | Q6: ปฏิบัติตนและตัดสินใจด้วยความรอบคอบมีเหตุผล | R6: วางแผนการเรียนการทำงาน บนพื้นฐานของความรู้ ข้อมูล ข่าวสาร มีภูมิคุ้มกันในตัวที่ดี | T6: ตั้งใจและรับผิดชอบในการทำงานให้สำเร็จ | U6: ทุ่มเททำงาน อดทนไม่ย่อท้อต่อปัญหาและอุปสรรค | V6: ปรับปรุงพัฒนาการทำงานและผลงานด้วยตนเอง | W6: ปฏิบัติตามขนบะรรมเนียม ประเพณีศิลปะวัฒนธรรมไทย | X6: ใช้ภาษาไทย เลขไทยในการสื่อสารได้อย่างถูกต้อง | Y6: ร่วมกิจกรรมที่เกี่ยวข้องกับภูมิปัญญาไทย นำมาใช้ให้เหมาะสมในวิถีชีวิต | Z6: ช่วยเหลือผู้อื่น แบ่งปันสิ่งของ อาสาทำงานให้ด้ยความเต็มใจไม่หวังผลตอบแทน | AA6: เข้าร่วมกิจกรรมที่เป็นประโยชน์ต่อโรงเรียน ชุมชนและสังคม | AB6: ดูแลรักษาสาธารณสมบัติและสิ่งแวดล้อมด้วยความเต็มใจ | AD6: ดีเยี่ยม | AE6: ดี | AF6: ผ่านเกณฑ์
A7: ระดับคุณภาพ | C7: 3 | D7: 3 | E7: 3 | F7: 3 | G7: 3 | H7: 3 | J7: 3 | K7: 3 | L7: 3 | M7: 3 | N7: 3 | O7: 3 | P7: 3 | Q7: 3 | R7: 3 | T7: 3 | U7: 3 | V7: 3 | W7: 3 | X7: 3 | Y7: 3 | Z7: 3 | AA7: 3 | AB7: 3 | AC7: 3 | AD7: 3 | AE7: 2 | AF7: 1
A8: 1 | B8: ='1.1'!B6 -> บาส | I8: 1 | S8: 1
A9: 2 | B9: ='1.1'!B7 -> 0 | I9: 2 | S9: 2
A10: 3 | B10: ='1.1'!B8 -> 0 | I10: 3 | S10: 3
A11: 4 | B11: ='1.1'!B9 -> 0 | I11: 4 | S11: 4
A12: 5 | B12: ='1.1'!B10 -> 0 | I12: 5 | S12: 5
A13: 6 | B13: ='1.1'!B11 -> 0 | I13: 6 | S13: 6
A14: 7 | B14: ='1.1'!B12 -> 0 | I14: 7 | S14: 7
A15: 8 | B15: ='1.1'!B13 -> 0 | I15: 8 | S15: 8
A16: 9 | B16: ='1.1'!B14 -> 0 | I16: 9 | S16: 9
A17: 10 | B17: ='1.1'!B15 -> 0 | I17: 10 | S17: 10
A18: 11 | B18: ='1.1'!B16 -> 0 | I18: 11 | S18: 11
A19: 12 | B19: ='1.1'!B17 -> 0 | I19: 12 | S19: 12
... A28: 21 | B28: ='1.1'!B26 -> 0 | I28: 21 | S28: 21

Sheet ประวัติ
A1: แบบประเมินคุณลักษณะอันพึงประสงค์ วิชาประวัติศาสตร์ | I1: แบบประเมินคุณลักษณะอันพึงประสงค์ วิชาประวัติศาสตร์ | S1: แบบประเมินคุณลักษณะอันพึงประสงค์ วิชาประวัติศาสตร์
A2: ที่ | B2: ชื่อ - สกุล | C2: 1 | F2: 2 | I2: เลขที่ | J2: 3 | M2: 4 | P2: 5 | S2: เลขที่ | T2: 6 | W2: 7 | Z2: 8 | AC2: รวม | AD2: ผลการประเมิน
C3: รักชาติ ศาสตร์ กษัตริย์ | F3: ซื่อสัตย์สุจริต | J3: มีวินัย | M3: ใฝ่เรียนรู้ | P3: อยู่อย่างพอเพียง | T3: มุ่งมั่นในการทำงาน | W3: รักความเป็นไทย | Z3: มีจิตสาธารณะ
C5: 1.1 | D5: 1.2 | E5: 1.3 | F5: 2.1 | G5: 2.2 | H5: 2.3 | J5: 3.1 | K5: 3.2 | L5: 3.3 | M5: 4.1 | N5: 4.2 | O5: 4.3 | P5: 5.1 | Q5: 5.2 | R5: 5.3 | T5: 6.1 | U5: 6.2 | V5: 6.3 | W5: 7.1 | X5: 7.2 | Y5: 7.3 | Z5: 8.1 | AA5: 8.2 | AB5: 8.3
C6: ชอบเข้าร่วมกิจกรรมแสดงความรักชาติ เช่น เชิญธง ยืนตรงเคารพธงชาติ ร้องเพลงชาติ รักษาชื่อเสียงและหวงแหนสมบัติของชาติ | D6: ชอบเข้าร่วมกิจกรรมทางศาสนา และปฎิบัติตามหลักธรรมของศาสนา เช่น รักษาศีล ปฏิบัติธรรม | E6: ชอบเข้าร่วมกิจกรรมเพื่อแสดงความจงรักภักดีต่อพระมหากษัตริย์ | F6: ให้ข้อมูลที่ถูกต้องและเป็นจริง ไม่โกหก | G6: ไม่ถือเอาสิ่งของหรือผลงานของผู้อื่นมาเป็นของตนเอง ไม่ลักขโมย | H6: ไม่หาผลประโยชน์ในทางที่ไม่ถูกต้อง ไม่คดโกง | J6: ปฏิบัติตนตามข้อตกลง กฎระเบียบของครอบครัว โรงเรียนและสังคม | K6: ตรงต่อเวลาและรับผิดชอบในการเรียน การปฏิบัติงาน | L6: ปฏิบัติตนในกิจวัตรประจำวันโดยไม่ละเมิดสิทธิผู้อื่น | M6: ตั้งใจ เพียงพยายามในการเรียน สนใจเข้าร่วมกิจกรรมการเรียนรู้ต่าง ๆ | N6: แสวงหา ศึกษา ค้นคว้าความรู้จากแหล่งการเรียนรู้ต่าง ๆ | O6: บันทึกความรู้วิเคราะห์ตรวจสอบ แลกเปลี่ยนเรียนรู้ | P6: ใช้ทรัพย์สินของตนเองและของส่วนรวมอย่างประหยัด คุ้มค่า รวมทั้งใช้เวลาอย่างเหมาะสม | Q6: ปฏิบัติตนและตัดสินใจด้วยความรอบคอบมีเหตุผล | R6: วางแผนการเรียนการทำงาน บนพื้นฐานของความรู้ ข้อมูล ข่าวสาร มีภูมิคุ้มกันในตัวที่ดี | T6: ตั้งใจและรับผิดชอบในการทำงานให้สำเร็จ | U6: ทุ่มเททำงาน อดทนไม่ย่อท้อต่อปัญหาและอุปสรรค | V6: ปรับปรุงพัฒนาการทำงานและผลงานด้วยตนเอง | W6: ปฏิบัติตามขนบะรรมเนียม ประเพณีศิลปะวัฒนธรรมไทย | X6: ใช้ภาษาไทย เลขไทยในการสื่อสารได้อย่างถูกต้อง | Y6: ร่วมกิจกรรมที่เกี่ยวข้องกับภูมิปัญญาไทย นำมาใช้ให้เหมาะสมในวิถีชีวิต | Z6: ช่วยเหลือผู้อื่น แบ่งปันสิ่งของ อาสาทำงานให้ด้ยความเต็มใจไม่หวังผลตอบแทน | AA6: เข้าร่วมกิจกรรมที่เป็นประโยชน์ต่อโรงเรียน ชุมชนและสังคม | AB6: ดูแลรักษาสาธารณสมบัติและสิ่งแวดล้อมด้วยความเต็มใจ | AD6: ดีเยี่ยม | AE6: ดี | AF6: ผ่านเกณฑ์
A7: ระดับคุณภาพ | C7: 3 | D7: 3 | E7: 3 | F7: 3 | G7: 3 | H7: 3 | J7: 3 | K7: 3 | L7: 3 | M7: 3 | N7: 3 | O7: 3 | P7: 3 | Q7: 3 | R7: 3 | T7: 3 | U7: 3 | V7: 3 | W7: 3 | X7: 3 | Y7: 3 | Z7: 3 | AA7: 3 | AB7: 3 | AC7: 3 | AD7: 3 | AE7: 2 | AF7: 1
A8: 1 | B8: ='1.1'!B6 -> บาส | I8: 1 | S8: 1
A9: 2 | B9: ='1.1'!B7 -> 0 | I9: 2 | S9: 2
A10: 3 | B10: ='1.1'!B8 -> 0 | I10: 3 | S10: 3
A11: 4 | B11: ='1.1'!B9 -> 0 | I11: 4 | S11: 4
A12: 5 | B12: ='1.1'!B10 -> 0 | I12: 5 | S12: 5
A13: 6 | B13: ='1.1'!B11 -> 0 | I13: 6 | S13: 6
A14: 7 | B14: ='1.1'!B12 -> 0 | I14: 7 | S14: 7
A15: 8 | B15: ='1.1'!B13 -> 0 | I15: 8 | S15: 8
A16: 9 | B16: ='1.1'!B14 -> 0 | I16: 9 | S16: 9
A17: 10 | B17: ='1.1'!B15 -> 0 | I17: 10 | S17: 10
A18: 11 | B18: ='1.1'!B16 -> 0 | I18: 11 | S18: 11
A19: 12 | B19: ='1.1'!B17 -> 0 | I19: 12 | S19: 12
... A28: 21 | B28: ='1.1'!B26 -> 0 | I28: 21 | S28: 21

Sheet สุขพละ
A1: แบบประเมินคุณลักษณะอันพึงประสงค์ วิชาสุขศึกษาและพละศึกษา | I1: แบบประเมินคุณลักษณะอันพึงประสงค์ วิชาสุขศึกษาและพละศึกษา | S1: แบบประเมินคุณลักษณะอันพึงประสงค์ วิชาสุขศึกษาและพละศึกษา
A2: ที่ | B2: ชื่อ - สกุล | C2: 1 | F2: 2 | I2: เลขที่ | J2: 3 | M2: 4 | P2: 5 | S2: เลขที่ | T2: 6 | W2: 7 | Z2: 8 | AC2: รวม | AD2: ผลการประเมิน
C3: รักชาติ ศาสตร์ กษัตริย์ | F3: ซื่อสัตย์สุจริต | J3: มีวินัย | M3: ใฝ่เรียนรู้ | P3: อยู่อย่างพอเพียง | T3: มุ่งมั่นในการทำงาน | W3: รักความเป็นไทย | Z3: มีจิตสาธารณะ
C5: 1.1 | D5: 1.2 | E5: 1.3 | F5: 2.1 | G5: 2.2 | H5: 2.3 | J5: 3.1 | K5: 3.2 | L5: 3.3 | M5: 4.1 | N5: 4.2 | O5: 4.3 | P5: 5.1 | Q5: 5.2 | R5: 5.3 | T5: 6.1 | U5: 6.2 | V5: 6.3 | W5: 7.1 | X5: 7.2 | Y5: 7.3 | Z5: 8.1 | AA5: 8.2 | AB5: 8.3
C6: ชอบเข้าร่วมกิจกรรมแสดงความรักชาติ เช่น เชิญธง ยืนตรงเคารพธงชาติ ร้องเพลงชาติ รักษาชื่อเสียงและหวงแหนสมบัติของชาติ | D6: ชอบเข้าร่วมกิจกรรมทางศาสนา และปฎิบัติตามหลักธรรมของศาสนา เช่น รักษาศีล ปฏิบัติธรรม | E6: ชอบเข้าร่วมกิจกรรมเพื่อแสดงความจงรักภักดีต่อพระมหากษัตริย์ | F6: ให้ข้อมูลที่ถูกต้องและเป็นจริง ไม่โกหก | G6: ไม่ถือเอาสิ่งของหรือผลงานของผู้อื่นมาเป็นของตนเอง ไม่ลักขโมย | H6: ไม่หาผลประโยชน์ในทางที่ไม่ถูกต้อง ไม่คดโกง | J6: ปฏิบัติตนตามข้อตกลง กฎระเบียบของครอบครัว โรงเรียนและสังคม | K6: ตรงต่อเวลาและรับผิดชอบในการเรียน การปฏิบัติงาน | L6: ปฏิบัติตนในกิจวัตรประจำวันโดยไม่ละเมิดสิทธิผู้อื่น | M6: ตั้งใจ เพียงพยายามในการเรียน สนใจเข้าร่วมกิจกรรมการเรียนรู้ต่าง ๆ | N6: แสวงหา ศึกษา ค้นคว้าความรู้จากแหล่งการเรียนรู้ต่าง ๆ | O6: บันทึกความรู้วิเคราะห์ตรวจสอบ แลกเปลี่ยนเรียนรู้ | P6: ใช้ทรัพย์สินของตนเองและของส่วนรวมอย่างประหยัด คุ้มค่า รวมทั้งใช้เวลาอย่างเหมาะสม | Q6: ปฏิบัติตนและตัดสินใจด้วยความรอบคอบมีเหตุผล | R6: วางแผนการเรียนการทำงาน บนพื้นฐานของความรู้ ข้อมูล ข่าวสาร มีภูมิคุ้มกันในตัวที่ดี | T6: ตั้งใจและรับผิดชอบในการทำงานให้สำเร็จ | U6: ทุ่มเททำงาน อดทนไม่ย่อท้อต่อปัญหาและอุปสรรค | V6: ปรับปรุงพัฒนาการทำงานและผลงานด้วยตนเอง | W6: ปฏิบัติตามขนบะรรมเนียม ประเพณีศิลปะวัฒนธรรมไทย | X6: ใช้ภาษาไทย เลขไทยในการสื่อสารได้อย่างถูกต้อง | Y6: ร่วมกิจกรรมที่เกี่ยวข้องกับภูมิปัญญาไทย นำมาใช้ให้เหมาะสมในวิถีชีวิต | Z6: ช่วยเหลือผู้อื่น แบ่งปันสิ่งของ อาสาทำงานให้ด้ยความเต็มใจไม่หวังผลตอบแทน | AA6: เข้าร่วมกิจกรรมที่เป็นประโยชน์ต่อโรงเรียน ชุมชนและสังคม | AB6: ดูแลรักษาสาธารณสมบัติและสิ่งแวดล้อมด้วยความเต็มใจ | AD6: ดีเยี่ยม | AE6: ดี | AF6: ผ่านเกณฑ์
A7: ระดับคุณภาพ | C7: 3 | D7: 3 | E7: 3 | F7: 3 | G7: 3 | H7: 3 | J7: 3 | K7: 3 | L7: 3 | M7: 3 | N7: 3 | O7: 3 | P7: 3 | Q7: 3 | R7: 3 | T7: 3 | U7: 3 | V7: 3 | W7: 3 | X7: 3 | Y7: 3 | Z7: 3 | AA7: 3 | AB7: 3 | AC7: 3 | AD7: 3 | AE7: 2 | AF7: 1
A8: 1 | B8: ='1.1'!B6 -> บาส | I8: 1 | S8: 1
A9: 2 | B9: ='1.1'!B7 -> 0 | I9: 2 | S9: 2
A10: 3 | B10: ='1.1'!B8 -> 0 | I10: 3 | S10: 3
A11: 4 | B11: ='1.1'!B9 -> 0 | I11: 4 | S11: 4
A12: 5 | B12: ='1.1'!B10 -> 0 | I12: 5 | S12: 5
A13: 6 | B13: ='1.1'!B11 -> 0 | I13: 6 | S13: 6
A14: 7 | B14: ='1.1'!B12 -> 0 | I14: 7 | S14: 7
A15: 8 | B15: ='1.1'!B13 -> 0 | I15: 8 | S15: 8
A16: 9 | B16: ='1.1'!B14 -> 0 | I16: 9 | S16: 9
A17: 10 | B17: ='1.1'!B15 -> 0 | I17: 10 | S17: 10
A18: 11 | B18: ='1.1'!B16 -> 0 | I18: 11 | S18: 11
A19: 12 | B19: ='1.1'!B17 -> 0 | I19: 12 | S19: 12
... A28: 21 | B28: ='1.1'!B26 -> 0 | I28: 21 | S28: 21

Sheet ศิลปะ
A1: แบบประเมินคุณลักษณะอันพึงประสงค์ วิชาศิลปะ | I1: แบบประเมินคุณลักษณะอันพึงประสงค์ วิชาศิลปะ | S1: แบบประเมินคุณลักษณะอันพึงประสงค์ วิชาศิลปะ
A2: ที่ | B2: ชื่อ - สกุล | C2: 1 | F2: 2 | I2: เลขที่ | J2: 3 | M2: 4 | P2: 5 | S2: เลขที่ | T2: 6 | W2: 7 | Z2: 8 | AC2: รวม | AD2: ผลการประเมิน
C3: รักชาติ ศาสตร์ กษัตริย์ | F3: ซื่อสัตย์สุจริต | J3: มีวินัย | M3: ใฝ่เรียนรู้ | P3: อยู่อย่างพอเพียง | T3: มุ่งมั่นในการทำงาน | W3: รักความเป็นไทย | Z3: มีจิตสาธารณะ
C5: 1.1 | D5: 1.2 | E5: 1.3 | F5: 2.1 | G5: 2.2 | H5: 2.3 | J5: 3.1 | K5: 3.2 | L5: 3.3 | M5: 4.1 | N5: 4.2 | O5: 4.3 | P5: 5.1 | Q5: 5.2 | R5: 5.3 | T5: 6.1 | U5: 6.2 | V5: 6.3 | W5: 7.1 | X5: 7.2 | Y5: 7.3 | Z5: 8.1 | AA5: 8.2 | AB5: 8.3
C6: ชอบเข้าร่วมกิจกรรมแสดงความรักชาติ เช่น เชิญธง ยืนตรงเคารพธงชาติ ร้องเพลงชาติ รักษาชื่อเสียงและหวงแหนสมบัติของชาติ | D6: ชอบเข้าร่วมกิจกรรมทางศาสนา และปฎิบัติตามหลักธรรมของศาสนา เช่น รักษาศีล ปฏิบัติธรรม | E6: ชอบเข้าร่วมกิจกรรมเพื่อแสดงความจงรักภักดีต่อพระมหากษัตริย์ | F6: ให้ข้อมูลที่ถูกต้องและเป็นจริง ไม่โกหก | G6: ไม่ถือเอาสิ่งของหรือผลงานของผู้อื่นมาเป็นของตนเอง ไม่ลักขโมย | H6: ไม่หาผลประโยชน์ในทางที่ไม่ถูกต้อง ไม่คดโกง | J6: ปฏิบัติตนตามข้อตกลง กฎระเบียบของครอบครัว โรงเรียนและสังคม | K6: ตรงต่อเวลาและรับผิดชอบในการเรียน การปฏิบัติงาน | L6: ปฏิบัติตนในกิจวัตรประจำวันโดยไม่ละเมิดสิทธิผู้อื่น | M6: ตั้งใจ เพียงพยายามในการเรียน สนใจเข้าร่วมกิจกรรมการเรียนรู้ต่าง ๆ | N6: แสวงหา ศึกษา ค้นคว้าความรู้จากแหล่งการเรียนรู้ต่าง ๆ | O6: บันทึกความรู้วิเคราะห์ตรวจสอบ แลกเปลี่ยนเรียนรู้ | P6: ใช้ทรัพย์สินของตนเองและของส่วนรวมอย่างประหยัด คุ้มค่า รวมทั้งใช้เวลาอย่างเหมาะสม | Q6: ปฏิบัติตนและตัดสินใจด้วยความรอบคอบมีเหตุผล | R6: วางแผนการเรียนการทำงาน บนพื้นฐานของความรู้ ข้อมูล ข่าวสาร มีภูมิคุ้มกันในตัวที่ดี | T6: ตั้งใจและรับผิดชอบในการทำงานให้สำเร็จ | U6: ทุ่มเททำงาน อดทนไม่ย่อท้อต่อปัญหาและอุปสรรค | V6: ปรับปรุงพัฒนาการทำงานและผลงานด้วยตนเอง | W6: ปฏิบัติตามขนบะรรมเนียม ประเพณีศิลปะวัฒนธรรมไทย | X6: ใช้ภาษาไทย เลขไทยในการสื่อสารได้อย่างถูกต้อง | Y6: ร่วมกิจกรรมที่เกี่ยวข้องกับภูมิปัญญาไทย นำมาใช้ให้เหมาะสมในวิถีชีวิต | Z6: ช่วยเหลือผู้อื่น แบ่งปันสิ่งของ อาสาทำงานให้ด้ยความเต็มใจไม่หวังผลตอบแทน | AA6: เข้าร่วมกิจกรรมที่เป็นประโยชน์ต่อโรงเรียน ชุมชนและสังคม | AB6: ดูแลรักษาสาธารณสมบัติและสิ่งแวดล้อมด้วยความเต็มใจ | AD6: ดีเยี่ยม | AE6: ดี | AF6: ผ่านเกณฑ์
A7: ระดับคุณภาพ | C7: 3 | D7: 3 | E7: 3 | F7: 3 | G7: 3 | H7: 3 | J7: 3 | K7: 3 | L7: 3 | M7: 3 | N7: 3 | O7: 3 | P7: 3 | Q7: 3 | R7: 3 | T7: 3 | U7: 3 | V7: 3 | W7: 3 | X7: 3 | Y7: 3 | Z7: 3 | AA7: 3 | AB7: 3 | AC7: 3 | AD7: 3 | AE7: 2 | AF7: 1
A8: 1 | B8: ='1.1'!B6 -> บาส | I8: 1 | S8: 1
A9: 2 | B9: ='1.1'!B7 -> 0 | I9: 2 | S9: 2
A10: 3 | B10: ='1.1'!B8 -> 0 | I10: 3 | S10: 3
A11: 4 | B11: ='1.1'!B9 -> 0 | I11: 4 | S11: 4
A12: 5 | B12: ='1.1'!B10 -> 0 | I12: 5 | S12: 5
A13: 6 | B13: ='1.1'!B11 -> 0 | I13: 6 | S13: 6
A14: 7 | B14: ='1.1'!B12 -> 0 | I14: 7 | S14: 7
A15: 8 | B15: ='1.1'!B13 -> 0 | I15: 8 | S15: 8
A16: 9 | B16: ='1.1'!B14 -> 0 | I16: 9 | S16: 9
A17: 10 | B17: ='1.1'!B15 -> 0 | I17: 10 | S17: 10
A18: 11 | B18: ='1.1'!B16 -> 0 | I18: 11 | S18: 11
A19: 12 | B19: ='1.1'!B17 -> 0 | I19: 12 | S19: 12
... A28: 21 | B28: ='1.1'!B26 -> 0 | I28: 21 | S28: 21

Sheet การงาน
A1: แบบประเมินคุณลักษณะอันพึงประสงค์ วิชาการงานอาชีพ | I1: แบบประเมินคุณลักษณะอันพึงประสงค์ วิชาการงานอาชีพ | S1: แบบประเมินคุณลักษณะอันพึงประสงค์ วิชาการงานอาชีพ
A2: ที่ | B2: ชื่อ - สกุล | C2: 1 | F2: 2 | I2: เลขที่ | J2: 3 | M2: 4 | P2: 5 | S2: เลขที่ | T2: 6 | W2: 7 | Z2: 8 | AC2: รวม | AD2: ผลการประเมิน
C3: รักชาติ ศาสตร์ กษัตริย์ | F3: ซื่อสัตย์สุจริต | J3: มีวินัย | M3: ใฝ่เรียนรู้ | P3: อยู่อย่างพอเพียง | T3: มุ่งมั่นในการทำงาน | W3: รักความเป็นไทย | Z3: มีจิตสาธารณะ
C5: 1.1 | D5: 1.2 | E5: 1.3 | F5: 2.1 | G5: 2.2 | H5: 2.3 | J5: 3.1 | K5: 3.2 | L5: 3.3 | M5: 4.1 | N5: 4.2 | O5: 4.3 | P5: 5.1 | Q5: 5.2 | R5: 5.3 | T5: 6.1 | U5: 6.2 | V5: 6.3 | W5: 7.1 | X5: 7.2 | Y5: 7.3 | Z5: 8.1 | AA5: 8.2 | AB5: 8.3
