Workbook

Sheet ปก
A2: แบบประเมินคุณลักษณะอันพึงประสงค์
A3: ตามหลักสูตรแกนกลางการศึกษาขั้นพื้นฐาน พุทธศักราช 2551
A4: โรงเรียนวัดเกาะแรต (อุภัยเพชรพิทยาคาร)
A5: สำนักงานเขตพืนที่การศึกษาประถมศึกษานครปฐม เขต 2
A6: ชั้นประถมศึกษาปีที่ ปีการศึกษา 2563
B7: จำนวนนักเรียน | C7: ดีเยี่ยม | D7: ดี | E7: ผ่านเกณฑ์ | F7: ไม่ผ่านเกณฑ์
B9: ร้อยละ
C12: ลงชื่อ............................................................................................ | F12: ครูประจำชั้น
C13: ()
C16: ลงชื่อ............................................................................................ | F16: หัวหน้าฝ่ายวิชาการ
C17: (นางศศิกานต์ มะคำแป้น)
C20: ลงชื่อ............................................................................................
C21: (นางศศิกานต์ มะคำแป้น)
C22: รักษาการในตำแหน่งผู้อำนวยการโรงเรียนวัดเกาะแรต

Sheet 1.1
A1: แบบประเมินคุณลักษณะอันพึงประสงค์
A2: ที่ | B2: ชื่อ - สกุล | C2: 1. รักชาติ ศาสน์ กษัตริย์ | N2: รวม | O2: ผลการประเมิน
C3: 1.1 ชอบเข้าร่วมกิจกรรมแสดงความรักชาติ เช่น เชิญธง ยืนตรงเคารพธงชาติ ร้องเพลงชาติ รักษาชื่อเสียงและหวงแหนสมบัติองชาติ
C4: ภาษาไทย | D4: คณิตศาสตร์ | E4: วิทยาศาสตร์ | F4: สังคมศึกษา | G4: ประวัติศาสตร์ | H4: สุข / พละ | I4: ศิลปะ | J4: การงานอาชีพ | K4: ภาษาอังกฤษ | L4: หน้าที่พลเมือง | M4: การป้องกันการทุจริต | O4: ดีเยี่ยม | P4: ดี | Q4: ผ่านเกณฑ์
A5: ระดับคุณภาพ | C5: =ไทย!C7 -> 3 | D5: =คณิต!C7 -> 3 | E5: =วิทย์!C7 -> 3 | F5: =สังคม!C7 -> 3 | G5: =ประวัติ!C7 -> 3 | H5: =สุขพละ!C7 -> 3 | I5: =ศิลปะ!C7 -> 3 | J5: =การงาน!C7 -> 3 | K5: =ENG!C7 -> 3 | L5: =หน้าที่!C7 -> 3 | M5: =ต้าน!C7 -> 3 | N5: =AVERAGE(C5:M5) -> 3
A6: 1 | B6: บาส | C6: =ไทย!C8 -> 0 | D6: =คณิต!C8 -> 0 | E6: =วิทย์!C8 -> 0 | F6: =สังคม!C8 -> 0 | G6: =ประวัติ!C8 -> 0 | H6: =สุขพละ!C8 -> 0 | I6: =ศิลปะ!C8 -> 0 | J6: =การงาน!C8 -> 0 | K6: =ENG!C8 -> 0 | L6: =หน้าที่!C8 -> 0 | M6: =ต้าน!C8 -> 0 | N6: =AVERAGE(C6:L6) -> 0
A7: 2 | C7: =ไทย!C9 -> 0 | D7: =คณิต!C9 -> 0 | E7: =วิทย์!C9 -> 0 | F7: =สังคม!C9 -> 0 | G7: =ประวัติ!C9 -> 0 | H7: =สุขพละ!C9 -> 0 | I7: =ศิลปะ!C9 -> 0 | J7: =การงาน!C9 -> 0 | K7: =ENG!C9 -> 0 | L7: =หน้าที่!C9 -> 0 | M7: =ต้าน!C9 -> 0 | N7: =AVERAGE(C7:L7) -> 0
A8: 3 | C8: =ไทย!C10 -> 0 | D8: =คณิต!C10 -> 0 | E8: =วิทย์!C10 -> 0 | F8: =สังคม!C10 -> 0 | G8: =ประวัติ!C10 -> 0 | H8: =สุขพละ!C10 -> 0 | I8: =ศิลปะ!C10 -> 0 | J8: =การงาน!C10 -> 0 | K8: =ENG!C10 -> 0 | L8: =หน้าที่!C10 -> 0 | M8: =ต้าน!C10 -> 0 | N8: =AVERAGE(C8:L8) -> 0
A9: 4 | C9: =ไทย!C11 -> 0 | D9: =คณิต!C11 -> 0 | E9: =วิทย์!C11 -> 0 | F9: =สังคม!C11 -> 0 | G9: =ประวัติ!C11 -> 0 | H9: =สุขพละ!C11 -> 0 | I9: =ศิลปะ!C11 -> 0 | J9: =การงาน!C11 -> 0 | K9: =ENG!C11 -> 0 | L9: =หน้าที่!C11 -> 0 | M9: =ต้าน!C11 -> 0 | N9: =AVERAGE(C9:L9) -> 0
A10: 5 | C10: =ไทย!C12 -> 0 | D10: =คณิต!C12 -> 0 | E10: =วิทย์!C12 -> 0 | F10: =สังคม!C12 -> 0 | G10: =ประวัติ!C12 -> 0 | H10: =สุขพละ!C12 -> 0 | I10: =ศิลปะ!C12 -> 0 | J10: =การงาน!C12 -> 0 | K10: =ENG!C12 -> 0 | L10: =หน้าที่!C12 -> 0 | M10: =ต้าน!C12 -> 0 | N10: =AVERAGE(C10:L10) -> 0
A11: 6 | C11: =ไทย!C13 -> 0 | D11: =คณิต!C13 -> 0 | E11: =วิทย์!C13 -> 0 | F11: =สังคม!C13 -> 0 | G11: =ประวัติ!C13 -> 0 | H11: =สุขพละ!C13 -> 0 | I11: =ศิลปะ!C13 -> 0 | J11: =การงาน!C13 -> 0 | K11: =ENG!C13 -> 0 | L11: =หน้าที่!C13 -> 0 | M11: =ต้าน!C13 -> 0 | N11: =AVERAGE(C11:L11) -> 0
A12: 7 | C12: =ไทย!C14 -> 0 | D12: =คณิต!C14 -> 0 | E12: =วิทย์!C14 -> 0 | F12: =สังคม!C14 -> 0 | G12: =ประวัติ!C14 -> 0 | H12: =สุขพละ!C14 -> 0 | I12: =ศิลปะ!C14 -> 0 | J12: =การงาน!C14 -> 0 | K12: =ENG!C14 -> 0 | L12: =หน้าที่!C14 -> 0 | M12: =ต้าน!C14 -> 0 | N12: =AVERAGE(C12:L12) -> 0
A13: 8 | C13: =ไทย!C15 -> 0 | D13: =คณิต!C15 -> 0 | E13: =วิทย์!C15 -> 0 | F13: =สังคม!C15 -> 0 | G13: =ประวัติ!C15 -> 0 | H13: =สุขพละ!C15 -> 0 | I13: =ศิลปะ!C15 -> 0 | J13: =การงาน!C15 -> 0 | K13: =ENG!C15 -> 0 | L13: =หน้าที่!C15 -> 0 | M13: =ต้าน!C15 -> 0 | N13: =AVERAGE(C13:L13) -> 0
A14: 9 | C14: =ไทย!C16 -> 0 | D14: =คณิต!C16 -> 0 | E14: =วิทย์!C16 -> 0 | F14: =สังคม!C16 -> 0 | G14: =ประวัติ!C16 -> 0 | H14: =สุขพละ!C16 -> 0 | I14: =ศิลปะ!C16 -> 0 | J14: =การงาน!C16 -> 0 | K14: =ENG!C16 -> 0 | L14: =หน้าที่!C16 -> 0 | M14: =ต้าน!C16 -> 0 | N14: =AVERAGE(C14:L14) -> 0
A15: 10 | C15: =ไทย!C17 -> 0 | D15: =คณิต!C17 -> 0 | E15: =วิทย์!C17 -> 0 | F15: =สังคม!C17 -> 0 | G15: =ประวัติ!C17 -> 0 | H15: =สุขพละ!C17 -> 0 | I15: =ศิลปะ!C17 -> 0 | J15: =การงาน!C17 -> 0 | K15: =ENG!C17 -> 0 | L15: =หน้าที่!C17 -> 0 | M15: =ต้าน!C17 -> 0 | N15: =AVERAGE(C15:L15) -> 0
A16: 11 | C16: =ไทย!C18 -> 0 | D16: =คณิต!C18 -> 0 | E16: =วิทย์!C18 -> 0 | F16: =สังคม!C18 -> 0 | G16: =ประวัติ!C18 -> 0 | H16: =สุขพละ!C18 -> 0 | I16: =ศิลปะ!C18 -> 0 | J16: =การงาน!C18 -> 0 | K16: =ENG!C18 -> 0 | L16: =หน้าที่!C18 -> 0 | M16: =ต้าน!C18 -> 0 | N16: =AVERAGE(C16:L16) -> 0
A17: 12 | C17: =ไทย!C19 -> 0 | D17: =คณิต!C19 -> 0 | E17: =วิทย์!C19 -> 0 | F17: =สังคม!C19 -> 0 | G17: =ประวัติ!C19 -> 0 | H17: =สุขพละ!C19 -> 0 | I17: =ศิลปะ!C19 -> 0 | J17: =การงาน!C19 -> 0 | K17: =ENG!C19 -> 0 | L17: =หน้าที่!C19 -> 0 | M17: =ต้าน!C19 -> 0 | N17: =AVERAGE(C17:L17) -> 0
A18: 13 | C18: =ไทย!C20 -> 0 | D18: =คณิต!C20 -> 0 | E18: =วิทย์!C20 -> 0 | F18: =สังคม!C20 -> 0 | G18: =ประวัติ!C20 -> 0 | H18: =สุขพละ!C20 -> 0 | I18: =ศิลปะ!C20 -> 0 | J18: =การงาน!C20 -> 0 | K18: =ENG!C20 -> 0 | L18: =หน้าที่!C20 -> 0 | M18: =ต้าน!C20 -> 0 | N18: =AVERAGE(C18:L18) -> 0
... A28: 23 | C28: =ไทย!C30 -> 0 | D28: =คณิต!C30 -> 0 | E28: =วิทย์!C30 -> 0 | F28: =สังคม!C30 -> 0 | G28: =ประวัติ!C30 -> 0 | H28: =สุขพละ!C30 -> 0 | I28: =ศิลปะ!C30 -> 0 | J28: =การงาน!C30 -> 0 | K28: =ENG!C30 -> 0 | L28: =หน้าที่!C30 -> 0 | M28: =ต้าน!C30 -> 0 | N28: =AVERAGE(C28:L28) -> 0

Sheet 1.2
A1: แบบประเมินคุณลักษณะอันพึงประสงค์
A2: ที่ | B2: ชื่อ - สกุล | C2: 1. รักชาติ ศาสน์ กษัตริย์ | N2: รวม | O2: ผลการประเมิน
C3: 1.2 ชอบเข้าร่วมกิจกรรมทางศาสนา และปฏิบัติตามหลักธรรมของศาสนา เช่น รักษาศีล ปฏิบัติธรรม
C4: ภาษาไทย | D4: คณิตศาสตร์ | E4: วิทยาศาสตร์ | F4: สังคมศึกษา | G4: ประวัติศาสตร์ | H4: สุข / พละ | I4: ศิลปะ | J4: การงานอาชีพ | K4: ภาษาอังกฤษ | L4: หน้าที่พลเมือง | M4: การป้องกันการทุจริต | O4: ดีเยี่ยม | P4: ดี | Q4: ผ่านเกณฑ์
A5: ระดับคุณภาพ | C5: =ไทย!D7 -> 3 | D5: =คณิต!D7 -> 3 | E5: =วิทย์!D7 -> 3 | F5: =สังคม!D7 -> 3 | G5: =ประวัติ!D7 -> 3 | H5: =สุขพละ!D7 -> 3 | I5: =ศิลปะ!D7 -> 3 | J5: =การงาน!D7 -> 3 | K5: =ENG!D7 -> 3 | L5: =หน้าที่!D7 -> 3 | M5: =ต้าน!D7 -> 3 | N5: =AVERAGE(C5:M5) -> 3
A6: 1 | B6: ='1.1'!B6 -> บาส | C6: =ไทย!D8 -> 0 | D6: =คณิต!D8 -> 0 | E6: =วิทย์!D8 -> 0 | F6: =สังคม!D8 -> 0 | G6: =ประวัติ!D8 -> 0 | H6: =สุขพละ!D8 -> 0 | I6: =ศิลปะ!D8 -> 0 | J6: =การงาน!D8 -> 0 | K6: =ENG!D8 -> 0 | L6: =หน้าที่!D8 -> 0 | M6: =ต้าน!D8 -> 0 | N6: =AVERAGE(C6:L6) -> 0
A7: 2 | B7: ='1.1'!B7 -> 0 | C7: =ไทย!D9 -> 0 | D7: =คณิต!D9 -> 0 | E7: =วิทย์!D9 -> 0 | F7: =สังคม!D9 -> 0 | G7: =ประวัติ!D9 -> 0 | H7: =สุขพละ!D9 -> 0 | I7: =ศิลปะ!D9 -> 0 | J7: =การงาน!D9 -> 0 | K7: =ENG!D9 -> 0 | L7: =หน้าที่!D9 -> 0 | M7: =ต้าน!D9 -> 0 | N7: =AVERAGE(C7:L7) -> 0
A8: 3 | B8: ='1.1'!B8 -> 0 | C8: =ไทย!D10 -> 0 | D8: =คณิต!D10 -> 0 | E8: =วิทย์!D10 -> 0 | F8: =สังคม!D10 -> 0 | G8: =ประวัติ!D10 -> 0 | H8: =สุขพละ!D10 -> 0 | I8: =ศิลปะ!D10 -> 0 | J8: =การงาน!D10 -> 0 | K8: =ENG!D10 -> 0 | L8: =หน้าที่!D10 -> 0 | M8: =ต้าน!D10 -> 0 | N8: =AVERAGE(C8:L8) -> 0
A9: 4 | B9: ='1.1'!B9 -> 0 | C9: =ไทย!D11 -> 0 | D9: =คณิต!D11 -> 0 | E9: =วิทย์!D11 -> 0 | F9: =สังคม!D11 -> 0 | G9: =ประวัติ!D11 -> 0 | H9: =สุขพละ!D11 -> 0 | I9: =ศิลปะ!D11 -> 0 | J9: =การงาน!D11 -> 0 | K9: =ENG!D11 -> 0 | L9: =หน้าที่!D11 -> 0 | M9: =ต้าน!D11 -> 0 | N9: =AVERAGE(C9:L9) -> 0
A10: 5 | B10: ='1.1'!B10 -> 0 | C10: =ไทย!D12 -> 0 | D10: =คณิต!D12 -> 0 | E10: =วิทย์!D12 -> 0 | F10: =สังคม!D12 -> 0 | G10: =ประวัติ!D12 -> 0 | H10: =สุขพละ!D12 -> 0 | I10: =ศิลปะ!D12 -> 0 | J10: =การงาน!D12 -> 0 | K10: =ENG!D12 -> 0 | L10: =หน้าที่!D12 -> 0 | M10: =ต้าน!D12 -> 0 | N10: =AVERAGE(C10:L10) -> 0
A11: 6 | B11: ='1.1'!B11 -> 0 | C11: =ไทย!D13 -> 0 | D11: =คณิต!D13 -> 0 | E11: =วิทย์!D13 -> 0 | F11: =สังคม!D13 -> 0 | G11: =ประวัติ!D13 -> 0 | H11: =สุขพละ!D13 -> 0 | I11: =ศิลปะ!D13 -> 0 | J11: =การงาน!D13 -> 0 | K11: =ENG!D13 -> 0 | L11: =หน้าที่!D13 -> 0 | M11: =ต้าน!D13 -> 0 | N11: =AVERAGE(C11:L11) -> 0
A12: 7 | B12: ='1.1'!B12 -> 0 | C12: =ไทย!D14 -> 0 | D12: =คณิต!D14 -> 0 | E12: =วิทย์!D14 -> 0 | F12: =สังคม!D14 -> 0 | G12: =ประวัติ!D14 -> 0 | H12: =สุขพละ!D14 -> 0 | I12: =ศิลปะ!D14 -> 0 | J12: =การงาน!D14 -> 0 | K12: =ENG!D14 -> 0 | L12: =หน้าที่!D14 -> 0 | M12: =ต้าน!D14 -> 0 | N12: =AVERAGE(C12:L12) -> 0
A13: 8 | B13: ='1.1'!B13 -> 0 | C13: =ไทย!D15 -> 0 | D13: =คณิต!D15 -> 0 | E13: =วิทย์!D15 -> 0 | F13: =สังคม!D15 -> 0 | G13: =ประวัติ!D15 -> 0 | H13: =สุขพละ!D15 -> 0 | I13: =ศิลปะ!D15 -> 0 | J13: =การงาน!D15 -> 0 | K13: =ENG!D15 -> 0 | L13: =หน้าที่!D15 -> 0 | M13: =ต้าน!D15 -> 0 | N13: =AVERAGE(C13:L13) -> 0
A14: 9 | B14: ='1.1'!B14 -> 0 | C14: =ไทย!D16 -> 0 | D14: =คณิต!D16 -> 0 | E14: =วิทย์!D16 -> 0 | F14: =สังคม!D16 -> 0 | G14: =ประวัติ!D16 -> 0 | H14: =สุขพละ!D16 -> 0 | I14: =ศิลปะ!D16 -> 0 | J14: =การงาน!D16 -> 0 | K14: =ENG!D16 -> 0 | L14: =หน้าที่!D16 -> 0 | M14: =ต้าน!D16 -> 0 | N14: =AVERAGE(C14:L14) -> 0
A15: 10 | B15: ='1.1'!B15 -> 0 | C15: =ไทย!D17 -> 0 | D15: =คณิต!D17 -> 0 | E15: =วิทย์!D17 -> 0 | F15: =สังคม!D17 -> 0 | G15: =ประวัติ!D17 -> 0 | H15: =สุขพละ!D17 -> 0 | I15: =ศิลปะ!D17 -> 0 | J15: =การงาน!D17 -> 0 | K15: =ENG!D17 -> 0 | L15: =หน้าที่!D17 -> 0 | M15: =ต้าน!D17 -> 0 | N15: =AVERAGE(C15:L15) -> 0
A16: 11 | B16: ='1.1'!B16 -> 0 | C16: =ไทย!D18 -> 0 | D16: =คณิต!D18 -> 0 | E16: =วิทย์!D18 -> 0 | F16: =สังคม!D18 -> 0 | G16: =ประวัติ!D18 -> 0 | H16: =สุขพละ!D18 -> 0 | I16: =ศิลปะ!D18 -> 0 | J16: =การงาน!D18 -> 0 | K16: =ENG!D18 -> 0 | L16: =หน้าที่!D18 -> 0 | M16: =ต้าน!D18 -> 0 | N16: =AVERAGE(C16:L16) -> 0
A17: 12 | B17: ='1.1'!B17 -> 0 | C17: =ไทย!D19 -> 0 | D17: =คณิต!D19 -> 0 | E17: =วิทย์!D19 -> 0 | F17: =สังคม!D19 -> 0 | G17: =ประวัติ!D19 -> 0 | H17: =สุขพละ!D19 -> 0 | I17: =ศิลปะ!D19 -> 0 | J17: =การงาน!D19 -> 0 | K17: =ENG!D19 -> 0 | L17: =หน้าที่!D19 -> 0 | M17: =ต้าน!D19 -> 0 | N17: =AVERAGE(C17:L17) -> 0
... A28: 23 | B28: ='1.1'!B28 -> 0 | C28: =ไทย!D30 -> 0 | D28: =คณิต!D30 -> 0 | E28: =วิทย์!D30 -> 0 | F28: =สังคม!D30 -> 0 | G28: =ประวัติ!D30 -> 0 | H28: =สุขพละ!D30 -> 0 | I28: =ศิลปะ!D30 -> 0 | J28: =การงาน!D30 -> 0 | K28: =ENG!D30 -> 0 | L28: =หน้าที่!D30 -> 0 | M28: =ต้าน!D30 -> 0 | N28: =AVERAGE(C28:L28) -> 0

Sheet 1.3
A1: แบบประเมินคุณลักษณะอันพึงประสงค์
A2: ที่ | B2: ชื่อ - สกุล | C2: 1. รักชาติ ศาสน์ กษัตริย์ | N2: รวม | O2: ผลการประเมิน
C3: 1.3 ชอบเข้าร่วมกิจกรรมเพื่อแสดงความจงรักภักดีต่อพระมหากษัตริย์
C4: ภาษาไทย | D4: คณิตศาสตร์ | E4: วิทยาศาสตร์ | F4: สังคมศึกษา | G4: ประวัติศาสตร์ | H4: สุข / พละ | I4: ศิลปะ | J4: การงานอาชีพ | K4: ภาษาอังกฤษ | L4: หน้าที่พลเมือง | M4: การป้องกันการทุจริต | O4: ดีเยี่ยม | P4: ดี | Q4: ผ่านเกณฑ์
A5: ระดับคุณภาพ | C5: =ไทย!E7 -> 3 | D5: =คณิต!E7 -> 3 | E5: =วิทย์!E7 -> 3 | F5: =สังคม!E7 -> 3 | G5: =ประวัติ!E7 -> 3 | H5: =สุขพละ!E7 -> 3 | I5: =ศิลปะ!E7 -> 3 | J5: =การงาน!E7 -> 3 | K5: =ENG!E7 -> 3 | L5: =หน้าที่!E7 -> 3 | M5: =ต้าน!E7 -> 3 | N5: =AVERAGE(C5:M5) -> 3
A6: 1 | B6: ='1.1'!B6 -> บาส | C6: =ไทย!E8 -> 0 | D6: =คณิต!E8 -> 0 | E6: =วิทย์!E8 -> 0 | F6: =สังคม!E8 -> 0 | G6: =ประวัติ!E8 -> 0 | H6: =สุขพละ!E8 -> 0 | I6: =ศิลปะ!E8 -> 0 | J6: =การงาน!E8 -> 0 | K6: =ENG!E8 -> 0 | L6: =หน้าที่!E8 -> 0 | M6: =ต้าน!E8 -> 0 | N6: =AVERAGE(C6:L6) -> 0
A7: 2 | B7: ='1.1'!B7 -> 0 | C7: =ไทย!E9 -> 0 | D7: =คณิต!E9 -> 0 | E7: =วิทย์!E9 -> 0 | F7: =สังคม!E9 -> 0 | G7: =ประวัติ!E9 -> 0 | H7: =สุขพละ!E9 -> 0 | I7: =ศิลปะ!E9 -> 0 | J7: =การงาน!E9 -> 0 | K7: =ENG!E9 -> 0 | L7: =หน้าที่!E9 -> 0 | M7: =ต้าน!E9 -> 0 | N7: =AVERAGE(C7:L7) -> 0
A8: 3 | B8: ='1.1'!B8 -> 0 | C8: =ไทย!E10 -> 0 | D8: =คณิต!E10 -> 0 | E8: =วิทย์!E10 -> 0 | F8: =สังคม!E10 -> 0 | G8: =ประวัติ!E10 -> 0 | H8: =สุขพละ!E10 -> 0 | I8: =ศิลปะ!E10 -> 0 | J8: =การงาน!E10 -> 0 | K8: =ENG!E10 -> 0 | L8: =หน้าที่!E10 -> 0 | M8: =ต้าน!E10 -> 0 | N8: =AVERAGE(C8:L8) -> 0
A9: 4 | B9: ='1.1'!B9 -> 0 | C9: =ไทย!E11 -> 0 | D9: =คณิต!E11 -> 0 | E9: =วิทย์!E11 -> 0 | F9: =สังคม!E11 -> 0 | G9: =ประวัติ!E11 -> 0 | H9: =สุขพละ!E11 -> 0 | I9: =ศิลปะ!E11 -> 0 | J9: =การงาน!E11 -> 0 | K9: =ENG!E11 -> 0 | L9: =หน้าที่!E11 -> 0 | M9: =ต้าน!E11 -> 0 | N9: =AVERAGE(C9:L9) -> 0
A10: 5 | B10: ='1.1'!B10 -> 0 | C10: =ไทย!E12 -> 0 | D10: =คณิต!E12 -> 0 | E10: =วิทย์!E12 -> 0 | F10: =สังคม!E12 -> 0 | G10: =ประวัติ!E12 -> 0 | H10: =สุขพละ!E12 -> 0 | I10: =ศิลปะ!E12 -> 0 | J10: =การงาน!E12 -> 0 | K10: =ENG!E12 -> 0 | L10: =หน้าที่!E12 -> 0 | M10: =ต้าน!E12 -> 0 | N10: =AVERAGE(C10:L10) -> 0
A11: 6 | B11: ='1.1'!B11 -> 0 | C11: =ไทย!E13 -> 0 | D11: =คณิต!E13 -> 0 | E11: =วิทย์!E13 -> 0 | F11: =สังคม!E13 -> 0 | G11: =ประวัติ!E13 -> 0 | H11: =สุขพละ!E13 -> 0 | I11: =ศิลปะ!E13 -> 0 | J11: =การงาน!E13 -> 0 | K11: =ENG!E13 -> 0 | L11: =หน้าที่!E13 -> 0 | M11: =ต้าน!E13 -> 0 | N11: =AVERAGE(C11:L11) -> 0
A12: 7 | B12: ='1.1'!B12 -> 0 | C12: =ไทย!E14 -> 0 | D12: =คณิต!E14 -> 0 | E12: =วิทย์!E14 -> 0 | F12: =สังคม!E14 -> 0 | G12: =ประวัติ!E14 -> 0 | H12: =สุขพละ!E14 -> 0 | I12: =ศิลปะ!E14 -> 0 | J12: =การงาน!E14 -> 0 | K12: =ENG!E14 -> 0 | L12: =หน้าที่!E14 -> 0 | M12: =ต้าน!E14 -> 0 | N12: =AVERAGE(C12:L12) -> 0
A13: 8 | B13: ='1.1'!B13 -> 0 | C13: =ไทย!E15 -> 0 | D13: =คณิต!E15 -> 0 | E13: =วิทย์!E15 -> 0 | F13: =สังคม!E15 -> 0 | G13: =ประวัติ!E15 -> 0 | H13: =สุขพละ!E15 -> 0 | I13: =ศิลปะ!E15 -> 0 | J13: =การงาน!E15 -> 0 | K13: =ENG!E15 -> 0 | L13: =หน้าที่!E15 -> 0 | M13: =ต้าน!E15 -> 0 | N13: =AVERAGE(C13:L13) -> 0
A14: 9 | B14: ='1.1'!B14 -> 0 | C14: =ไทย!E16 -> 0 | D14: =คณิต!E16 -> 0 | E14: =วิทย์!E16 -> 0 | F14: =สังคม!E16 -> 0 | G14: =ประวัติ!E16 -> 0 | H14: =สุขพละ!E16 -> 0 | I14: =ศิลปะ!E16 -> 0 | J14: =การงาน!E16 -> 0 | K14: =ENG!E16 -> 0 | L14: =หน้าที่!E16 -> 0 | M14: =ต้าน!E16 -> 0 | N14: =AVERAGE(C14:L14) -> 0
A15: 10 | B15: ='1.1'!B15 -> 0 | C15: =ไทย!E17 -> 0 | D15: =คณิต!E17 -> 0 | E15: =วิทย์!E17 -> 0 | F15: =สังคม!E17 -> 0 | G15: =ประวัติ!E17 -> 0 | H15: =สุขพละ!E17 -> 0 | I15: =ศิลปะ!E17 -> 0 | J15: =การงาน!E17 -> 0 | K15: =ENG!E17 -> 0 | L15: =หน้าที่!E17 -> 0 | M15: =ต้าน!E17 -> 0 | N15: =AVERAGE(C15:L15) -> 0
A16: 11 | B16: ='1.1'!B16 -> 0 | C16: =ไทย!E18 -> 0 | D16: =คณิต!E18 -> 0 | E16: =วิทย์!E18 -> 0 | F16: =สังคม!E18 -> 0 | G16: =ประวัติ!E18 -> 0 | H16: =สุขพละ!E18 -> 0 | I16: =ศิลปะ!E18 -> 0 | J16: =การงาน!E18 -> 0 | K16: =ENG!E18 -> 0 | L16: =หน้าที่!E18 -> 0 | M16: =ต้าน!E18 -> 0 | N16: =AVERAGE(C16:L16) -> 0
A17: 12 | B17: ='1.1'!B17 -> 0 | C17: =ไทย!E19 -> 0 | D17: =คณิต!E19 -> 0 | E17: =วิทย์!E19 -> 0 | F17: =สังคม!E19 -> 0 | G17: =ประวัติ!E19 -> 0 | H17: =สุขพละ!E19 -> 0 | I17: =ศิลปะ!E19 -> 0 | J17: =การงาน!E19 -> 0 | K17: =ENG!E19 -> 0 | L17: =หน้าที่!E19 -> 0 | M17: =ต้าน!E19 -> 0 | N17: =AVERAGE(C17:L17) -> 0
... A28: 23 | B28: ='1.1'!B28 -> 0 | C28: =ไทย!E30 -> 0 | D28: =คณิต!E30 -> 0 | E28: =วิทย์!E30 -> 0 | F28: =สังคม!E30 -> 0 | G28: =ประวัติ!E30 -> 0 | H28: =สุขพละ!E30 -> 0 | I28: =ศิลปะ!E30 -> 0 | J28: =การงาน!E30 -> 0 | K28: =ENG!E30 -> 0 | L28: =หน้าที่!E30 -> 0 | M28: =ต้าน!E30 -> 0 | N28: =AVERAGE(C28:L28) -> 0

Sheet สรุป 1
A1: แบบประเมินคุณลักษณะอันพึงประสงค์
A2: ที่ | B2: ชื่อ - สกุล | C2: 1. รักชาติ ศาสน์ กษัตริย์ | N2: รวม | O2: ผลการประเมิน
C4: ภาษาไทย | D4: คณิตศาสตร์ | E4: วิทยาศาสตร์ | F4: สังคมศึกษา | G4: ประวัติศาสตร์ | H4: สุข / พละ | I4: ศิลปะ | J4: การงานอาชีพ | K4: ภาษาอังกฤษ | L4: หน้าที่พลเมือง | M4: การป้องกันการทุจริต | O4: ดีเยี่ยม | P4: ดี | Q4: ผ่านเกณฑ์
A5: ระดับคุณภาพ | C5: =('1.1'!C5+'1.2'!C5+'1.3'!C5)/3 -> 3 | D5: =('1.1'!D5+'1.2'!D5+'1.3'!D5)/3 -> 3 | E5: =('1.1'!E5+'1.2'!E5+'1.3'!E5)/3 -> 3 | F5: =('1.1'!F5+'1.2'!F5+'1.3'!F5)/3 -> 3 | G5: =('1.1'!G5+'1.2'!G5+'1.3'!G5)/3 -> 3 | H5: =('1.1'!H5+'1.2'!H5+'1.3'!H5)/3 -> 3 | I5: =('1.1'!I5+'1.2'!I5+'1.3'!I5)/3 -> 3 | J5: =('1.1'!J5+'1.2'!J5+'1.3'!J5)/3 -> 3 | ... M5: =('1.1'!M5+'1.2'!M5+'1.3'!M5)/3 -> 3 | N5: =AVERAGE(C5:L5) -> 3
A6: 1 | B6: ='1.1'!B6 -> บาส | C6: =('1.1'!C6+'1.2'!C6+'1.3'!C6)/3 -> 0 | D6: =('1.1'!D6+'1.2'!D6+'1.3'!D6)/3 -> 0 | E6: =('1.1'!E6+'1.2'!E6+'1.3'!E6)/3 -> 0 | F6: =('1.1'!F6+'1.2'!F6+'1.3'!F6)/3 -> 0 | G6: =('1.1'!G6+'1.2'!G6+'1.3'!G6)/3 -> 0 | H6: =('1.1'!H6+'1.2'!H6+'1.3'!H6)/3 -> 0 | I6: =('1.1'!I6+'1.2'!I6+'1.3'!I6)/3 -> 0 | J6: =('1.1'!J6+'1.2'!J6+'1.3'!J6)/3 -> 0 | ... M6: =('1.1'!M6+'1.2'!M6+'1.3'!M6)/3 -> 0 | N6: =AVERAGE(C6:L6) -> 0
A7: 2 | B7: ='1.1'!B7 -> 0 | C7: =('1.1'!C7+'1.2'!C7+'1.3'!C7)/3 -> 0 | D7: =('1.1'!D7+'1.2'!D7+'1.3'!D7)/3 -> 0 | E7: =('1.1'!E7+'1.2'!E7+'1.3'!E7)/3 -> 0 | F7: =('1.1'!F7+'1.2'!F7+'1.3'!F7)/3 -> 0 | G7: =('1.1'!G7+'1.2'!G7+'1.3'!G7)/3 -> 0 | H7: =('1.1'!H7+'1.2'!H7+'1.3'!H7)/3 -> 0 | I7: =('1.1'!I7+'1.2'!I7+'1.3'!I7)/3 -> 0 | J7: =('1.1'!J7+'1.2'!J7+'1.3'!J7)/3 -> 0 | ... M7: =('1.1'!M7+'1.2'!M7+'1.3'!M7)/3 -> 0 | N7: =AVERAGE(C7:L7) -> 0
A8: 3 | B8: ='1.1'!B8 -> 0 | C8: =('1.1'!C8+'1.2'!C8+'1.3'!C8)/3 -> 0 | D8: =('1.1'!D8+'1.2'!D8+'1.3'!D8)/3 -> 0 | E8: =('1.1'!E8+'1.2'!E8+'1.3'!E8)/3 -> 0 | F8: =('1.1'!F8+'1.2'!F8+'1.3'!F8)/3 -> 0 | G8: =('1.1'!G8+'1.2'!G8+'1.3'!G8)/3 -> 0 | H8: =('1.1'!H8+'1.2'!H8+'1.3'!H8)/3 -> 0 | I8: =('1.1'!I8+'1.2'!I8+'1.3'!I8)/3 -> 0 | J8: =('1.1'!J8+'1.2'!J8+'1.3'!J8)/3 -> 0 | ... M8: =('1.1'!M8+'1.2'!M8+'1.3'!M8)/3 -> 0 | N8: =AVERAGE(C8:L8) -> 0
A9: 4 | B9: ='1.1'!B9 -> 0 | C9: =('1.1'!C9+'1.2'!C9+'1.3'!C9)/3 -> 0 | D9: =('1.1'!D9+'1.2'!D9+'1.3'!D9)/3 -> 0 | E9: =('1.1'!E9+'1.2'!E9+'1.3'!E9)/3 -> 0 | F9: =('1.1'!F9+'1.2'!F9+'1.3'!F9)/3 -> 0 | G9: =('1.1'!G9+'1.2'!G9+'1.3'!G9)/3 -> 0 | H9: =('1.1'!H9+'1.2'!H9+'1.3'!H9)/3 -> 0 | I9: =('1.1'!I9+'1.2'!I9+'1.3'!I9)/3 -> 0 | J9: =('1.1'!J9+'1.2'!J9+'1.3'!J9)/3 -> 0 | ... M9: =('1.1'!M9+'1.2'!M9+'1.3'!M9)/3 -> 0 | N9: =AVERAGE(C9:L9) -> 0
A10: 5 | B10: ='1.1'!B10 -> 0 | C10: =('1.1'!C10+'1.2'!C10+'1.3'!C10)/3 -> 0 | D10: =('1.1'!D10+'1.2'!D10+'1.3'!D10)/3 -> 0 | E10: =('1.1'!E10+'1.2'!E10+'1.3'!E10)/3 -> 0 | F10: =('1.1'!F10+'1.2'!F10+'1.3'!F10)/3 -> 0 | G10: =('1.1'!G10+'1.2'!G10+'1.3'!G10)/3 -> 0 | H10: =('1.1'!H10+'1.2'!H10+'1.3'!H10)/3 -> 0 | I10: =('1.1'!I10+'1.2'!I10+'1.3'!I10)/3 -> 0 | J10: =('1.1'!J10+'1.2'!J10+'1.3'!J10)/3 -> 0 | ... M10: =('1.1'!M10+'1.2'!M10+'1.3'!M10)/3 -> 0 | N10: =AVERAGE(C10:L10) -> 0
A11: 6 | B11: ='1.1'!B11 -> 0 | C11: =('1.1'!C11+'1.2'!C11+'1.3'!C11)/3 -> 0 | D11: =('1.1'!D11+'1.2'!D11+'1.3'!D11)/3 -> 0 | E11: =('1.1'!E11+'1.2'!E11+'1.3'!E11)/3 -> 0 | F11: =('1.1'!F11+'1.2'!F11+'1.3'!F11)/3 -> 0 | G11: =('1.1'!G11+'1.2'!G11+'1.3'!G11)/3 -> 0 | H11: =('1.1'!H11+'1.2'!H11+'1.3'!H11)/3 -> 0 | I11: =('1.1'!I11+'1.2'!I11+'1.3'!I11)/3 -> 0 | J11: =('1.1'!J11+'1.2'!J11+'1.3'!J11)/3 -> 0 | ... M11: =('1.1'!M11+'1.2'!M11+'1.3'!M11)/3 -> 0 | N11: =AVERAGE(C11:L11) -> 0
A12: 7 | B12: ='1.1'!B12 -> 0 | C12: =('1.1'!C12+'1.2'!C12+'1.3'!C12)/3 -> 0 | D12: =('1.1'!D12+'1.2'!D12+'1.3'!D12)/3 -> 0 | E12: =('1.1'!E12+'1.2'!E12+'1.3'!E12)/3 -> 0 | F12: =('1.1'!F12+'1.2'!F12+'1.3'!F12)/3 -> 0 | G12: =('1.1'!G12+'1.2'!G12+'1.3'!G12)/3 -> 0 | H12: =('1.1'!H12+'1.2'!H12+'1.3'!H12)/3 -> 0 | I12: =('1.1'!I12+'1.2'!I12+'1.3'!I12)/3 -> 0 | J12: =('1.1'!J12+'1.2'!J12+'1.3'!J12)/3 -> 0 | ... M12: =('1.1'!M12+'1.2'!M12+'1.3'!M12)/3 -> 0 | N12: =AVERAGE(C12:L12) -> 0
A13: 8 | B13: ='1.1'!B13 -> 0 | C13: =('1.1'!C13+'1.2'!C13+'1.3'!C13)/3 -> 0 | D13: =('1.1'!D13+'1.2'!D13+'1.3'!D13)/3 -> 0 | E13: =('1.1'!E13+'1.2'!E13+'1.3'!E13)/3 -> 0 | F13: =('1.1'!F13+'1.2'!F13+'1.3'!F13)/3 -> 0 | G13: =('1.1'!G13+'1.2'!G13+'1.3'!G13)/3 -> 0 | H13: =('1.1'!H13+'1.2'!H13+'1.3'!H13)/3 -> 0 | I13: =('1.1'!I13+'1.2'!I13+'1.3'!I13)/3 -> 0 | J13: =('1.1'!J13+'1.2'!J13+'1.3'!J13)/3 -> 0 | ... M13: =('1.1'!M13+'1.2'!M13+'1.3'!M13)/3 -> 0 | N13: =AVERAGE(C13:L13) -> 0
A14: 9 | B14: ='1.1'!B14 -> 0 | C14: =('1.1'!C14+'1.2'!C14+'1.3'!C14)/3 -> 0 | D14: =('1.1'!D14+'1.2'!D14+'1.3'!D14)/3 -> 0 | E14: =('1.1'!E14+'1.2'!E14+'1.3'!E14)/3 -> 0 | F14: =('1.1'!F14+'1.2'!F14+'1.3'!F14)/3 -> 0 | G14: =('1.1'!G14+'1.2'!G14+'1.3'!G14)/3 -> 0 | H14: =('1.1'!H14+'1.2'!H14+'1.3'!H14)/3 -> 0 | I14: =('1.1'!I14+'1.2'!I14+'1.3'!I14)/3 -> 0 | J14: =('1.1'!J14+'1.2'!J14+'1.3'!J14)/3 -> 0 | ... M14: =('1.1'!M14+'1.2'!M14+'1.3'!M14)/3 -> 0 | N14: =AVERAGE(C14:L14) -> 0
A15: 10 | B15: ='1.1'!B15 -> 0 | C15: =('1.1'!C15+'1.2'!C15+'1.3'!C15)/3 -> 0 | D15: =('1.1'!D15+'1.2'!D15+'1.3'!D15)/3 -> 0 | E15: =('1.1'!E15+'1.2'!E15+'1.3'!E15)/3 -> 0 | F15: =('1.1'!F15+'1.2'!F15+'1.3'!F15)/3 -> 0 | G15: =('1.1'!G15+'1.2'!G15+'1.3'!G15)/3 -> 0 | H15: =('1.1'!H15+'1.2'!H15+'1.3'!H15)/3 -> 0 | I15: =('1.1'!I15+'1.2'!I15+'1.3'!I15)/3 -> 0 | J15: =('1.1'!J15+'1.2'!J15+'1.3'!J15)/3 -> 0 | ... M15: =('1.1'!M15+'1.2'!M15+'1.3'!M15)/3 -> 0 | N15: =AVERAGE(C15:L15) -> 0
A16: 11 | B16: ='1.1'!B16 -> 0 | C16: =('1.1'!C16+'1.2'!C16+'1.3'!C16)/3 -> 0 | D16: =('1.1'!D16+'1.2'!D16+'1.3'!D16)/3 -> 0 | E16: =('1.1'!E16+'1.2'!E16+'1.3'!E16)/3 -> 0 | F16: =('1.1'!F16+'1.2'!F16+'1.3'!F16)/3 -> 0 | G16: =('1.1'!G16+'1.2'!G16+'1.3'!G16)/3 -> 0 | H16: =('1.1'!H16+'1.2'!H16+'1.3'!H16)/3 -> 0 | I16: =('1.1'!I16+'1.2'!I16+'1.3'!I16)/3 -> 0 | J16: =('1.1'!J16+'1.2'!J16+'1.3'!J16)/3 -> 0 | ... M16: =('1.1'!M16+'1.2'!M16+'1.3'!M16)/3 -> 0 | N16: =AVERAGE(C16:L16) -> 0
A17: 12 | B17: ='1.1'!B17 -> 0 | C17: =('1.1'!C17+'1.2'!C17+'1.3'!C17)/3 -> 0 | D17: =('1.1'!D17+'1.2'!D17+'1.3'!D17)/3 -> 0 | E17: =('1.1'!E17+'1.2'!E17+'1.3'!E17)/3 -> 0 | F17: =('1.1'!F17+'1.2'!F17+'1.3'!F17)/3 -> 0 | G17: =('1.1'!G17+'1.2'!G17+'1.3'!G17)/3 -> 0 | H17: =('1.1'!H17+'1.2'!H17+'1.3'!H17)/3 -> 0 | I17: =('1.1'!I17+'1.2'!I17+'1.3'!I17)/3 -> 0 | J17: =('1.1'!J17+'1.2'!J17+'1.3'!J17)/3 -> 0 | ... M17: =('1.1'!M17+'1.2'!M17+'1.3'!M17)/3 -> 0 | N17: =AVERAGE(C17:L17) -> 0
... A28: 23 | B28: ='1.1'!B28 -> 0 | C28: =('1.1'!C28+'1.2'!C28+'1.3'!C28)/3 -> 0 | D28: =('1.1'!D28+'1.2'!D28+'1.3'!D28)/3 -> 0 | E28: =('1.1'!E28+'1.2'!E28+'1.3'!E28)/3 -> 0 | F28: =('1.1'!F28+'1.2'!F28+'1.3'!F28)/3 -> 0 | G28: =('1.1'!G28+'1.2'!G28+'1.3'!G28)/3 -> 0 | H28: =('1.1'!H28+'1.2'!H28+'1.3'!H28)/3 -> 0 | I28: =('1.1'!I28+'1.2'!I28+'1.3'!I28)/3 -> 0 | J28: =('1.1'!J28+'1.2'!J28+'1.3'!J28)/3 -> 0 | ... M28: =('1.1'!M28+'1.2'!M28+'1.3'!M28)/3 -> 0 | N28: =AVERAGE(C28:L28) -> 0

Sheet 2.1
A1: แบบประเมินคุณลักษณะอันพึงประสงค์
A2: ที่ | B2: ชื่อ - สกุล | C2: 2. ซื่อสัตย์สุจริต | N2: รวม | O2: ผลการประเมิน
C3: 2.1 ให้ข้อมูลที่ถูกต้องและเป็นจริงไม่โกหก
C4: ภาษาไทย | D4: คณิตศาสตร์ | E4: วิทยาศาสตร์ | F4: สังคมศึกษา | G4: ประวัติศาสตร์ | H4: สุข / พละ | I4: ศิลปะ | J4: การงานอาชีพ | K4: ภาษาอังกฤษ | L4: หน้าที่พลเมือง | M4: การป้องกันการทุจริต | O4: ดีเยี่ยม | P4: ดี | Q4: ผ่านเกณฑ์
A5: ระดับคุณภาพ | C5: =ไทย!F7 -> 3 | D5: =คณิต!F7 -> 3 | E5: =วิทย์!F7 -> 3 | F5: =สังคม!F7 -> 3 | G5: =ประวัติ!F7 -> 3 | H5: =สุขพละ!F7 -> 3 | I5: =ศิลปะ!F7 -> 3 | J5: =การงาน!F7 -> 3 | K5: =ENG!F7 -> 3 | L5: =หน้าที่!F7 -> 3 | M5: =ต้าน!F7 -> 3 | N5: =AVERAGE(C5:L5) -> 3
A6: 1 | B6: ='1.1'!B6 -> บาส | C6: =ไทย!F8 -> 0 | D6: =คณิต!F8 -> 0 | E6: =วิทย์!F8 -> 0 | F6: =สังคม!F8 -> 0 | G6: =ประวัติ!F8 -> 0 | H6: =สุขพละ!F8 -> 0 | I6: =ศิลปะ!F8 -> 0 | J6: =การงาน!F8 -> 0 | K6: =ENG!F8 -> 0 | L6: =หน้าที่!F8 -> 0 | M6: =ต้าน!F8 -> 0 | N6: =AVERAGE(C6:L6) -> 0
A7: 2 | B7: ='1.1'!B7 -> 0 | C7: =ไทย!F9 -> 0 | D7: =คณิต!F9 -> 0 | E7: =วิทย์!F9 -> 0 | F7: =สังคม!F9 -> 0 | G7: =ประวัติ!F9 -> 0 | H7: =สุขพละ!F9 -> 0 | I7: =ศิลปะ!F9 -> 0 | J7: =การงาน!F9 -> 0 | K7: =ENG!F9 -> 0 | L7: =หน้าที่!F9 -> 0 | M7: =ต้าน!F9 -> 0 | N7: =AVERAGE(C7:L7) -> 0
A8: 3 | B8: ='1.1'!B8 -> 0 | C8: =ไทย!F10 -> 0 | D8: =คณิต!F10 -> 0 | E8: =วิทย์!F10 -> 0 | F8: =สังคม!F10 -> 0 | G8: =ประวัติ!F10 -> 0 | H8: =สุขพละ!F10 -> 0 | I8: =ศิลปะ!F10 -> 0 | J8: =การงาน!F10 -> 0 | K8: =ENG!F10 -> 0 | L8: =หน้าที่!F10 -> 0 | M8: =ต้าน!F10 -> 0 | N8: =AVERAGE(C8:L8) -> 0
A9: 4 | B9: ='1.1'!B9 -> 0 | C9: =ไทย!F11 -> 0 | D9: =คณิต!F11 -> 0 | E9: =วิทย์!F11 -> 0 | F9: =สังคม!F11 -> 0 | G9: =ประวัติ!F11 -> 0 | H9: =สุขพละ!F11 -> 0 | I9: =ศิลปะ!F11 -> 0 | J9: =การงาน!F11 -> 0 | K9: =ENG!F11 -> 0 | L9: =หน้าที่!F11 -> 0 | M9: =ต้าน!F11 -> 0 | N9: =AVERAGE(C9:L9) -> 0
A10: 5 | B10: ='1.1'!B10 -> 0 | C10: =ไทย!F12 -> 0 | D10: =คณิต!F12 -> 0 | E10: =วิทย์!F12 -> 0 | F10: =สังคม!F12 -> 0 | G10: =ประวัติ!F12 -> 0 | H10: =สุขพละ!F12 -> 0 | I10: =ศิลปะ!F12 -> 0 | J10: =การงาน!F12 -> 0 | K10: =ENG!F12 -> 0 | L10: =หน้าที่!F12 -> 0 | M10: =ต้าน!F12 -> 0 | N10: =AVERAGE(C10:L10) -> 0
A11: 6 | B11: ='1.1'!B11 -> 0 | C11: =ไทย!F13 -> 0 | D11: =คณิต!F13 -> 0 | E11: =วิทย์!F13 -> 0 | F11: =สังคม!F13 -> 0 | G11: =ประวัติ!F13 -> 0 | H11: =สุขพละ!F13 -> 0 | I11: =ศิลปะ!F13 -> 0 | J11: =การงาน!F13 -> 0 | K11: =ENG!F13 -> 0 | L11: =หน้าที่!F13 -> 0 | M11: =ต้าน!F13 -> 0 | N11: =AVERAGE(C11:L11) -> 0
A12: 7 | B12: ='1.1'!B12 -> 0 | C12: =ไทย!F14 -> 0 | D12: =คณิต!F14 -> 0 | E12: =วิทย์!F14 -> 0 | F12: =สังคม!F14 -> 0 | G12: =ประวัติ!F14 -> 0 | H12: =สุขพละ!F14 -> 0 | I12: =ศิลปะ!F14 -> 0 | J12: =การงาน!F14 -> 0 | K12: =ENG!F14 -> 0 | L12: =หน้าที่!F14 -> 0 | M12: =ต้าน!F14 -> 0 | N12: =AVERAGE(C12:L12) -> 0
A13: 8 | B13: ='1.1'!B13 -> 0 | C13: =ไทย!F15 -> 0 | D13: =คณิต!F15 -> 0 | E13: =วิทย์!F15 -> 0 | F13: =สังคม!F15 -> 0 | G13: =ประวัติ!F15 -> 0 | H13: =สุขพละ!F15 -> 0 | I13: =ศิลปะ!F15 -> 0 | J13: =การงาน!F15 -> 0 | K13: =ENG!F15 -> 0 | L13: =หน้าที่!F15 -> 0 | M13: =ต้าน!F15 -> 0 | N13: =AVERAGE(C13:L13) -> 0
A14: 9 | B14: ='1.1'!B14 -> 0 | C14: =ไทย!F16 -> 0 | D14: =คณิต!F16 -> 0 | E14: =วิทย์!F16 -> 0 | F14: =สังคม!F16 -> 0 | G14: =ประวัติ!F16 -> 0 | H14: =สุขพละ!F16 -> 0 | I14: =ศิลปะ!F16 -> 0 | J14: =การงาน!F16 -> 0 | K14: =ENG!F16 -> 0 | L14: =หน้าที่!F16 -> 0 | M14: =ต้าน!F16 -> 0 | N14: =AVERAGE(C14:L14) -> 0
A15: 10 | B15: ='1.1'!B15 -> 0 | C15: =ไทย!F17 -> 0 | D15: =คณิต!F17 -> 0 | E15: =วิทย์!F17 -> 0 | F15: =สังคม!F17 -> 0 | G15: =ประวัติ!F17 -> 0 | H15: =สุขพละ!F17 -> 0 | I15: =ศิลปะ!F17 -> 0 | J15: =การงาน!F17 -> 0 | K15: =ENG!F17 -> 0 | L15: =หน้าที่!F17 -> 0 | M15: =ต้าน!F17 -> 0 | N15: =AVERAGE(C15:L15) -> 0
A16: 11 | B16: ='1.1'!B16 -> 0 | C16: =ไทย!F18 -> 0 | D16: =คณิต!F18 -> 0 | E16: =วิทย์!F18 -> 0 | F16: =สังคม!F18 -> 0 | G16: =ประวัติ!F18 -> 0 | H16: =สุขพละ!F18 -> 0 | I16: =ศิลปะ!F18 -> 0 | J16: =การงาน!F18 -> 0 | K16: =ENG!F18 -> 0 | L16: =หน้าที่!F18 -> 0 | M16: =ต้าน!F18 -> 0 | N16: =AVERAGE(C16:L16) -> 0
A17: 12 | B17: ='1.1'!B17 -> 0 | C17: =ไทย!F19 -> 0 | D17: =คณิต!F19 -> 0 | E17: =วิทย์!F19 -> 0 | F17: =สังคม!F19 -> 0 | G17: =ประวัติ!F19 -> 0 | H17: =สุขพละ!F19 -> 0 | I17: =ศิลปะ!F19 -> 0 | J17: =การงาน!F19 -> 0 | K17: =ENG!F19 -> 0 | L17: =หน้าที่!F19 -> 0 | M17: =ต้าน!F19 -> 0 | N17: =AVERAGE(C17:L17) -> 0
... A28: 23 | B28: ='1.1'!B28 -> 0 | C28: =ไทย!F30 -> 0 | D28: =คณิต!F30 -> 0 | E28: =วิทย์!F30 -> 0 | F28: =สังคม!F30 -> 0 | G28: =ประวัติ!F30 -> 0 | H28: =สุขพละ!F30 -> 0 | I28: =ศิลปะ!F30 -> 0 | J28: =การงาน!F30 -> 0 | K28: =ENG!F30 -> 0 | L28: =หน้าที่!F30 -> 0 | M28: =ต้าน!F30 -> 0 | N28: =AVERAGE(C28:L28) -> 0

Sheet 2.2
A1: แบบประเมินคุณลักษณะอันพึงประสงค์
A2: ที่ | B2: ชื่อ - สกุล | C2: 2. ซื่อสัตย์สุจริต | N2: รวม | O2: ผลการประเมิน
C3: 2.2 ไม่ถือเอาสิ่งของหรือผลงานของผู้อื่นมาเป็นของตนเอง ไม่ลักขโมย
C4: ภาษาไทย | D4: คณิตศาสตร์ | E4: วิทยาศาสตร์ | F4: สังคมศึกษา | G4: ประวัติศาสตร์ | H4: สุข / พละ | I4: ศิลปะ | J4: การงานอาชีพ | K4: ภาษาอังกฤษ | L4: หน้าที่พลเมือง | M4: การป้องกันการทุจริต | O4: ดีเยี่ยม | P4: ดี | Q4: ผ่านเกณฑ์
A5: ระดับคุณภาพ | C5: =ไทย!G7 -> 3 | D5: =คณิต!G7 -> 3 | E5: =วิทย์!G7 -> 3 | F5: =สังคม!G7 -> 3 | G5: =ประวัติ!G7 -> 3 | H5: =สุขพละ!G7 -> 3 | I5: =ศิลปะ!G7 -> 3 | J5: =การงาน!G7 -> 3 | K5: =ENG!G7 -> 3 | L5: =หน้าที่!G7 -> 3 | M5: =ต้าน!G7 -> 3 | N5: =AVERAGE(C5:L5) -> 3
A6: 1 | B6: ='1.1'!B6 -> บาส | C6: =ไทย!G8 -> 0 | D6: =คณิต!G8 -> 0 | E6: =วิทย์!G8 -> 0 | F6: =สังคม!G8 -> 0 | G6: =ประวัติ!G8 -> 0 | H6: =สุขพละ!G8 -> 0 | I6: =ศิลปะ!G8 -> 0 | J6: =การงาน!G8 -> 0 | K6: =ENG!G8 -> 0 | L6: =หน้าที่!G8 -> 0 | M6: =ต้าน!G8 -> 0 | N6: =AVERAGE(C6:L6) -> 0
A7: 2 | B7: ='1.1'!B7 -> 0 | C7: =ไทย!G9 -> 0 | D7: =คณิต!G9 -> 0 | E7: =วิทย์!G9 -> 0 | F7: =สังคม!G9 -> 0 | G7: =ประวัติ!G9 -> 0 | H7: =สุขพละ!G9 -> 0 | I7: =ศิลปะ!G9 -> 0 | J7: =การงาน!G9 -> 0 | K7: =ENG!G9 -> 0 | L7: =หน้าที่!G9 -> 0 | M7: =ต้าน!G9 -> 0 | N7: =AVERAGE(C7:L7) -> 0
A8: 3 | B8: ='1.1'!B8 -> 0 | C8: =ไทย!G10 -> 0 | D8: =คณิต!G10 -> 0 | E8: =วิทย์!G10 -> 0 | F8: =สังคม!G10 -> 0 | G8: =ประวัติ!G10 -> 0 | H8: =สุขพละ!G10 -> 0 | I8: =ศิลปะ!G10 -> 0 | J8: =การงาน!G10 -> 0 | K8: =ENG!G10 -> 0 | L8: =หน้าที่!G10 -> 0 | M8: =ต้าน!G10 -> 0 | N8: =AVERAGE(C8:L8) -> 0
A9: 4 | B9: ='1.1'!B9 -> 0 | C9: =ไทย!G11 -> 0 | D9: =คณิต!G11 -> 0 | E9: =วิทย์!G11 -> 0 | F9: =สังคม!G11 -> 0 | G9: =ประวัติ!G11 -> 0 | H9: =สุขพละ!G11 -> 0 | I9: =ศิลปะ!G11 -> 0 | J9: =การงาน!G11 -> 0 | K9: =ENG!G11 -> 0 | L9: =หน้าที่!G11 -> 0 | M9: =ต้าน!G11 -> 0 | N9: =AVERAGE(C9:L9) -> 0
A10: 5 | B10: ='1.1'!B10 -> 0 | C10: =ไทย!G12 -> 0 | D10: =คณิต!G12 -> 0 | E10: =วิทย์!G12 -> 0 | F10: =สังคม!G12 -> 0 | G10: =ประวัติ!G12 -> 0 | H10: =สุขพละ!G12 -> 0 | I10: =ศิลปะ!G12 -> 0 | J10: =การงาน!G12 -> 0 | K10: =ENG!G12 -> 0 | L10: =หน้าที่!G12 -> 0 | M10: =ต้าน!G12 -> 0 | N10: =AVERAGE(C10:L10) -> 0
A11: 6 | B11: ='1.1'!B11 -> 0 | C11: =ไทย!G13 -> 0 | D11: =คณิต!G13 -> 0 | E11: =วิทย์!G13 -> 0 | F11: =สังคม!G13 -> 0 | G11: =ประวัติ!G13 -> 0 | H11: =สุขพละ!G13 -> 0 | I11: =ศิลปะ!G13 -> 0 | J11: =การงาน!G13 -> 0 | K11: =ENG!G13 -> 0 | L11: =หน้าที่!G13 -> 0 | M11: =ต้าน!G13 -> 0 | N11: =AVERAGE(C11:L11) -> 0
A12: 7 | B12: ='1.1'!B12 -> 0 | C12: =ไทย!G14 -> 0 | D12: =คณิต!G14 -> 0 | E12: =วิทย์!G14 -> 0 | F12: =สังคม!G14 -> 0 | G12: =ประวัติ!G14 -> 0 | H12: =สุขพละ!G14 -> 0 | I12: =ศิลปะ!G14 -> 0 | J12: =การงาน!G14 -> 0 | K12: =ENG!G14 -> 0 | L12: =หน้าที่!G14 -> 0 | M12: =ต้าน!G14 -> 0 | N12: =AVERAGE(C12:L12) -> 0
A13: 8 | B13: ='1.1'!B13 -> 0 | C13: =ไทย!G15 -> 0 | D13: =คณิต!G15 -> 0 | E13: =วิทย์!G15 -> 0 | F13: =สังคม!G15 -> 0 | G13: =ประวัติ!G15 -> 0 | H13: =สุขพละ!G15 -> 0 | I13: =ศิลปะ!G15 -> 0 | J13: =การงาน!G15 -> 0 | K13: =ENG!G15 -> 0 | L13: =หน้าที่!G15 -> 0 | M13: =ต้าน!G15 -> 0 | N13: =AVERAGE(C13:L13) -> 0
A14: 9 | B14: ='1.1'!B14 -> 0 | C14: =ไทย!G16 -> 0 | D14: =คณิต!G16 -> 0 | E14: =วิทย์!G16 -> 0 | F14: =สังคม!G16 -> 0 | G14: =ประวัติ!G16 -> 0 | H14: =สุขพละ!G16 -> 0 | I14: =ศิลปะ!G16 -> 0 | J14: =การงาน!G16 -> 0 | K14: =ENG!G16 -> 0 | L14: =หน้าที่!G16 -> 0 | M14: =ต้าน!G16 -> 0 | N14: =AVERAGE(C14:L14) -> 0
A15: 10 | B15: ='1.1'!B15 -> 0 | C15: =ไทย!G17 -> 0 | D15: =คณิต!G17 -> 0 | E15: =วิทย์!G17 -> 0 | F15: =สังคม!G17 -> 0 | G15: =ประวัติ!G17 -> 0 | H15: =สุขพละ!G17 -> 0 | I15: =ศิลปะ!G17 -> 0 | J15: =การงาน!G17 -> 0 | K15: =ENG!G17 -> 0 | L15: =หน้าที่!G17 -> 0 | M15: =ต้าน!G17 -> 0 | N15: =AVERAGE(C15:L15) -> 0
A16: 11 | B16: ='1.1'!B16 -> 0 | C16: =ไทย!G18 -> 0 | D16: =คณิต!G18 -> 0 | E16: =วิทย์!G18 -> 0 | F16: =สังคม!G18 -> 0 | G16: =ประวัติ!G18 -> 0 | H16: =สุขพละ!G18 -> 0 | I16: =ศิลปะ!G18 -> 0 | J16: =การงาน!G18 -> 0 | K16: =ENG!G18 -> 0 | L16: =หน้าที่!G18 -> 0 | M16: =ต้าน!G18 -> 0 | N16: =AVERAGE(C16:L16) -> 0
A17: 12 | B17: ='1.1'!B17 -> 0 | C17: =ไทย!G19 -> 0 | D17: =คณิต!G19 -> 0 | E17: =วิทย์!G19 -> 0 | F17: =สังคม!G19 -> 0 | G17: =ประวัติ!G19 -> 0 | H17: =สุขพละ!G19 -> 0 | I17: =ศิลปะ!G19 -> 0 | J17: =การงาน!G19 -> 0 | K17: =ENG!G19 -> 0 | L17: =หน้าที่!G19 -> 0 | M17: =ต้าน!G19 -> 0 | N17: =AVERAGE(C17:L17) -> 0
... A28: 23 | B28: ='1.1'!B28 -> 0 | C28: =ไทย!G30 -> 0 | D28: =คณิต!G30 -> 0 | E28: =วิทย์!G30 -> 0 | F28: =สังคม!G30 -> 0 | G28: =ประวัติ!G30 -> 0 | H28: =สุขพละ!G30 -> 0 | I28: =ศิลปะ!G30 -> 0 | J28: =การงาน!G30 -> 0 | K28: =ENG!G30 -> 0 | L28: =หน้าที่!G30 -> 0 | M28: =ต้าน!G30 -> 0 | N28: =AVERAGE(C28:L28) -> 0

Sheet 2.3
A1: แบบประเมินคุณลักษณะอันพึงประสงค์
A2: ที่ | B2: ชื่อ - สกุล | C2: 2. ซื่อสัตย์สุจริต | N2: รวม | O2: ผลการประเมิน
C3: 2.3 ไม่หาผลประโยชน์ในทางที่ไม่ถูกต้อง ไม่คดโกง
C4: ภาษาไทย | D4: คณิตศาสตร์ | E4: วิทยาศาสตร์ | F4: สังคมศึกษา | G4: ประวัติศาสตร์ | H4: สุข / พละ | I4: ศิลปะ | J4: การงานอาชีพ | K4: ภาษาอังกฤษ | L4: หน้าที่พลเมือง | M4: การป้องกันการทุจริต | O4: ดีเยี่ยม | P4: ดี | Q4: ผ่านเกณฑ์
A5: ระดับคุณภาพ | C5: =ไทย!H7 -> 3 | D5: =คณิต!H7 -> 3 | E5: =วิทย์!H7 -> 3 | F5: =สังคม!H7 -> 3 | G5: =ประวัติ!H7 -> 3 | H5: =สุขพละ!H7 -> 3 | I5: =ศิลปะ!H7 -> 3 | J5: =การงาน!H7 -> 3 | K5: =ENG!H7 -> 3 | L5: =หน้าที่!H7 -> 3 | M5: =ต้าน!H7 -> 3 | N5: =AVERAGE(C5:L5) -> 3
A6: 1 | B6: ='1.1'!B6 -> บาส | C6: =ไทย!H8 -> 0 | D6: =คณิต!H8 -> 0 | E6: =วิทย์!H8 -> 0 | F6: =สังคม!H8 -> 0 | G6: =ประวัติ!H8 -> 0 | H6: =สุขพละ!H8 -> 0 | I6: =ศิลปะ!H8 -> 0 | J6: =การงาน!H8 -> 0 | K6: =ENG!H8 -> 0 | L6: =หน้าที่!H8 -> 0 | M6: =ต้าน!H8 -> 0 | N6: =AVERAGE(C6:L6) -> 0
A7: 2 | B7: ='1.1'!B7 -> 0 | C7: =ไทย!H9 -> 0 | D7: =คณิต!H9 -> 0 | E7: =วิทย์!H9 -> 0 | F7: =สังคม!H9 -> 0 | G7: =ประวัติ!H9 -> 0 | H7: =สุขพละ!H9 -> 0 | I7: =ศิลปะ!H9 -> 0 | J7: =การงาน!H9 -> 0 | K7: =ENG!H9 -> 0 | L7: =หน้าที่!H9 -> 0 | M7: =ต้าน!H9 -> 0 | N7: =AVERAGE(C7:L7) -> 0
A8: 3 | B8: ='1.1'!B8 -> 0 | C8: =ไทย!H10 -> 0 | D8: =คณิต!H10 -> 0 | E8: =วิทย์!H10 -> 0 | F8: =สังคม!H10 -> 0 | G8: =ประวัติ!H10 -> 0 | H8: =สุขพละ!H10 -> 0 | I8: =ศิลปะ!H10 -> 0 | J8: =การงาน!H10 -> 0 | K8: =ENG!H10 -> 0 | L8: =หน้าที่!H10 -> 0 | M8: =ต้าน!H10 -> 0 | N8: =AVERAGE(C8:L8) -> 0
A9: 4 | B9: ='1.1'!B9 -> 0 | C9: =ไทย!H11 -> 0 | D9: =คณิต!H11 -> 0 | E9: =วิทย์!H11 -> 0 | F9: =สังคม!H11 -> 0 | G9: =ประวัติ!H11 -> 0 | H9: =สุขพละ!H11 -> 0 | I9: =ศิลปะ!H11 -> 0 | J9: =การงาน!H11 -> 0 | K9: =ENG!H11 -> 0 | L9: =หน้าที่!H11 -> 0 | M9: =ต้าน!H11 -> 0 | N9: =AVERAGE(C9:L9) -> 0
A10: 5 | B10: ='1.1'!B10 -> 0 | C10: =ไทย!H12 -> 0 | D10: =คณิต!H12 -> 0 | E10: =วิทย์!H12 -> 0 | F10: =สังคม!H12 -> 0 | G10: =ประวัติ!H12 -> 0 | H10: =สุขพละ!H12 -> 0 | I10: =ศิลปะ!H12 -> 0 | J10: =การงาน!H12 -> 0 | K10: =ENG!H12 -> 0 | L10: =หน้าที่!H12 -> 0 | M10: =ต้าน!H12 -> 0 | N10: =AVERAGE(C10:L10) -> 0
A11: 6 | B11: ='1.1'!B11 -> 0 | C11: =ไทย!H13 -> 0 | D11: =คณิต!H13 -> 0 | E11: =วิทย์!H13 -> 0 | F11: =สังคม!H13 -> 0 | G11: =ประวัติ!H13 -> 0 | H11: =สุขพละ!H13 -> 0 | I11: =ศิลปะ!H13 -> 0 | J11: =การงาน!H13 -> 0 | K11: =ENG!H13 -> 0 | L11: =หน้าที่!H13 -> 0 | M11: =ต้าน!H13 -> 0 | N11: =AVERAGE(C11:L11) -> 0
A12: 7 | B12: ='1.1'!B12 -> 0 | C12: =ไทย!H14 -> 0 | D12: =คณิต!H14 -> 0 | E12: =วิทย์!H14 -> 0 | F12: =สังคม!H14 -> 0 | G12: =ประวัติ!H14 -> 0 | H12: =สุขพละ!H14 -> 0 | I12: =ศิลปะ!H14 -> 0 | J12: =การงาน!H14 -> 0 | K12: =ENG!H14 -> 0 | L12: =หน้าที่!H14 -> 0 | M12: =ต้าน!H14 -> 0 | N12: =AVERAGE(C12:L12) -> 0
A13: 8 | B13: ='1.1'!B13 -> 0 | C13: =ไทย!H15 -> 0 | D13: =คณิต!H15 -> 0 | E13: =วิทย์!H15 -> 0 | F13: =สังคม!H15 -> 0 | G13: =ประวัติ!H15 -> 0 | H13: =สุขพละ!H15 -> 0 | I13: =ศิลปะ!H15 -> 0 | J13: =การงาน!H15 -> 0 | K13: =ENG!H15 -> 0 | L13: =หน้าที่!H15 -> 0 | M13: =ต้าน!H15 -> 0 | N13: =AVERAGE(C13:L13) -> 0
A14: 9 | B14: ='1.1'!B14 -> 0 | C14: =ไทย!H16 -> 0 | D14: =คณิต!H16 -> 0 | E14: =วิทย์!H16 -> 0 | F14: =สังคม!H16 -> 0 | G14: =ประวัติ!H16 -> 0 | H14: =สุขพละ!H16 -> 0 | I14: =ศิลปะ!H16 -> 0 | J14: =การงาน!H16 -> 0 | K14: =ENG!H16 -> 0 | L14: =หน้าที่!H16 -> 0 | M14: =ต้าน!H16 -> 0 | N14: =AVERAGE(C14:L14) -> 0
A15: 10 | B15: ='1.1'!B15 -> 0 | C15: =ไทย!H17 -> 0 | D15: =คณิต!H17 -> 0 | E15: =วิทย์!H17 -> 0 | F15: =สังคม!H17 -> 0 | G15: =ประวัติ!H17 -> 0 | H15: =สุขพละ!H17 -> 0 | I15: =ศิลปะ!H17 -> 0 | J15: =การงาน!H17 -> 0 | K15: =ENG!H17 -> 0 | L15: =หน้าที่!H17 -> 0 | M15: =ต้าน!H17 -> 0 | N15: =AVERAGE(C15:L15) -> 0
A16: 11 | B16: ='1.1'!B16 -> 0 | C16: =ไทย!H18 -> 0 | D16: =คณิต!H18 -> 0 | E16: =วิทย์!H18 -> 0 | F16: =สังคม!H18 -> 0 | G16: =ประวัติ!H18 -> 0 | H16: =สุขพละ!H18 -> 0 | I16: =ศิลปะ!H18 -> 0 | J16: =การงาน!H18 -> 0 | K16: =ENG!H18 -> 0 | L16: =หน้าที่!H18 -> 0 | M16: =ต้าน!H18 -> 0 | N16: =AVERAGE(C16:L16) -> 0
A17: 12 | B17: ='1.1'!B17 -> 0 | C17: =ไทย!H19 -> 0 | D17: =คณิต!H19 -> 0 | E17: =วิทย์!H19 -> 0 | F17: =สังคม!H19 -> 0 | G17: =ประวัติ!H19 -> 0 | H17: =สุขพละ!H19 -> 0 | I17: =ศิลปะ!H19 -> 0 | J17: =การงาน!H19 -> 0 | K17: =ENG!H19 -> 0 | L17: =หน้าที่!H19 -> 0 | M17: =ต้าน!H19 -> 0 | N17: =AVERAGE(C17:L17) -> 0
... A28: 23 | B28: ='1.1'!B28 -> 0 | C28: =ไทย!H30 -> 0 | D28: =คณิต!H30 -> 0 | E28: =วิทย์!H30 -> 0 | F28: =สังคม!H30 -> 0 | G28: =ประวัติ!H30 -> 0 | H28: =สุขพละ!H30 -> 0 | I28: =ศิลปะ!H30 -> 0 | J28: =การงาน!H30 -> 0 | K28: =ENG!H30 -> 0 | L28: =หน้าที่!H30 -> 0 | M28: =ต้าน!H30 -> 0 | N28: =AVERAGE(C28:L28) -> 0

Sheet สรุป 2
A1: แบบประเมินคุณลักษณะอันพึงประสงค์
A2: ที่ | B2: ชื่อ - สกุล | C2: 2. ซื่อสัตย์สุจริต | N2: รวม | O2: ผลการประเมิน
C4: ภาษาไทย | D4: คณิตศาสตร์ | E4: วิทยาศาสตร์ | F4: สังคมศึกษา | G4: ประวัติศาสตร์ | H4: สุข / พละ | I4: ศิลปะ | J4: การงานอาชีพ | K4: ภาษาอังกฤษ | L4: หน้าที่พลเมือง | M4: การป้องกันการทุจริต | O4: ดีเยี่ยม | P4: ดี | Q4: ผ่านเกณฑ์
A5: ระดับคุณภาพ | C5: =('2.1'!C5+'2.2'!C5+'2.3'!C5)/3 -> 3 | D5: =('2.1'!D5+'2.2'!D5+'2.3'!D5)/3 -> 3 | E5: =('2.1'!E5+'2.2'!E5+'2.3'!E5)/3 -> 3 | F5: =('2.1'!F5+'2.2'!F5+'2.3'!F5)/3 -> 3 | G5: =('2.1'!G5+'2.2'!G5+'2.3'!G5)/3 -> 3 | H5: =('2.1'!H5+'2.2'!H5+'2.3'!H5)/3 -> 3 | I5: =('2.1'!I5+'2.2'!I5+'2.3'!I5)/3 -> 3 | J5: =('2.1'!J5+'2.2'!J5+'2.3'!J5)/3 -> 3 | ... M5: =('2.1'!M5+'2.2'!M5+'2.3'!M5)/3 -> 3 | N5: =AVERAGE(C5:L5) -> 3
A6: 1 | B6: ='1.1'!B6 -> บาส | C6: =('2.1'!C6+'2.2'!C6+'2.3'!C6)/3 -> 0 | D6: =('2.1'!D6+'2.2'!D6+'2.3'!D6)/3 -> 0 | E6: =('2.1'!E6+'2.2'!E6+'2.3'!E6)/3 -> 0 | F6: =('2.1'!F6+'2.2'!F6+'2.3'!F6)/3 -> 0 | G6: =('2.1'!G6+'2.2'!G6+'2.3'!G6)/3 -> 0 | H6: =('2.1'!H6+'2.2'!H6+'2.3'!H6)/3 -> 0 | I6: =('2.1'!I6+'2.2'!I6+'2.3'!I6)/3 -> 0 | J6: =('2.1'!J6+'2.2'!J6+'2.3'!J6)/3 -> 0 | ... M6: =('2.1'!M6+'2.2'!M6+'2.3'!M6)/3 -> 0 | N6: =AVERAGE(C6:L6) -> 0
A7: 2 | B7: ='1.1'!B7 -> 0 | C7: =('2.1'!C7+'2.2'!C7+'2.3'!C7)/3 -> 0 | D7: =('2.1'!D7+'2.2'!D7+'2.3'!D7)/3 -> 0 | E7: =('2.1'!E7+'2.2'!E7+'2.3'!E7)/3 -> 0 | F7: =('2.1'!F7+'2.2'!F7+'2.3'!F7)/3 -> 0 | G7: =('2.1'!G7+'2.2'!G7+'2.3'!G7)/3 -> 0 | H7: =('2.1'!H7+'2.2'!H7+'2.3'!H7)/3 -> 0 | I7: =('2.1'!I7+'2.2'!I7+'2.3'!I7)/3 -> 0 | J7: =('2.1'!J7+'2.2'!J7+'2.3'!J7)/3 -> 0 | ... M7: =('2.1'!M7+'2.2'!M7+'2.3'!M7)/3 -> 0 | N7: =AVERAGE(C7:L7) -> 0
A8: 3 | B8: ='1.1'!B8 -> 0 | C8: =('2.1'!C8+'2.2'!C8+'2.3'!C8)/3 -> 0 | D8: =('2.1'!D8+'2.2'!D8+'2.3'!D8)/3 -> 0 | E8: =('2.1'!E8+'2.2'!E8+'2.3'!E8)/3 -> 0 | F8: =('2.1'!F8+'2.2'!F8+'2.3'!F8)/3 -> 0 | G8: =('2.1'!G8+'2.2'!G8+'2.3'!G8)/3 -> 0 | H8: =('2.1'!H8+'2.2'!H8+'2.3'!H8)/3 -> 0 | I8: =('2.1'!I8+'2.2'!I8+'2.3'!I8)/3 -> 0 | J8: =('2.1'!J8+'2.2'!J8+'2.3'!J8)/3 -> 0 | ... M8: =('2.1'!M8+'2.2'!M8+'2.3'!M8)/3 -> 0 | N8: =AVERAGE(C8:L8) -> 0
A9: 4 | B9: ='1.1'!B9 -> 0 | C9: =('2.1'!C9+'2.2'!C9+'2.3'!C9)/3 -> 0 | D9: =('2.1'!D9+'2.2'!D9+'2.3'!D9)/3 -> 0 | E9: =('2.1'!E9+'2.2'!E9+'2.3'!E9)/3 -> 0 | F9: =('2.1'!F9+'2.2'!F9+'2.3'!F9)/3 -> 0 | G9: =('2.1'!G9+'2.2'!G9+'2.3'!G9)/3 -> 0 | H9: =('2.1'!H9+'2.2'!H9+'2.3'!H9)/3 -> 0 | I9: =('2.1'!I9+'2.2'!I9+'2.3'!I9)/3 -> 0 | J9: =('2.1'!J9+'2.2'!J9+'2.3'!J9)/3 -> 0 | ... M9: =('2.1'!M9+'2.2'!M9+'2.3'!M9)/3 -> 0 | N9: =AVERAGE(C9:L9) -> 0
A10: 5 | B10: ='1.1'!B10 -> 0 | C10: =('2.1'!C10+'2.2'!C10+'2.3'!C10)/3 -> 0 | D10: =('2.1'!D10+'2.2'!D10+'2.3'!D10)/3 -> 0 | E10: =('2.1'!E10+'2.2'!E10+'2.3'!E10)/3 -> 0 | F10: =('2.1'!F10+'2.2'!F10+'2.3'!F10)/3 -> 0 | G10: =('2.1'!G10+'2.2'!G10+'2.3'!G10)/3 -> 0 | H10: =('2.1'!H10+'2.2'!H10+'2.3'!H10)/3 -> 0 | I10: =('2.1'!I10+'2.2'!I10+'2.3'!I10)/3 -> 0 | J10: =('2.1'!J10+'2.2'!J10+'2.3'!J10)/3 -> 0 | ... M10: =('2.1'!M10+'2.2'!M10+'2.3'!M10)/3 -> 0 | N10: =AVERAGE(C10:L10) -> 0
A11: 6 | B11: ='1.1'!B11 -> 0 | C11: =('2.1'!C11+'2.2'!C11+'2.3'!C11)/3 -> 0 | D11: =('2.1'!D11+'2.2'!D11+'2.3'!D11)/3 -> 0 | E11: =('2.1'!E11+'2.2'!E11+'2.3'!E11)/3 -> 0 | F11: =('2.1'!F11+'2.2'!F11+'2.3'!F11)/3 -> 0 | G11: =('2.1'!G11+'2.2'!G11+'2.3'!G11)/3 -> 0 | H11: =('2.1'!H11+'2.2'!H11+'2.3'!H11)/3 -> 0 | I11: =('2.1'!I11+'2.2'!I11+'2.3'!I11)/3 -> 0 | J11: =('2.1'!J11+'2.2'!J11+'2.3'!J11)/3 -> 0 | ... M11: =('2.1'!M11+'2.2'!M11+'2.3'!M11)/3 -> 0 | N11: =AVERAGE(C11:L11) -> 0
A12: 7 | B12: ='1.1'!B12 -> 0 | C12: =('2.1'!C12+'2.2'!C12+'2.3'!C12)/3 -> 0 | D12: =('2.1'!D12+'2.2'!D12+'2.3'!D12)/3 -> 0 | E12: =('2.1'!E12+'2.2'!E12+'2.3'!E12)/3 -> 0 | F12: =('2.1'!F12+'2.2'!F12+'2.3'!F12)/3 -> 0 | G12: =('2.1'!G12+'2.2'!G12+'2.3'!G12)/3 -> 0 | H12: =('2.1'!H12+'2.2'!H12+'2.3'!H12)/3 -> 0 | I12: =('2.1'!I12+'2.2'!I12+'2.3'!I12)/3 -> 0 | J12: =('2.1'!J12+'2.2'!J12+'2.3'!J12)/3 -> 0 | ... M12: =('2.1'!M12+'2.2'!M12+'2.3'!M12)/3 -> 0 | N12: =AVERAGE(C12:L12) -> 0
A13: 8 | B13: ='1.1'!B13 -> 0 | C13: =('2.1'!C13+'2.2'!C13+'2.3'!C13)/3 -> 0 | D13: =('2.1'!D13+'2.2'!D13+'2.3'!D13)/3 -> 0 | E13: =('2.1'!E13+'2.2'!E13+'2.3'!E13)/3 -> 0 | F13: =('2.1'!F13+'2.2'!F13+'2.3'!F13)/3 -> 0 | G13: =('2.1'!G13+'2.2'!G13+'2.3'!G13)/3 -> 0 | H13: =('2.1'!H13+'2.2'!H13+'2.3'!H13)/3 -> 0 | I13: =('2.1'!I13+'2.2'!I13+'2.3'!I13)/3 -> 0 | J13: =('2.1'!J13+'2.2'!J13+'2.3'!J13)/3 -> 0 | ... M13: =('2.1'!M13+'2.2'!M13+'2.3'!M13)/3 -> 0 | N13: =AVERAGE(C13:L13) -> 0
A14: 9 | B14: ='1.1'!B14 -> 0 | C14: =('2.1'!C14+'2.2'!C14+'2.3'!C14)/3 -> 0 | D14: =('2.1'!D14+'2.2'!D14+'2.3'!D14)/3 -> 0 | E14: =('2.1'!E14+'2.2'!E14+'2.3'!E14)/3 -> 0 | F14: =('2.1'!F14+'2.2'!F14+'2.3'!F14)/3 -> 0 | G14: =('2.1'!G14+'2.2'!G14+'2.3'!G14)/3 -> 0 | H14: =('2.1'!H14+'2.2'!H14+'2.3'!H14)/3 -> 0 | I14: =('2.1'!I14+'2.2'!I14+'2.3'!I14)/3 -> 0 | J14: =('2.1'!J14+'2.2'!J14+'2.3'!J14)/3 -> 0 | ... M14: =('2.1'!M14+'2.2'!M14+'2.3'!M14)/3 -> 0 | N14: =AVERAGE(C14:L14) -> 0
A15: 10 | B15: ='1.1'!B15 -> 0 | C15: =('2.1'!C15+'2.2'!C15+'2.3'!C15)/3 -> 0 | D15: =('2.1'!D15+'2.2'!D15+'2.3'!D15)/3 -> 0 | E15: =('2.1'!E15+'2.2'!E15+'2.3'!E15)/3 -> 0 | F15: =('2.1'!F15+'2.2'!F15+'2.3'!F15)/3 -> 0 | G15: =('2.1'!G15+'2.2'!G15+'2.3'!G15)/3 -> 0 | H15: =('2.1'!H15+'2.2'!H15+'2.3'!H15)/3 -> 0 | I15: =('2.1'!I15+'2.2'!I15+'2.3'!I15)/3 -> 0 | J15: =('2.1'!J15+'2.2'!J15+'2.3'!J15)/3 -> 0 | ... M15: =('2.1'!M15+'2.2'!M15+'2.3'!M15)/3 -> 0 | N15: =AVERAGE(C15:L15) -> 0
A16: 11 | B16: ='1.1'!B16 -> 0 | C16: =('2.1'!C16+'2.2'!C16+'2.3'!C16)/3 -> 0 | D16: =('2.1'!D16+'2.2'!D16+'2.3'!D16)/3 -> 0 | E16: =('2.1'!E16+'2.2'!E16+'2.3'!E16)/3 -> 0 | F16: =('2.1'!F16+'2.2'!F16+'2.3'!F16)/3 -> 0 | G16: =('2.1'!G16+'2.2'!G16+'2.3'!G16)/3 -> 0 | H16: =('2.1'!H16+'2.2'!H16+'2.3'!H16)/3 -> 0 | I16: =('2.1'!I16+'2.2'!I16+'2.3'!I16)/3 -> 0 | J16: =('2.1'!J16+'2.2'!J16+'2.3'!J16)/3 -> 0 | ... M16: =('2.1'!M16+'2.2'!M16+'2.3'!M16)/3 -> 0 | N16: =AVERAGE(C16:L16) -> 0
A17: 12 | B17: ='1.1'!B17 -> 0 | C17: =('2.1'!C17+'2.2'!C17+'2.3'!C17)/3 -> 0 | D17: =('2.1'!D17+'2.2'!D17+'2.3'!D17)/3 -> 0 | E17: =('2.1'!E17+'2.2'!E17+'2.3'!E17)/3 -> 0 | F17: =('2.1'!F17+'2.2'!F17+'2.3'!F17)/3 -> 0 | G17: =('2.1'!G17+'2.2'!G17+'2.3'!G17)/3 -> 0 | H17: =('2.1'!H17+'2.2'!H17+'2.3'!H17)/3 -> 0 | I17: =('2.1'!I17+'2.2'!I17+'2.3'!I17)/3 -> 0 | J17: =('2.1'!J17+'2.2'!J17+'2.3'!J17)/3 -> 0 | ... M17: =('2.1'!M17+'2.2'!M17+'2.3'!M17)/3 -> 0 | N17: =AVERAGE(C17:L17) -> 0
... A28: 23 | B28: ='1.1'!B28 -> 0 | C28: =('2.1'!C28+'2.2'!C28+'2.3'!C28)/3 -> 0 | D28: =('2.1'!D28+'2.2'!D28+'2.3'!D28)/3 -> 0 | E28: =('2.1'!E28+'2.2'!E28+'2.3'!E28)/3 -> 0 | F28: =('2.1'!F28+'2.2'!F28+'2.3'!F28)/3 -> 0 | G28: =('2.1'!G28+'2.2'!G28+'2.3'!G28)/3 -> 0 | H28: =('2.1'!H28+'2.2'!H28+'2.3'!H28)/3 -> 0 | I28: =('2.1'!I28+'2.2'!I28+'2.3'!I28)/3 -> 0 | J28: =('2.1'!J28+'2.2'!J28+'2.3'!J28)/3 -> 0 | ... M28: =('2.1'!M28+'2.2'!M28+'2.3'!M28)/3 -> 0 | N28: =AVERAGE(C28:L28) -> 0

Sheet 3.1
A1: แบบประเมินคุณลักษณะอันพึงประสงค์
A2: ที่ | B2: ชื่อ - สกุล | C2: 3. มีวินัย | N2: รวม | O2: ผลการประเมิน
C3: 3.1 ปฏิบัติตนตามข้อตกลง กฎระเบียบของครอบครัว โรงเรียนและสังคม
C4: ภาษาไทย | D4: คณิตศาสตร์ | E4: วิทยาศาสตร์ | F4: สังคมศึกษา | G4: ประวัติศาสตร์ | H4: สุข / พละ | I4: ศิลปะ | J4: การงานอาชีพ | K4: ภาษาอังกฤษ | L4: หน้าที่พลเมือง | M4: การป้องกันการทุจริต | O4: ดีเยี่ยม | P4: ดี | Q4: ผ่านเกณฑ์
A5: ระดับคุณภาพ | C5: =ไทย!J7 -> 3 | D5: =คณิต!J7 -> 3 | E5: =วิทย์!J7 -> 3 | F5: =สังคม!J7 -> 3 | G5: =ประวัติ!J7 -> 3 | H5: =สุขพละ!J7 -> 3 | I5: =ศิลปะ!J7 -> 3 | J5: =การงาน!J7 -> 3 | K5: =ENG!J7 -> 3 | L5: =หน้าที่!J7 -> 3 | M5: =ต้าน!J7 -> 3 | N5: =AVERAGE(C5:L5) -> 3
A6: 1 | B6: ='1.1'!B6 -> บาส | C6: =ไทย!J8 -> 0 | D6: =คณิต!J8 -> 0 | E6: =วิทย์!J8 -> 0 | F6: =สังคม!J8 -> 0 | G6: =ประวัติ!J8 -> 0 | H6: =สุขพละ!J8 -> 0 | I6: =ศิลปะ!J8 -> 0 | J6: =การงาน!J8 -> 0 | K6: =ENG!J8 -> 0 | L6: =หน้าที่!J8 -> 0 | M6: =ต้าน!J8 -> 0 | N6: =AVERAGE(C6:L6) -> 0
A7: 2 | B7: ='1.1'!B7 -> 0 | C7: =ไทย!J9 -> 0 | D7: =คณิต!J9 -> 0 | E7: =วิทย์!J9 -> 0 | F7: =สังคม!J9 -> 0 | G7: =ประวัติ!J9 -> 0 | H7: =สุขพละ!J9 -> 0 | I7: =ศิลปะ!J9 -> 0 | J7: =การงาน!J9 -> 0 | K7: =ENG!J9 -> 0 | L7: =หน้าที่!J9 -> 0 | M7: =ต้าน!J9 -> 0 | N7: =AVERAGE(C7:L7) -> 0
A8: 3 | B8: ='1.1'!B8 -> 0 | C8: =ไทย!J10 -> 0 | D8: =คณิต!J10 -> 0 | E8: =วิทย์!J10 -> 0 | F8: =สังคม!J10 -> 0 | G8: =ประวัติ!J10 -> 0 | H8: =สุขพละ!J10 -> 0 | I8: =ศิลปะ!J10 -> 0 | J8: =การงาน!J10 -> 0 | K8: =ENG!J10 -> 0 | L8: =หน้าที่!J10 -> 0 | M8: =ต้าน!J10 -> 0 | N8: =AVERAGE(C8:L8) -> 0
A9: 4 | B9: ='1.1'!B9 -> 0 | C9: =ไทย!J11 -> 0 | D9: =คณิต!J11 -> 0 | E9: =วิทย์!J11 -> 0 | F9: =สังคม!J11 -> 0 | G9: =ประวัติ!J11 -> 0 | H9: =สุขพละ!J11 -> 0 | I9: =ศิลปะ!J11 -> 0 | J9: =การงาน!J11 -> 0 | K9: =ENG!J11 -> 0 | L9: =หน้าที่!J11 -> 0 | M9: =ต้าน!J11 -> 0 | N9: =AVERAGE(C9:L9) -> 0
A10: 5 | B10: ='1.1'!B10 -> 0 | C10: =ไทย!J12 -> 0 | D10: =คณิต!J12 -> 0 | E10: =วิทย์!J12 -> 0 | F10: =สังคม!J12 -> 0 | G10: =ประวัติ!J12 -> 0 | H10: =สุขพละ!J12 -> 0 | I10: =ศิลปะ!J12 -> 0 | J10: =การงาน!J12 -> 0 | K10: =ENG!J12 -> 0 | L10: =หน้าที่!J12 -> 0 | M10: =ต้าน!J12 -> 0 | N10: =AVERAGE(C10:L10) -> 0
A11: 6 | B11: ='1.1'!B11 -> 0 | C11: =ไทย!J13 -> 0 | D11: =คณิต!J13 -> 0 | E11: =วิทย์!J13 -> 0 | F11: =สังคม!J13 -> 0 | G11: =ประวัติ!J13 -> 0 | H11: =สุขพละ!J13 -> 0 | I11: =ศิลปะ!J13 -> 0 | J11: =การงาน!J13 -> 0 | K11: =ENG!J13 -> 0 | L11: =หน้าที่!J13 -> 0 | M11: =ต้าน!J13 -> 0 | N11: =AVERAGE(C11:L11) -> 0
A12: 7 | B12: ='1.1'!B12 -> 0 | C12: =ไทย!J14 -> 0 | D12: =คณิต!J14 -> 0 | E12: =วิทย์!J14 -> 0 | F12: =สังคม!J14 -> 0 | G12: =ประวัติ!J14 -> 0 | H12: =สุขพละ!J14 -> 0 | I12: =ศิลปะ!J14 -> 0 | J12: =การงาน!J14 -> 0 | K12: =ENG!J14 -> 0 | L12: =หน้าที่!J14 -> 0 | M12: =ต้าน!J14 -> 0 | N12: =AVERAGE(C12:L12) -> 0
A13: 8 | B13: ='1.1'!B13 -> 0 | C13: =ไทย!J15 -> 0 | D13: =คณิต!J15 -> 0 | E13: =วิทย์!J15 -> 0 | F13: =สังคม!J15 -> 0 | G13: =ประวัติ!J15 -> 0 | H13: =สุขพละ!J15 -> 0 | I13: =ศิลปะ!J15 -> 0 | J13: =การงาน!J15 -> 0 | K13: =ENG!J15 -> 0 | L13: =หน้าที่!J15 -> 0 | M13: =ต้าน!J15 -> 0 | N13: =AVERAGE(C13:L13) -> 0
A14: 9 | B14: ='1.1'!B14 -> 0 | C14: =ไทย!J16 -> 0 | D14: =คณิต!J16 -> 0 | E14: =วิทย์!J16 -> 0 | F14: =สังคม!J16 -> 0 | G14: =ประวัติ!J16 -> 0 | H14: =สุขพละ!J16 -> 0 | I14: =ศิลปะ!J16 -> 0 | J14: =การงาน!J16 -> 0 | K14: =ENG!J16 -> 0 | L14: =หน้าที่!J16 -> 0 | M14: =ต้าน!J16 -> 0 | N14: =AVERAGE(C14:L14) -> 0
A15: 10 | B15: ='1.1'!B15 -> 0 | C15: =ไทย!J17 -> 0 | D15: =คณิต!J17 -> 0 | E15: =วิทย์!J17 -> 0 | F15: =สังคม!J17 -> 0 | G15: =ประวัติ!J17 -> 0 | H15: =สุขพละ!J17 -> 0 | I15: =ศิลปะ!J17 -> 0 | J15: =การงาน!J17 -> 0 | K15: =ENG!J17 -> 0 | L15: =หน้าที่!J17 -> 0 | M15: =ต้าน!J17 -> 0 | N15: =AVERAGE(C15:L15) -> 0
A16: 11 | B16: ='1.1'!B16 -> 0 | C16: =ไทย!J18 -> 0 | D16: =คณิต!J18 -> 0 | E16: =วิทย์!J18 -> 0 | F16: =สังคม!J18 -> 0 | G16: =ประวัติ!J18 -> 0 | H16: =สุขพละ!J18 -> 0 | I16: =ศิลปะ!J18 -> 0 | J16: =การงาน!J18 -> 0 | K16: =ENG!J18 -> 0 | L16: =หน้าที่!J18 -> 0 | M16: =ต้าน!J18 -> 0 | N16: =AVERAGE(C16:L16) -> 0
A17: 12 | B17: ='1.1'!B17 -> 0 | C17: =ไทย!J19 -> 0 | D17: =คณิต!J19 -> 0 | E17: =วิทย์!J19 -> 0 | F17: =สังคม!J19 -> 0 | G17: =ประวัติ!J19 -> 0 | H17: =สุขพละ!J19 -> 0 | I17: =ศิลปะ!J19 -> 0 | J17: =การงาน!J19 -> 0 | K17: =ENG!J19 -> 0 | L17: =หน้าที่!J19 -> 0 | M17: =ต้าน!J19 -> 0 | N17: =AVERAGE(C17:L17) -> 0
... A28: 23 | B28: ='1.1'!B28 -> 0 | C28: =ไทย!J30 -> 0 | D28: =คณิต!J30 -> 0 | E28: =วิทย์!J30 -> 0 | F28: =สังคม!J30 -> 0 | G28: =ประวัติ!J30 -> 0 | H28: =สุขพละ!J30 -> 0 | I28: =ศิลปะ!J30 -> 0 | J28: =การงาน!J30 -> 0 | K28: =ENG!J30 -> 0 | L28: =หน้าที่!J30 -> 0 | M28: =ต้าน!J30 -> 0 | N28: =AVERAGE(C28:L28) -> 0

Sheet 3.2
A1: แบบประเมินคุณลักษณะอันพึงประสงค์
A2: ที่ | B2: ชื่อ - สกุล | C2: 3. มีวินัย | N2: รวม | O2: ผลการประเมิน
C3: 3.2 ตรงต่อเวลาและรับผิดชอบในการเรียน การปฏิบัติงาน
C4: ภาษาไทย | D4: คณิตศาสตร์ | E4: วิทยาศาสตร์ | F4: สังคมศึกษา | G4: ประวัติศาสตร์ | H4: สุข / พละ | I4: ศิลปะ | J4: การงานอาชีพ | K4: ภาษาอังกฤษ | L4: หน้าที่พลเมือง | M4: การป้องกันการทุจริต | O4: ดีเยี่ยม | P4: ดี | Q4: ผ่านเกณฑ์
A5: ระดับคุณภาพ | C5: =ไทย!K7 -> 3 | D5: =คณิต!K7 -> 3 | E5: =วิทย์!K7 -> 3 | F5: =สังคม!K7 -> 3 | G5: =ประวัติ!K7 -> 3 | H5: =สุขพละ!K7 -> 3 | I5: =ศิลปะ!K7 -> 3 | J5: =การงาน!K7 -> 3 | K5: =ENG!K7 -> 3 | L5: =หน้าที่!K7 -> 3 | M5: =ต้าน!K7 -> 3 | N5: =AVERAGE(C5:L5) -> 3
A6: 1 | B6: ='1.1'!B6 -> บาส | C6: =ไทย!K8 -> 0 | D6: =คณิต!K8 -> 0 | E6: =วิทย์!K8 -> 0 | F6: =สังคม!K8 -> 0 | G6: =ประวัติ!K8 -> 0 | H6: =สุขพละ!K8 -> 0 | I6: =ศิลปะ!K8 -> 0 | J6: =การงาน!K8 -> 0 | K6: =ENG!K8 -> 0 | L6: =หน้าที่!K8 -> 0 | M6: =ต้าน!K8 -> 0 | N6: =AVERAGE(C6:L6) -> 0
A7: 2 | B7: ='1.1'!B7 -> 0 | C7: =ไทย!K9 -> 0 | D7: =คณิต!K9 -> 0 | E7: =วิทย์!K9 -> 0 | F7: =สังคม!K9 -> 0 | G7: =ประวัติ!K9 -> 0 | H7: =สุขพละ!K9 -> 0 | I7: =ศิลปะ!K9 -> 0 | J7: =การงาน!K9 -> 0 | K7: =ENG!K9 -> 0 | L7: =หน้าที่!K9 -> 0 | M7: =ต้าน!K9 -> 0 | N7: =AVERAGE(C7:L7) -> 0
A8: 3 | B8: ='1.1'!B8 -> 0 | C8: =ไทย!K10 -> 0 | D8: =คณิต!K10 -> 0 | E8: =วิทย์!K10 -> 0 | F8: =สังคม!K10 -> 0 | G8: =ประวัติ!K10 -> 0 | H8: =สุขพละ!K10 -> 0 | I8: =ศิลปะ!K10 -> 0 | J8: =การงาน!K10 -> 0 | K8: =ENG!K10 -> 0 | L8: =หน้าที่!K10 -> 0 | M8: =ต้าน!K10 -> 0 | N8: =AVERAGE(C8:L8) -> 0
A9: 4 | B9: ='1.1'!B9 -> 0 | C9: =ไทย!K11 -> 0 | D9: =คณิต!K11 -> 0 | E9: =วิทย์!K11 -> 0 | F9: =สังคม!K11 -> 0 | G9: =ประวัติ!K11 -> 0 | H9: =สุขพละ!K11 -> 0 | I9: =ศิลปะ!K11 -> 0 | J9: =การงาน!K11 -> 0 | K9: =ENG!K11 -> 0 | L9: =หน้าที่!K11 -> 0 | M9: =ต้าน!K11 -> 0 | N9: =AVERAGE(C9:L9) -> 0
A10: 5 | B10: ='1.1'!B10 -> 0 | C10: =ไทย!K12 -> 0 | D10: =คณิต!K12 -> 0 | E10: =วิทย์!K12 -> 0 | F10: =สังคม!K12 -> 0 | G10: =ประวัติ!K12 -> 0 | H10: =สุขพละ!K12 -> 0 | I10: =ศิลปะ!K12 -> 0 | J10: =การงาน!K12 -> 0 | K10: =ENG!K12 -> 0 | L10: =หน้าที่!K12 -> 0 | M10: =ต้าน!K12 -> 0 | N10: =AVERAGE(C10:L10) -> 0
A11: 6 | B11: ='1.1'!B11 -> 0 | C11: =ไทย!K13 -> 0 | D11: =คณิต!K13 -> 0 | E11: =วิทย์!K13 -> 0 | F11: =สังคม!K13 -> 0 | G11: =ประวัติ!K13 -> 0 | H11: =สุขพละ!K13 -> 0 | I11: =ศิลปะ!K13 -> 0 | J11: =การงาน!K13 -> 0 | K11: =ENG!K13 -> 0 | L11: =หน้าที่!K13 -> 0 | M11: =ต้าน!K13 -> 0 | N11: =AVERAGE(C11:L11) -> 0
A12: 7 | B12: ='1.1'!B12 -> 0 | C12: =ไทย!K14 -> 0 | D12: =คณิต!K14 -> 0 | E12: =วิทย์!K14 -> 0 | F12: =สังคม!K14 -> 0 | G12: =ประวัติ!K14 -> 0 | H12: =สุขพละ!K14 -> 0 | I12: =ศิลปะ!K14 -> 0 | J12: =การงาน!K14 -> 0 | K12: =ENG!K14 -> 0 | L12: =หน้าที่!K14 -> 0 | M12: =ต้าน!K14 -> 0 | N12: =AVERAGE(C12:L12) -> 0
A13: 8 | B13: ='1.1'!B13 -> 0 | C13: =ไทย!K15 -> 0 | D13: =คณิต!K15 -> 0 | E13: =วิทย์!K15 -> 0 | F13: =สังคม!K15 -> 0 | G13: =ประวัติ!K15 -> 0 | H13: =สุขพละ!K15 -> 0 | I13: =ศิลปะ!K15 -> 0 | J13: =การงาน!K15 -> 0 | K13: =ENG!K15 -> 0 | L13: =หน้าที่!K15 -> 0 | M13: =ต้าน!K15 -> 0 | N13: =AVERAGE(C13:L13) -> 0
A14: 9 | B14: ='1.1'!B14 -> 0 | C14: =ไทย!K16 -> 0 | D14: =คณิต!K16 -> 0 | E14: =วิทย์!K16 -> 0 | F14: =สังคม!K16 -> 0 | G14: =ประวัติ!K16 -> 0 | H14: =สุขพละ!K16 -> 0 | I14: =ศิลปะ!K16 -> 0 | J14: =การงาน!K16 -> 0 | K14: =ENG!K16 -> 0 | L14: =หน้าที่!K16 -> 0 | M14: =ต้าน!K16 -> 0 | N14: =AVERAGE(C14:L14) -> 0
A15: 10 | B15: ='1.1'!B15 -> 0 | C15: =ไทย!K17 -> 0 | D15: =คณิต!K17 -> 0 | E15: =วิทย์!K17 -> 0 | F15: =สังคม!K17 -> 0 | G15: =ประวัติ!K17 -> 0 | H15: =สุขพละ!K17 -> 0 | I15: =ศิลปะ!K17 -> 0 | J15: =การงาน!K17 -> 0 | K15: =ENG!K17 -> 0 | L15: =หน้าที่!K17 -> 0 | M15: =ต้าน!K17 -> 0 | N15: =AVERAGE(C15:L15) -> 0
A16: 11 | B16: ='1.1'!B16 -> 0 | C16: =ไทย!K18 -> 0 | D16: =คณิต!K18 -> 0 | E16: =วิทย์!K18 -> 0 | F16: =สังคม!K18 -> 0 | G16: =ประวัติ!K18 -> 0 | H16: =สุขพละ!K18 -> 0 | I16: =ศิลปะ!K18 -> 0 | J16: =การงาน!K18 -> 0 | K16: =ENG!K18 -> 0 | L16: =หน้าที่!K18 -> 0 | M16: =ต้าน!K18 -> 0 | N16: =AVERAGE(C16:L16) -> 0
A17: 12 | B17: ='1.1'!B17 -> 0 | C17: =ไทย!K19 -> 0 | D17: =คณิต!K19 -> 0 | E17: =วิทย์!K19 -> 0 | F17: =สังคม!K19 -> 0 | G17: =ประวัติ!K19 -> 0 | H17: =สุขพละ!K19 -> 0 | I17: =ศิลปะ!K19 -> 0 | J17: =การงาน!K19 -> 0 | K17: =ENG!K19 -> 0 | L17: =หน้าที่!K19 -> 0 | M17: =ต้าน!K19 -> 0 | N17: =AVERAGE(C17:L17) -> 0
... A28: 23 | B28: ='1.1'!B28 -> 0 | C28: =ไทย!K30 -> 0 | D28: =คณิต!K30 -> 0 | E28: =วิทย์!K30 -> 0 | F28: =สังคม!K30 -> 0 | G28: =ประวัติ!K30 -> 0 | H28: =สุขพละ!K30 -> 0 | I28: =ศิลปะ!K30 -> 0 | J28: =การงาน!K30 -> 0 | K28: =ENG!K30 -> 0 | L28: =หน้าที่!K30 -> 0 | M28: =ต้าน!K30 -> 0 | N28: =AVERAGE(C28:L28) -> 0

Sheet 3.3
A1: แบบประเมินคุณลักษณะอันพึงประสงค์
A2: ที่ | B2: ชื่อ - สกุล | C2: 3. มีวินัย | N2: รวม | O2: ผลการประเมิน
C3: 3.3 ปฏิบัติตนในกิจวัตรประจำวันโดยไม่ละเมิดสิทธิผู้อื่น
C4: ภาษาไทย | D4: คณิตศาสตร์ | E4: วิทยาศาสตร์ | F4: สังคมศึกษา | G4: ประวัติศาสตร์ | H4: สุข / พละ | I4: ศิลปะ | J4: การงานอาชีพ | K4: ภาษาอังกฤษ | L4: หน้าที่พลเมือง | M4: การป้องกันการทุจริต | O4: ดีเยี่ยม | P4: ดี | Q4: ผ่านเกณฑ์
A5: ระดับคุณภาพ | C5: =ไทย!L7 -> 3 | D5: =คณิต!L7 -> 3 | E5: =วิทย์!L7 -> 3 | F5: =สังคม!L7 -> 3 | G5: =ประวัติ!L7 -> 3 | H5: =สุขพละ!L7 -> 3 | I5: =ศิลปะ!L7 -> 3 | J5: =การงาน!L7 -> 3 | K5: =ENG!L7 -> 3 | L5: =หน้าที่!L7 -> 3 | M5: =ต้าน!L7 -> 3 | N5: =AVERAGE(C5:L5) -> 3
A6: 1 | B6: ='1.1'!B6 -> บาส | C6: =ไทย!L8 -> 0 | D6: =คณิต!L8 -> 0 | E6: =วิทย์!L8 -> 0 | F6: =สังคม!L8 -> 0 | G6: =ประวัติ!L8 -> 0 | H6: =สุขพละ!L8 -> 0 | I6: =ศิลปะ!L8 -> 0 | J6: =การงาน!L8 -> 0 | K6: =ENG!L8 -> 0 | L6: =หน้าที่!L8 -> 0 | M6: =ต้าน!L8 -> 0 | N6: =AVERAGE(C6:L6) -> 0
A7: 2 | B7: ='1.1'!B7 -> 0 | C7: =ไทย!L9 -> 0 | D7: =คณิต!L9 -> 0 | E7: =วิทย์!L9 -> 0 | F7: =สังคม!L9 -> 0 | G7: =ประวัติ!L9 -> 0 | H7: =สุขพละ!L9 -> 0 | I7: =ศิลปะ!L9 -> 0 | J7: =การงาน!L9 -> 0 | K7: =ENG!L9 -> 0 | L7: =หน้าที่!L9 -> 0 | M7: =ต้าน!L9 -> 0 | N7: =AVERAGE(C7:L7) -> 0
A8: 3 | B8: ='1.1'!B8 -> 0 | C8: =ไทย!L10 -> 0 | D8: =คณิต!L10 -> 0 | E8: =วิทย์!L10 -> 0 | F8: =สังคม!L10 -> 0 | G8: =ประวัติ!L10 -> 0 | H8: =สุขพละ!L10 -> 0 | I8: =ศิลปะ!L10 -> 0 | J8: =การงาน!L10 -> 0 | K8: =ENG!L10 -> 0 | L8: =หน้าที่!L10 -> 0 | M8: =ต้าน!L10 -> 0 | N8: =AVERAGE(C8:L8) -> 0
A9: 4 | B9: ='1.1'!B9 -> 0 | C9: =ไทย!L11 -> 0 | D9: =คณิต!L11 -> 0 | E9: =วิทย์!L11 -> 0 | F9: =สังคม!L11 -> 0 | G9: =ประวัติ!L11 -> 0 | H9: =สุขพละ!L11 -> 0 | I9: =ศิลปะ!L11 -> 0 | J9: =การงาน!L11 -> 0 | K9: =ENG!L11 -> 0 | L9: =หน้าที่!L11 -> 0 | M9: =ต้าน!L11 -> 0 | N9: =AVERAGE(C9:L9) -> 0
A10: 5 | B10: ='1.1'!B10 -> 0 | C10: =ไทย!L12 -> 0 | D10: =คณิต!L12 -> 0 | E10: =วิทย์!L12 -> 0 | F10: =สังคม!L12 -> 0 | G10: =ประวัติ!L12 -> 0 | H10: =สุขพละ!L12 -> 0 | I10: =ศิลปะ!L12 -> 0 | J10: =การงาน!L12 -> 0 | K10: =ENG!L12 -> 0 | L10: =หน้าที่!L12 -> 0 | M10: =ต้าน!L12 -> 0 | N10: =AVERAGE(C10:L10) -> 0
A11: 6 | B11: ='1.1'!B11 -> 0 | C11: =ไทย!L13 -> 0 | D11: =คณิต!L13 -> 0 | E11: =วิทย์!L13 -> 0 | F11: =สังคม!L13 -> 0 | G11: =ประวัติ!L13 -> 0 | H11: =สุขพละ!L13 -> 0 | I11: =ศิลปะ!L13 -> 0 | J11: =การงาน!L13 -> 0 | K11: =ENG!L13 -> 0 | L11: =หน้าที่!L13 -> 0 | M11: =ต้าน!L13 -> 0 | N11: =AVERAGE(C11:L11) -> 0
A12: 7 | B12: ='1.1'!B12 -> 0 | C12: =ไทย!L14 -> 0 | D12: =คณิต!L14 -> 0 | E12: =วิทย์!L14 -> 0 | F12: =สังคม!L14 -> 0 | G12: =ประวัติ!L14 -> 0 | H12: =สุขพละ!L14 -> 0 | I12: =ศิลปะ!L14 -> 0 | J12: =การงาน!L14 -> 0 | K12: =ENG!L14 -> 0 | L12: =หน้าที่!L14 -> 0 | M12: =ต้าน!L14 -> 0 | N12: =AVERAGE(C12:L12) -> 0
A13: 8 | B13: ='1.1'!B13 -> 0 | C13: =ไทย!L15 -> 0 | D13: =คณิต!L15 -> 0 | E13: =วิทย์!L15 -> 0 | F13: =สังคม!L15 -> 0 | G13: =ประวัติ!L15 -> 0 | H13: =สุขพละ!L15 -> 0 | I13: =ศิลปะ!L15 -> 0 | J13: =การงาน!L15 -> 0 | K13: =ENG!L15 -> 0 | L13: =หน้าที่!L15 -> 0 | M13: =ต้าน!L15 -> 0 | N13: =AVERAGE(C13:L13) -> 0
A14: 9 | B14: ='1.1'!B14 -> 0 | C14: =ไทย!L16 -> 0 | D14: =คณิต!L16 -> 0 | E14: =วิทย์!L16 -> 0 | F14: =สังคม!L16 -> 0 | G14: =ประวัติ!L16 -> 0 | H14: =สุขพละ!L16 -> 0 | I14: =ศิลปะ!L16 -> 0 | J14: =การงาน!L16 -> 0 | K14: =ENG!L16 -> 0 | L14: =หน้าที่!L16 -> 0 | M14: =ต้าน!L16 -> 0 | N14: =AVERAGE(C14:L14) -> 0
A15: 10 | B15: ='1.1'!B15 -> 0 | C15: =ไทย!L17 -> 0 | D15: =คณิต!L17 -> 0 | E15: =วิทย์!L17 -> 0 | F15: =สังคม!L17 -> 0 | G15: =ประวัติ!L17 -> 0 | H15: =สุขพละ!L17 -> 0 | I15: =ศิลปะ!L17 -> 0 | J15: =การงาน!L17 -> 0 | K15: =ENG!L17 -> 0 | L15: =หน้าที่!L17 -> 0 | M15: =ต้าน!L17 -> 0 | N15: =AVERAGE(C15:L15) -> 0
A16: 11 | B16: ='1.1'!B16 -> 0 | C16: =ไทย!L18 -> 0 | D16: =คณิต!L18 -> 0 | E16: =วิทย์!L18 -> 0 | F16: =สังคม!L18 -> 0 | G16: =ประวัติ!L18 -> 0 | H16: =สุขพละ!L18 -> 0 | I16: =ศิลปะ!L18 -> 0 | J16: =การงาน!L18 -> 0 | K16: =ENG!L18 -> 0 | L16: =หน้าที่!L18 -> 0 | M16: =ต้าน!L18 -> 0 | N16: =AVERAGE(C16:L16) -> 0
A17: 12 | B17: ='1.1'!B17 -> 0 | C17: =ไทย!L19 -> 0 | D17: =คณิต!L19 -> 0 | E17: =วิทย์!L19 -> 0 | F17: =สังคม!L19 -> 0 | G17: =ประวัติ!L19 -> 0 | H17: =สุขพละ!L19 -> 0 | I17: =ศิลปะ!L19 -> 0 | J17: =การงาน!L19 -> 0 | K17: =ENG!L19 -> 0 | L17: =หน้าที่!L19 -> 0 | M17: =ต้าน!L19 -> 0 | N17: =AVERAGE(C17:L17) -> 0
... A28: 23 | B28: ='1.1'!B28 -> 0 | C28: =ไทย!L30 -> 0 | D28: =คณิต!L30 -> 0 | E28: =วิทย์!L30 -> 0 | F28: =สังคม!L30 -> 0 | G28: =ประวัติ!L30 -> 0 | H28: =สุขพละ!L30 -> 0 | I28: =ศิลปะ!L30 -> 0 | J28: =การงาน!L30 -> 0 | K28: =ENG!L30 -> 0 | L28: =หน้าที่!L30 -> 0 | M28: =ต้าน!L30 -> 0 | N28: =AVERAGE(C28:L28) -> 0

Sheet สรุป 3
A1: แบบประเมินคุณลักษณะอันพึงประสงค์
A2: ที่ | B2: ชื่อ - สกุล | C2: 3. มีวินัย | N2: รวม | O2: ผลการประเมิน
C4: ภาษาไทย | D4: คณิตศาสตร์ | E4: วิทยาศาสตร์ | F4: สังคมศึกษา | G4: ประวัติศาสตร์ | H4: สุข / พละ | I4: ศิลปะ | J4: การงานอาชีพ | K4: ภาษาอังกฤษ | L4: หน้าที่พลเมือง | M4: การป้องกันการทุจริต | O4: ดีเยี่ยม | P4: ดี | Q4: ผ่านเกณฑ์
A5: ระดับคุณภาพ | C5: =('3.1'!C5+'3.2'!C5+'3.3'!C5)/3 -> 3 | D5: =('3.1'!D5+'3.2'!D5+'3.3'!D5)/3 -> 3 | E5: =('3.1'!E5+'3.2'!E5+'3.3'!E5)/3 -> 3 | F5: =('3.1'!F5+'3.2'!F5+'3.3'!F5)/3 -> 3 | G5: =('3.1'!G5+'3.2'!G5+'3.3'!G5)/3 -> 3 | H5: =('3.1'!H5+'3.2'!H5+'3.3'!H5)/3 -> 3 | I5: =('3.1'!I5+'3.2'!I5+'3.3'!I5)/3 -> 3 | J5: =('3.1'!J5+'3.2'!J5+'3.3'!J5)/3 -> 3 | ... M5: =('3.1'!M5+'3.2'!M5+'3.3'!M5)/3 -> 3 | N5: =AVERAGE(C5:L5) -> 3
A6: 1 | B6: ='1.1'!B6 -> บาส | C6: =('3.1'!C6+'3.2'!C6+'3.3'!C6)/3 -> 0 | D6: =('3.1'!D6+'3.2'!D6+'3.3'!D6)/3 -> 0 | E6: =('3.1'!E6+'3.2'!E6+'3.3'!E6)/3 -> 0 | F6: =('3.1'!F6+'3.2'!F6+'3.3'!F6)/3 -> 0 | G6: =('3.1'!G6+'3.2'!G6+'3.3'!G6)/3 -> 0 | H6: =('3.1'!H6+'3.2'!H6+'3.3'!H6)/3 -> 0 | I6: =('3.1'!I6+'3.2'!I6+'3.3'!I6)/3 -> 0 | J6: =('3.1'!J6+'3.2'!J6+'3.3'!J6)/3 -> 0 | ... M6: =('3.1'!M6+'3.2'!M6+'3.3'!M6)/3 -> 0 | N6: =AVERAGE(C6:L6) -> 0
A7: 2 | B7: ='1.1'!B7 -> 0 | C7: =('3.1'!C7+'3.2'!C7+'3.3'!C7)/3 -> 0 | D7: =('3.1'!D7+'3.2'!D7+'3.3'!D7)/3 -> 0 | E7: =('3.1'!E7+'3.2'!E7+'3.3'!E7)/3 -> 0 | F7: =('3.1'!F7+'3.2'!F7+'3.3'!F7)/3 -> 0 | G7: =('3.1'!G7+'3.2'!G7+'3.3'!G7)/3 -> 0 | H7: =('3.1'!H7+'3.2'!H7+'3.3'!H7)/3 -> 0 | I7: =('3.1'!I7+'3.2'!I7+'3.3'!I7)/3 -> 0 | J7: =('3.1'!J7+'3.2'!J7+'3.3'!J7)/3 -> 0 | ... M7: =('3.1'!M7+'3.2'!M7+'3.3'!M7)/3 -> 0 | N7: =AVERAGE(C7:L7) -> 0
A8: 3 | B8: ='1.1'!B8 -> 0 | C8: =('3.1'!C8+'3.2'!C8+'3.3'!C8)/3 -> 0 | D8: =('3.1'!D8+'3.2'!D8+'3.3'!D8)/3 -> 0 | E8: =('3.1'!E8+'3.2'!E8+'3.3'!E8)/3 -> 0 | F8: =('3.1'!F8+'3.2'!F8+'3.3'!F8)/3 -> 0 | G8: =('3.1'!G8+'3.2'!G8+'3.3'!G8)/3 -> 0 | H8: =('3.1'!H8+'3.2'!H8+'3.3'!H8)/3 -> 0 | I8: =('3.1'!I8+'3.2'!I8+'3.3'!I8)/3 -> 0 | J8: =('3.1'!J8+'3.2'!J8+'3.3'!J8)/3 -> 0 | ... M8: =('3.1'!M8+'3.2'!M8+'3.3'!M8)/3 -> 0 | N8: =AVERAGE(C8:L8) -> 0
A9: 4 | B9: ='1.1'!B9 -> 0 | C9: =('3.1'!C9+'3.2'!C9+'3.3'!C9)/3 -> 0 | D9: =('3.1'!D9+'3.2'!D9+'3.3'!D9)/3 -> 0 | E9: =('3.1'!E9+'3.2'!E9+'3.3'!E9)/3 -> 0 | F9: =('3.1'!F9+'3.2'!F9+'3.3'!F9)/3 -> 0 | G9: =('3.1'!G9+'3.2'!G9+'3.3'!G9)/3 -> 0 | H9: =('3.1'!H9+'3.2'!H9+'3.3'!H9)/3 -> 0 | I9: =('3.1'!I9+'3.2'!I9+'3.3'!I9)/3 -> 0 | J9: =('3.1'!J9+'3.2'!J9+'3.3'!J9)/3 -> 0 | ... M9: =('3.1'!M9+'3.2'!M9+'3.3'!M9)/3 -> 0 | N9: =AVERAGE(C9:L9) -> 0
